BEGIN:VCALENDAR
VERSION:2.0
PRODID:-//Sekcja Bowlingu - Rybnik - ECPv6.8.0//NONSGML v1.0//EN
CALSCALE:GREGORIAN
METHOD:PUBLISH
X-WR-CALNAME:Sekcja Bowlingu - Rybnik
X-ORIGINAL-URL:http://www.bowling.rybnik.pl
X-WR-CALDESC:Events for Sekcja Bowlingu - Rybnik
REFRESH-INTERVAL;VALUE=DURATION:PT1H
X-Robots-Tag:noindex
X-PUBLISHED-TTL:PT1H
BEGIN:VTIMEZONE
TZID:Europe/Warsaw
BEGIN:DAYLIGHT
TZOFFSETFROM:+0100
TZOFFSETTO:+0200
TZNAME:CEST
DTSTART:20170326T010000
END:DAYLIGHT
BEGIN:STANDARD
TZOFFSETFROM:+0200
TZOFFSETTO:+0100
TZNAME:CET
DTSTART:20171029T010000
END:STANDARD
END:VTIMEZONE
BEGIN:VEVENT
DTSTART;TZID=Europe/Warsaw:20171116T164500
DTEND;TZID=Europe/Warsaw:20171116T164500
DTSTAMP:20260421T171756
CREATED:20170904T105348Z
LAST-MODIFIED:20170904T105348Z
UID:6871-1510850700-1510850700@www.bowling.rybnik.pl
SUMMARY:D-CzLB – CHACHARNIA
DESCRIPTION:
URL:http://www.bowling.rybnik.pl/turnieje/d-czlb-chacharnia-2/
LOCATION:ChaCharnia – Czechowice Dziedzice\, Ul.Legionów 83\, Czechowice-Dziedzice\, śląskie\, Polska
ATTACH;FMTTYPE=image/png:http://www.bowling.rybnik.pl/wp-content/uploads/2017/09/D-CzLB-jesień-2017-logo.png
END:VEVENT
BEGIN:VEVENT
DTSTART;TZID=Europe/Warsaw:20171113T164500
DTEND;TZID=Europe/Warsaw:20171113T164500
DTSTAMP:20260421T171756
CREATED:20170904T111105Z
LAST-MODIFIED:20170904T111105Z
UID:6886-1510591500-1510591500@www.bowling.rybnik.pl
SUMMARY:RyBoL – PINK
DESCRIPTION:
URL:http://www.bowling.rybnik.pl/turnieje/rybol-pink-7/
LOCATION:PINK – Rybnik\, Raciborska 16\, Rybnik\, śląskie\, 44-200\, Polska
ATTACH;FMTTYPE=image/png:http://www.bowling.rybnik.pl/wp-content/uploads/2017/08/RyBoL-logo.png
END:VEVENT
BEGIN:VEVENT
DTSTART;TZID=Europe/Warsaw:20171108T080000
DTEND;TZID=Europe/Warsaw:20171110T170000
DTSTAMP:20260421T171756
CREATED:20171003T174731Z
LAST-MODIFIED:20171003T181803Z
UID:6947-1510128000-1510333200@www.bowling.rybnik.pl
SUMMARY:IX Mistrzostwa Polski Energetyków
DESCRIPTION:
URL:http://www.bowling.rybnik.pl/turnieje/ix-mistrzostwa-polski-energetykow/
LOCATION:MOSiR Łaziska\, ul. Ogrodowa 50\, Łaziska Górne\, Polska
ATTACH;FMTTYPE=image/png:http://www.bowling.rybnik.pl/wp-content/uploads/2017/10/ELEKTRO-logo.png
END:VEVENT
BEGIN:VEVENT
DTSTART;TZID=Europe/Warsaw:20171107T180000
DTEND;TZID=Europe/Warsaw:20171107T220000
DTSTAMP:20260421T171756
CREATED:20170824T175750Z
LAST-MODIFIED:20170827T075738Z
UID:6814-1510077600-1510092000@www.bowling.rybnik.pl
SUMMARY:ABL 2liga – SKY Ostrawa
DESCRIPTION:
URL:http://www.bowling.rybnik.pl/turnieje/abl-2liga-sky-ostrawa/
LOCATION:SKY Ostrawa\, Rušná 1717/4\, Ostrava-Poruba\, 708 00\, Czech Republic
ATTACH;FMTTYPE=image/png:http://www.bowling.rybnik.pl/wp-content/uploads/2017/08/18-ABL-logo.png
END:VEVENT
BEGIN:VEVENT
DTSTART;TZID=Europe/Warsaw:20171106T164500
DTEND;TZID=Europe/Warsaw:20171106T164500
DTSTAMP:20260421T171756
CREATED:20170904T110257Z
LAST-MODIFIED:20170904T110337Z
UID:6884-1509986700-1509986700@www.bowling.rybnik.pl
SUMMARY:RyBoL – PINK
DESCRIPTION:
URL:http://www.bowling.rybnik.pl/turnieje/rybol-pink-6/
LOCATION:PINK – Rybnik\, Raciborska 16\, Rybnik\, śląskie\, 44-200\, Polska
ATTACH;FMTTYPE=image/png:http://www.bowling.rybnik.pl/wp-content/uploads/2017/08/RyBoL-logo.png
END:VEVENT
BEGIN:VEVENT
DTSTART;TZID=Europe/Warsaw:20171031T180000
DTEND;TZID=Europe/Warsaw:20171031T180000
DTSTAMP:20260421T171756
CREATED:20170827T063408Z
LAST-MODIFIED:20171026T122204Z
UID:6836-1509472800-1509472800@www.bowling.rybnik.pl
SUMMARY:ABL 1liga – JADRAN Frydek Mistek
DESCRIPTION:
URL:http://www.bowling.rybnik.pl/turnieje/abl-1liga-jadran-frydek-mistek/
LOCATION:JADRAN – Frydek Mistek\, 1. Máje 155\,\, Frýdek-Místek\, Czech Republic
ATTACH;FMTTYPE=image/png:http://www.bowling.rybnik.pl/wp-content/uploads/2017/08/18-ABL-logo.png
END:VEVENT
BEGIN:VEVENT
DTSTART;TZID=Europe/Warsaw:20171030T171500
DTEND;TZID=Europe/Warsaw:20171030T171500
DTSTAMP:20260421T171756
CREATED:20170827T073322Z
LAST-MODIFIED:20171026T122406Z
UID:6848-1509383700-1509383700@www.bowling.rybnik.pl
SUMMARY:RyBoL - MOSiR Łaziska
DESCRIPTION:
URL:http://www.bowling.rybnik.pl/turnieje/rybol-pink-5/
LOCATION:MOSiR Łaziska\, ul. Ogrodowa 50\, Łaziska Górne\, Polska
ATTACH;FMTTYPE=image/png:http://www.bowling.rybnik.pl/wp-content/uploads/2017/08/RyBoL-logo.png
END:VEVENT
BEGIN:VEVENT
DTSTART;TZID=Europe/Warsaw:20171026T164500
DTEND;TZID=Europe/Warsaw:20171026T194500
DTSTAMP:20260421T171756
CREATED:20170827T073906Z
LAST-MODIFIED:20171026T121826Z
UID:6852-1509036300-1509047100@www.bowling.rybnik.pl
SUMMARY:CzLB – CHACHARNIA
DESCRIPTION:
URL:http://www.bowling.rybnik.pl/turnieje/czlb-chacharnia-2/
LOCATION:ChaCharnia – Czechowice Dziedzice\, Ul.Legionów 83\, Czechowice-Dziedzice\, śląskie\, Polska
ATTACH;FMTTYPE=image/png:http://www.bowling.rybnik.pl/wp-content/uploads/2017/04/Logo-na-białyn-tle-CzLB.png
END:VEVENT
BEGIN:VEVENT
DTSTART;TZID=Europe/Warsaw:20171025T164500
DTEND;TZID=Europe/Warsaw:20171025T164500
DTSTAMP:20260421T171756
CREATED:20170904T135700Z
LAST-MODIFIED:20170904T135700Z
UID:6901-1508949900-1508949900@www.bowling.rybnik.pl
SUMMARY:ABL 3liga – Trzyniec
DESCRIPTION:
URL:http://www.bowling.rybnik.pl/turnieje/abl-3liga-trzyniec-2/
LOCATION:Gaja centrum – Trzyniec\, Lidická 1269\, Třinec\, 739 61\, Czech Republic
ATTACH;FMTTYPE=image/png:http://www.bowling.rybnik.pl/wp-content/uploads/2017/08/18-ABL-logo.png
END:VEVENT
BEGIN:VEVENT
DTSTART;TZID=Europe/Warsaw:20171024T150000
DTEND;TZID=Europe/Warsaw:20171026T210000
DTSTAMP:20260421T171756
CREATED:20171013T202127Z
LAST-MODIFIED:20171013T202127Z
UID:6961-1508857200-1509051600@www.bowling.rybnik.pl
SUMMARY:PBT 8 Myszków
DESCRIPTION:
URL:http://www.bowling.rybnik.pl/turnieje/pbt-8-myszkow/
LOCATION:śląskie
ATTACH;FMTTYPE=image/png:http://www.bowling.rybnik.pl/wp-content/uploads/2017/10/PBT-logo.png
END:VEVENT
BEGIN:VEVENT
DTSTART;TZID=Europe/Warsaw:20171023T164500
DTEND;TZID=Europe/Warsaw:20171023T210000
DTSTAMP:20260421T171756
CREATED:20170827T073147Z
LAST-MODIFIED:20170827T074322Z
UID:6846-1508777100-1508792400@www.bowling.rybnik.pl
SUMMARY:RyBoL – PINK
DESCRIPTION:
URL:http://www.bowling.rybnik.pl/turnieje/rybol-pink-4/
LOCATION:PINK – Rybnik\, Raciborska 16\, Rybnik\, śląskie\, 44-200\, Polska
ATTACH;FMTTYPE=image/png:http://www.bowling.rybnik.pl/wp-content/uploads/2017/08/RyBoL-logo.png
END:VEVENT
BEGIN:VEVENT
DTSTART;TZID=Europe/Warsaw:20171019T164500
DTEND;TZID=Europe/Warsaw:20171019T164500
DTSTAMP:20260421T171756
CREATED:20170904T103132Z
LAST-MODIFIED:20170904T104431Z
UID:6865-1508431500-1508431500@www.bowling.rybnik.pl
SUMMARY:D-CzLB – CHACHARNIA
DESCRIPTION:
URL:http://www.bowling.rybnik.pl/turnieje/d-czlb-chacharnia/
LOCATION:ChaCharnia – Czechowice Dziedzice\, Ul.Legionów 83\, Czechowice-Dziedzice\, śląskie\, Polska
ATTACH;FMTTYPE=image/png:http://www.bowling.rybnik.pl/wp-content/uploads/2017/09/D-CzLB-jesień-2017-logo.png
END:VEVENT
BEGIN:VEVENT
DTSTART;TZID=Europe/Warsaw:20171017T180000
DTEND;TZID=Europe/Warsaw:20171017T220000
DTSTAMP:20260421T171756
CREATED:20170827T063226Z
LAST-MODIFIED:20170827T063226Z
UID:6834-1508263200-1508277600@www.bowling.rybnik.pl
SUMMARY:ABL 1liga – SKY Ostrawa
DESCRIPTION:
URL:http://www.bowling.rybnik.pl/turnieje/abl-1liga-sky-ostrawa-2/
LOCATION:SKY Ostrawa\, Rušná 1717/4\, Ostrava-Poruba\, 708 00\, Czech Republic
ATTACH;FMTTYPE=image/png:http://www.bowling.rybnik.pl/wp-content/uploads/2017/08/18-ABL-logo.png
END:VEVENT
BEGIN:VEVENT
DTSTART;TZID=Europe/Warsaw:20171016T164500
DTEND;TZID=Europe/Warsaw:20171016T210000
DTSTAMP:20260421T171756
CREATED:20170827T073019Z
LAST-MODIFIED:20170827T074535Z
UID:6844-1508172300-1508187600@www.bowling.rybnik.pl
SUMMARY:RyBoL – PINK
DESCRIPTION:
URL:http://www.bowling.rybnik.pl/turnieje/rybol-pink-3/
LOCATION:PINK – Rybnik\, Raciborska 16\, Rybnik\, śląskie\, 44-200\, Polska
ATTACH;FMTTYPE=image/png:http://www.bowling.rybnik.pl/wp-content/uploads/2017/08/RyBoL-logo.png
END:VEVENT
BEGIN:VEVENT
DTSTART;TZID=Europe/Warsaw:20171012T164500
DTEND;TZID=Europe/Warsaw:20171012T220000
DTSTAMP:20260421T171756
CREATED:20170827T073546Z
LAST-MODIFIED:20170827T073732Z
UID:6850-1507826700-1507845600@www.bowling.rybnik.pl
SUMMARY:CzLB – CHACHARNIA
DESCRIPTION:
URL:http://www.bowling.rybnik.pl/turnieje/czlb-chacharnia/
LOCATION:ChaCharnia – Czechowice Dziedzice\, Ul.Legionów 83\, Czechowice-Dziedzice\, śląskie\, Polska
ATTACH;FMTTYPE=image/png:http://www.bowling.rybnik.pl/wp-content/uploads/2017/04/Logo-na-białyn-tle-CzLB.png
END:VEVENT
BEGIN:VEVENT
DTSTART;TZID=Europe/Warsaw:20171010T180000
DTEND;TZID=Europe/Warsaw:20171010T220000
DTSTAMP:20260421T171756
CREATED:20170824T131226Z
LAST-MODIFIED:20170827T062735Z
UID:6807-1507658400-1507672800@www.bowling.rybnik.pl
SUMMARY:ABL 2liga - JADRAN Frydek Mistek
DESCRIPTION:
URL:http://www.bowling.rybnik.pl/turnieje/abl-2-liga-sky-ostrawa/
LOCATION:JADRAN – Frydek Mistek\, 1. Máje 155\,\, Frýdek-Místek\, Czech Republic
ATTACH;FMTTYPE=image/png:http://www.bowling.rybnik.pl/wp-content/uploads/2017/08/18-ABL-logo.png
END:VEVENT
BEGIN:VEVENT
DTSTART;TZID=Europe/Warsaw:20171009T164500
DTEND;TZID=Europe/Warsaw:20171009T210000
DTSTAMP:20260421T171756
CREATED:20170827T072833Z
LAST-MODIFIED:20170827T074644Z
UID:6842-1507567500-1507582800@www.bowling.rybnik.pl
SUMMARY:RyBoL – PINK
DESCRIPTION:
URL:http://www.bowling.rybnik.pl/turnieje/rybol-pink-2/
LOCATION:PINK – Rybnik\, Raciborska 16\, Rybnik\, śląskie\, 44-200\, Polska
ATTACH;FMTTYPE=image/png:http://www.bowling.rybnik.pl/wp-content/uploads/2017/08/RyBoL-logo.png
END:VEVENT
BEGIN:VEVENT
DTSTART;TZID=Europe/Warsaw:20171009T164500
DTEND;TZID=Europe/Warsaw:20171009T164500
DTSTAMP:20260421T171756
CREATED:20170904T135524Z
LAST-MODIFIED:20170904T135524Z
UID:6899-1507567500-1507567500@www.bowling.rybnik.pl
SUMMARY:ABL 3liga – Trzyniec
DESCRIPTION:
URL:http://www.bowling.rybnik.pl/turnieje/abl-3liga-trzyniec/
LOCATION:Gaja centrum – Trzyniec\, Lidická 1269\, Třinec\, 739 61\, Czech Republic
ATTACH;FMTTYPE=image/png:http://www.bowling.rybnik.pl/wp-content/uploads/2017/08/18-ABL-logo.png
END:VEVENT
BEGIN:VEVENT
DTSTART;TZID=Europe/Warsaw:20171005T164500
DTEND;TZID=Europe/Warsaw:20171005T184500
DTSTAMP:20260421T171756
CREATED:20170904T104934Z
LAST-MODIFIED:20170908T070204Z
UID:6869-1507221900-1507229100@www.bowling.rybnik.pl
SUMMARY:CzLB – CHACHARNIA
DESCRIPTION:
URL:http://www.bowling.rybnik.pl/turnieje/czlb-chacharnia-4/
LOCATION:ChaCharnia – Czechowice Dziedzice\, Ul.Legionów 83\, Czechowice-Dziedzice\, śląskie\, Polska
ATTACH;FMTTYPE=image/png:http://www.bowling.rybnik.pl/wp-content/uploads/2017/04/Logo-na-białyn-tle-CzLB.png
END:VEVENT
BEGIN:VEVENT
DTSTART;TZID=Europe/Warsaw:20171003T180000
DTEND;TZID=Europe/Warsaw:20171003T220000
DTSTAMP:20260421T171756
CREATED:20170827T062626Z
LAST-MODIFIED:20170827T062949Z
UID:6828-1507053600-1507068000@www.bowling.rybnik.pl
SUMMARY:ABL 1liga – JADRAN Frydek Mistek
DESCRIPTION:
URL:http://www.bowling.rybnik.pl/turnieje/abl-2liga-jadran-frydek-mistek/
LOCATION:JADRAN – Frydek Mistek\, 1. Máje 155\,\, Frýdek-Místek\, Czech Republic
ATTACH;FMTTYPE=image/png:http://www.bowling.rybnik.pl/wp-content/uploads/2017/08/18-ABL-logo.png
END:VEVENT
BEGIN:VEVENT
DTSTART;TZID=Europe/Warsaw:20171002T164500
DTEND;TZID=Europe/Warsaw:20171002T210000
DTSTAMP:20260421T171756
CREATED:20170827T072702Z
LAST-MODIFIED:20170827T074735Z
UID:6840-1506962700-1506978000@www.bowling.rybnik.pl
SUMMARY:RyBoL – PINK
DESCRIPTION:
URL:http://www.bowling.rybnik.pl/turnieje/rybol-pink/
LOCATION:PINK – Rybnik\, Raciborska 16\, Rybnik\, śląskie\, 44-200\, Polska
ATTACH;FMTTYPE=image/png:http://www.bowling.rybnik.pl/wp-content/uploads/2017/08/RyBoL-logo.png
END:VEVENT
BEGIN:VEVENT
DTSTART;TZID=Europe/Warsaw:20170928T164500
DTEND;TZID=Europe/Warsaw:20170928T210000
DTSTAMP:20260421T171756
CREATED:20170424T125625Z
LAST-MODIFIED:20170904T104539Z
UID:6626-1506617100-1506632400@www.bowling.rybnik.pl
SUMMARY:D-CzLB - CHACHARNIA
DESCRIPTION:
URL:http://www.bowling.rybnik.pl/turnieje/czlb-11/
LOCATION:ChaCharnia – Czechowice Dziedzice\, Ul.Legionów 83\, Czechowice-Dziedzice\, śląskie\, Polska
ATTACH;FMTTYPE=image/png:http://www.bowling.rybnik.pl/wp-content/uploads/2017/09/D-CzLB-jesień-2017-logo.png
END:VEVENT
BEGIN:VEVENT
DTSTART;TZID=Europe/Warsaw:20170926T180000
DTEND;TZID=Europe/Warsaw:20170926T220000
DTSTAMP:20260421T171756
CREATED:20170827T062435Z
LAST-MODIFIED:20170827T062435Z
UID:6826-1506448800-1506463200@www.bowling.rybnik.pl
SUMMARY:ABL 1liga – SKY Ostrawa
DESCRIPTION:
URL:http://www.bowling.rybnik.pl/turnieje/abl-1liga-sky-ostrawa/
LOCATION:SKY Ostrawa\, Rušná 1717/4\, Ostrava-Poruba\, 708 00\, Czech Republic
ATTACH;FMTTYPE=image/png:http://www.bowling.rybnik.pl/wp-content/uploads/2017/08/18-ABL-logo.png
END:VEVENT
BEGIN:VEVENT
DTSTART;TZID=Europe/Warsaw:20170925T164500
DTEND;TZID=Europe/Warsaw:20170925T164500
DTSTAMP:20260421T171756
CREATED:20170424T130824Z
LAST-MODIFIED:20170707T063050Z
UID:6652-1506357900-1506357900@www.bowling.rybnik.pl
SUMMARY:RyBoL - PINK
DESCRIPTION:„Rybnicka Bowlingowa Liga” RYBNIK godz. 16.45
URL:http://www.bowling.rybnik.pl/turnieje/rybol-68/
LOCATION:PINK – Rybnik\, Raciborska 16\, Rybnik\, śląskie\, 44-200\, Polska
ATTACH;FMTTYPE=image/png:http://www.bowling.rybnik.pl/wp-content/uploads/2015/10/Zdjęcie-sekcji.png
END:VEVENT
BEGIN:VEVENT
DTSTART;TZID=Europe/Warsaw:20170921T164500
DTEND;TZID=Europe/Warsaw:20170921T194500
DTSTAMP:20260421T171756
CREATED:20170424T125533Z
LAST-MODIFIED:20170906T191327Z
UID:6624-1506012300-1506023100@www.bowling.rybnik.pl
SUMMARY:CzLB - CHACHARNIA
DESCRIPTION:„Czechowicka Liga Bowlingowa” CZECHOWICE-DZIEDZICE godz. 16.45 i 19.45 (turniej hdkp-owy)
URL:http://www.bowling.rybnik.pl/turnieje/czlb-10/
LOCATION:ChaCharnia – Czechowice Dziedzice\, Ul.Legionów 83\, Czechowice-Dziedzice\, śląskie\, Polska
ATTACH;FMTTYPE=image/png:http://www.bowling.rybnik.pl/wp-content/uploads/2017/04/Logo-na-białyn-tle-CzLB.png
END:VEVENT
BEGIN:VEVENT
DTSTART;TZID=Europe/Warsaw:20170919T180000
DTEND;TZID=Europe/Warsaw:20170919T180000
DTSTAMP:20260421T171756
CREATED:20170824T130059Z
LAST-MODIFIED:20170904T111830Z
UID:6801-1505844000-1505844000@www.bowling.rybnik.pl
SUMMARY:ABL 2liga - SKY Ostrawa
DESCRIPTION:
URL:http://www.bowling.rybnik.pl/turnieje/abl-2-liga-ostrawa/
LOCATION:SKY Ostrawa\, Rušná 1717/4\, Ostrava-Poruba\, 708 00\, Czech Republic
ATTACH;FMTTYPE=image/png:http://www.bowling.rybnik.pl/wp-content/uploads/2017/08/18-ABL-logo.png
END:VEVENT
BEGIN:VEVENT
DTSTART;TZID=Europe/Warsaw:20170918T164500
DTEND;TZID=Europe/Warsaw:20170918T164500
DTSTAMP:20260421T171756
CREATED:20170424T130737Z
LAST-MODIFIED:20170707T063029Z
UID:6650-1505753100-1505753100@www.bowling.rybnik.pl
SUMMARY:RyBoL - PINK
DESCRIPTION:„Rybnicka Bowlingowa Liga” RYBNIK godz. 16.45
URL:http://www.bowling.rybnik.pl/turnieje/rybol-67/
LOCATION:PINK – Rybnik\, Raciborska 16\, Rybnik\, śląskie\, 44-200\, Polska
ATTACH;FMTTYPE=image/png:http://www.bowling.rybnik.pl/wp-content/uploads/2015/10/Zdjęcie-sekcji.png
END:VEVENT
BEGIN:VEVENT
DTSTART;TZID=Europe/Warsaw:20170911T164500
DTEND;TZID=Europe/Warsaw:20170911T164500
DTSTAMP:20260421T171756
CREATED:20170424T130649Z
LAST-MODIFIED:20170707T062948Z
UID:6648-1505148300-1505148300@www.bowling.rybnik.pl
SUMMARY:RyBoL - PINK
DESCRIPTION:„Rybnicka Bowlingowa Liga” RYBNIK godz. 16.45
URL:http://www.bowling.rybnik.pl/turnieje/rybol-14/
LOCATION:PINK – Rybnik\, Raciborska 16\, Rybnik\, śląskie\, 44-200\, Polska
ATTACH;FMTTYPE=image/png:http://www.bowling.rybnik.pl/wp-content/uploads/2015/10/Zdjęcie-sekcji.png
END:VEVENT
BEGIN:VEVENT
DTSTART;TZID=Europe/Warsaw:20170907T164500
DTEND;TZID=Europe/Warsaw:20170907T194500
DTSTAMP:20260421T171756
CREATED:20170904T061246Z
LAST-MODIFIED:20170904T111747Z
UID:6860-1504802700-1504813500@www.bowling.rybnik.pl
SUMMARY:CzLB - CHACHARNIA
DESCRIPTION:
URL:http://www.bowling.rybnik.pl/turnieje/czlb-chacharnia-3/
LOCATION:ChaCharnia – Czechowice Dziedzice\, Ul.Legionów 83\, Czechowice-Dziedzice\, śląskie\, Polska
ATTACH;FMTTYPE=image/png:http://www.bowling.rybnik.pl/wp-content/uploads/2017/04/Logo-na-białyn-tle-CzLB.png
END:VEVENT
BEGIN:VEVENT
DTSTART;TZID=Europe/Warsaw:20170904T164500
DTEND;TZID=Europe/Warsaw:20170904T164500
DTSTAMP:20260421T171756
CREATED:20170424T130600Z
LAST-MODIFIED:20170707T062924Z
UID:6646-1504543500-1504543500@www.bowling.rybnik.pl
SUMMARY:RyBoL - PINK
DESCRIPTION:„Rybnicka Bowlingowa Liga” RYBNIK godz. 16.45
URL:http://www.bowling.rybnik.pl/turnieje/rybol-13/
LOCATION:PINK – Rybnik\, Raciborska 16\, Rybnik\, śląskie\, 44-200\, Polska
ATTACH;FMTTYPE=image/png:http://www.bowling.rybnik.pl/wp-content/uploads/2015/10/Zdjęcie-sekcji.png
END:VEVENT
END:VCALENDAR