BEGIN:VCALENDAR
VERSION:2.0
PRODID:-//Sekcja Bowlingu - Rybnik - ECPv6.8.0//NONSGML v1.0//EN
CALSCALE:GREGORIAN
METHOD:PUBLISH
X-WR-CALNAME:Sekcja Bowlingu - Rybnik
X-ORIGINAL-URL:http://www.bowling.rybnik.pl
X-WR-CALDESC:Events for Sekcja Bowlingu - Rybnik
REFRESH-INTERVAL;VALUE=DURATION:PT1H
X-Robots-Tag:noindex
X-PUBLISHED-TTL:PT1H
BEGIN:VTIMEZONE
TZID:Europe/Warsaw
BEGIN:DAYLIGHT
TZOFFSETFROM:+0100
TZOFFSETTO:+0200
TZNAME:CEST
DTSTART:20170326T010000
END:DAYLIGHT
BEGIN:STANDARD
TZOFFSETFROM:+0200
TZOFFSETTO:+0100
TZNAME:CET
DTSTART:20171029T010000
END:STANDARD
END:VTIMEZONE
BEGIN:VEVENT
DTSTART;TZID=Europe/Warsaw:20170901T080000
DTEND;TZID=Europe/Warsaw:20170902T170000
DTSTAMP:20260421T184742
CREATED:20170728T210225Z
LAST-MODIFIED:20170728T211030Z
UID:6767-1504252800-1504371600@www.bowling.rybnik.pl
SUMMARY:IMP Kolejarzy - MK Bowling Koszalin
DESCRIPTION:
URL:http://www.bowling.rybnik.pl/turnieje/indywidualne-mistrzostwa-polski-kolejarzy-w-koszalinie/
LOCATION:MK Bowling Koszalin\, ul. Okrzei 6\, Koszalin\, Polska
END:VEVENT
BEGIN:VEVENT
DTSTART;TZID=Europe/Warsaw:20170831T174500
DTEND;TZID=Europe/Warsaw:20170831T174500
DTSTAMP:20260421T184742
CREATED:20170424T125430Z
LAST-MODIFIED:20170707T062859Z
UID:6622-1504201500-1504201500@www.bowling.rybnik.pl
SUMMARY:CzLB - CHACHARNIA
DESCRIPTION:„Czechowicka Liga Bowlingowa” CZECHOWICE-DZIEDZICE godz. 17.45
URL:http://www.bowling.rybnik.pl/turnieje/czlb-9/
LOCATION:ChaCharnia – Czechowice Dziedzice\, Ul.Legionów 83\, Czechowice-Dziedzice\, śląskie\, Polska
ATTACH;FMTTYPE=image/png:http://www.bowling.rybnik.pl/wp-content/uploads/2015/10/Zdjęcie-w-nowych-koszulkach.png
END:VEVENT
BEGIN:VEVENT
DTSTART;TZID=Europe/Warsaw:20170828T171500
DTEND;TZID=Europe/Warsaw:20170828T171500
DTSTAMP:20260421T184742
CREATED:20170424T130505Z
LAST-MODIFIED:20170707T132558Z
UID:6644-1503940500-1503940500@www.bowling.rybnik.pl
SUMMARY:RyBoL - CHACHARNIA
DESCRIPTION:„Rybnicka Bowlingowa Liga” CZECHOWICE-DZIEDZICE godz. 17:15
URL:http://www.bowling.rybnik.pl/turnieje/rybol-12/
LOCATION:ChaCharnia – Czechowice Dziedzice\, Ul.Legionów 83\, Czechowice-Dziedzice\, śląskie\, Polska
ATTACH;FMTTYPE=image/png:http://www.bowling.rybnik.pl/wp-content/uploads/2015/10/Zdjęcie-sekcji.png
END:VEVENT
BEGIN:VEVENT
DTSTART;TZID=Europe/Warsaw:20170821T164500
DTEND;TZID=Europe/Warsaw:20170821T164500
DTSTAMP:20260421T184742
CREATED:20170424T130413Z
LAST-MODIFIED:20170707T062801Z
UID:6642-1503333900-1503333900@www.bowling.rybnik.pl
SUMMARY:RyBoL - PINK
DESCRIPTION:„Rybnicka Bowlingowa Liga” RYBNIK godz. 16.45
URL:http://www.bowling.rybnik.pl/turnieje/rybol-11/
LOCATION:PINK – Rybnik\, Raciborska 16\, Rybnik\, śląskie\, 44-200\, Polska
ATTACH;FMTTYPE=image/png:http://www.bowling.rybnik.pl/wp-content/uploads/2015/10/Zdjęcie-sekcji.png
END:VEVENT
BEGIN:VEVENT
DTSTART;TZID=Europe/Warsaw:20170814T164500
DTEND;TZID=Europe/Warsaw:20170814T164500
DTSTAMP:20260421T184742
CREATED:20170424T130327Z
LAST-MODIFIED:20170707T062736Z
UID:6640-1502729100-1502729100@www.bowling.rybnik.pl
SUMMARY:RyBoL - PINK
DESCRIPTION:„Rybnicka Bowlingowa Liga” RYBNIK godz. 16.45
URL:http://www.bowling.rybnik.pl/turnieje/rybol-9/
LOCATION:PINK – Rybnik\, Raciborska 16\, Rybnik\, śląskie\, 44-200\, Polska
ATTACH;FMTTYPE=image/png:http://www.bowling.rybnik.pl/wp-content/uploads/2015/10/Zdjęcie-sekcji.png
END:VEVENT
BEGIN:VEVENT
DTSTART;TZID=Europe/Warsaw:20170808T163000
DTEND;TZID=Europe/Warsaw:20170810T220000
DTSTAMP:20260421T184742
CREATED:20170728T144320Z
LAST-MODIFIED:20170728T205901Z
UID:6753-1502209800-1502402400@www.bowling.rybnik.pl
SUMMARY:Poland Bowling Tour - MOSiR ŁAZISKA
DESCRIPTION:
URL:http://www.bowling.rybnik.pl/turnieje/pbt-laziska/
LOCATION:MOSiR Łaziska\, ul. Ogrodowa 50\, Łaziska Górne\, Polska
ATTACH;FMTTYPE=image/jpeg:http://www.bowling.rybnik.pl/wp-content/uploads/2017/07/FB_plakat_6Laziska.jpg
END:VEVENT
BEGIN:VEVENT
DTSTART;TZID=Europe/Warsaw:20170807T164500
DTEND;TZID=Europe/Warsaw:20170807T164500
DTSTAMP:20260421T184742
CREATED:20170424T130233Z
LAST-MODIFIED:20170707T062611Z
UID:6638-1502124300-1502124300@www.bowling.rybnik.pl
SUMMARY:RyBoL - PINK
DESCRIPTION:„Rybnicka Bowlingowa Liga” RYBNIK godz. 16.45
URL:http://www.bowling.rybnik.pl/turnieje/rybol-8/
LOCATION:PINK – Rybnik\, Raciborska 16\, Rybnik\, śląskie\, 44-200\, Polska
ATTACH;FMTTYPE=image/png:http://www.bowling.rybnik.pl/wp-content/uploads/2015/10/Zdjęcie-sekcji.png
END:VEVENT
BEGIN:VEVENT
DTSTART;TZID=Europe/Warsaw:20170803T174500
DTEND;TZID=Europe/Warsaw:20170803T174500
DTSTAMP:20260421T184742
CREATED:20170424T125321Z
LAST-MODIFIED:20170728T144132Z
UID:6620-1501782300-1501782300@www.bowling.rybnik.pl
SUMMARY:CzLB - CHACHARNIA
DESCRIPTION:„Czechowicka Liga Bowlingowa” CZECHOWICE-DZIEDZICE godz. 17.45
URL:http://www.bowling.rybnik.pl/turnieje/czlb-8/
LOCATION:ChaCharnia – Czechowice Dziedzice\, Ul.Legionów 83\, Czechowice-Dziedzice\, śląskie\, Polska
ATTACH;FMTTYPE=image/png:http://www.bowling.rybnik.pl/wp-content/uploads/2015/10/Zdjęcie-w-nowych-koszulkach.png
END:VEVENT
BEGIN:VEVENT
DTSTART;TZID=Europe/Warsaw:20170731T171500
DTEND;TZID=Europe/Warsaw:20170731T171500
DTSTAMP:20260421T184742
CREATED:20170424T130140Z
LAST-MODIFIED:20170707T132923Z
UID:6636-1501521300-1501521300@www.bowling.rybnik.pl
SUMMARY:RyBoL - CHACHARNIA
DESCRIPTION:„Rybnicka Bowlingowa Liga” CZECHOWICE-DZIEDZICE godz. 17:15
URL:http://www.bowling.rybnik.pl/turnieje/rybol-7/
LOCATION:ChaCharnia – Czechowice Dziedzice\, Ul.Legionów 83\, Czechowice-Dziedzice\, śląskie\, Polska
ATTACH;FMTTYPE=image/png:http://www.bowling.rybnik.pl/wp-content/uploads/2015/10/Zdjęcie-sekcji.png
END:VEVENT
BEGIN:VEVENT
DTSTART;TZID=Europe/Warsaw:20170727T174500
DTEND;TZID=Europe/Warsaw:20170727T174500
DTSTAMP:20260421T184742
CREATED:20170424T125206Z
LAST-MODIFIED:20170707T062442Z
UID:6618-1501177500-1501177500@www.bowling.rybnik.pl
SUMMARY:CzLB - CHACHARNIA
DESCRIPTION:„Czechowicka Liga Bowlingowa” CZECHOWICE-DZIEDZICE godz. 17.45
URL:http://www.bowling.rybnik.pl/turnieje/czlb-2/
LOCATION:ChaCharnia – Czechowice Dziedzice\, Ul.Legionów 83\, Czechowice-Dziedzice\, śląskie\, Polska
ATTACH;FMTTYPE=image/png:http://www.bowling.rybnik.pl/wp-content/uploads/2015/10/Zdjęcie-w-nowych-koszulkach.png
END:VEVENT
BEGIN:VEVENT
DTSTART;TZID=Europe/Warsaw:20170724T164500
DTEND;TZID=Europe/Warsaw:20170724T164500
DTSTAMP:20260421T184742
CREATED:20170424T130042Z
LAST-MODIFIED:20170707T062414Z
UID:6634-1500914700-1500914700@www.bowling.rybnik.pl
SUMMARY:RyBoL - PINK
DESCRIPTION:„Rybnicka Bowlingowa Liga” RYBNIK godz. 16.45
URL:http://www.bowling.rybnik.pl/turnieje/rybol-6/
LOCATION:PINK – Rybnik\, Raciborska 16\, Rybnik\, śląskie\, 44-200\, Polska
ATTACH;FMTTYPE=image/png:http://www.bowling.rybnik.pl/wp-content/uploads/2015/10/Zdjęcie-sekcji.png
END:VEVENT
BEGIN:VEVENT
DTSTART;TZID=Europe/Warsaw:20170717T164500
DTEND;TZID=Europe/Warsaw:20170717T164500
DTSTAMP:20260421T184742
CREATED:20170424T125938Z
LAST-MODIFIED:20170707T061917Z
UID:6632-1500309900-1500309900@www.bowling.rybnik.pl
SUMMARY:RyBoL - PINK
DESCRIPTION:„Rybnicka Bowlingowa Liga” RYBNIK godz. 16.45
URL:http://www.bowling.rybnik.pl/turnieje/rybol-5/
LOCATION:PINK – Rybnik\, Raciborska 16\, Rybnik\, śląskie\, 44-200\, Polska
ATTACH;FMTTYPE=image/png:http://www.bowling.rybnik.pl/wp-content/uploads/2015/10/Zdjęcie-sekcji.png
END:VEVENT
BEGIN:VEVENT
DTSTART;TZID=Europe/Warsaw:20170710T171500
DTEND;TZID=Europe/Warsaw:20170710T171500
DTSTAMP:20260421T184742
CREATED:20170424T125847Z
LAST-MODIFIED:20170707T061422Z
UID:6630-1499706900-1499706900@www.bowling.rybnik.pl
SUMMARY:RyBoL - CHACHARNIA
DESCRIPTION:„Rybnicka Bowlingowa Liga” Czechowice-Dziedzice CHACHARNIA godz. 17.15
URL:http://www.bowling.rybnik.pl/turnieje/rybol-4/
LOCATION:ChaCharnia – Czechowice Dziedzice\, Ul.Legionów 83\, Czechowice-Dziedzice\, śląskie\, Polska
ATTACH;FMTTYPE=image/png:http://www.bowling.rybnik.pl/wp-content/uploads/2015/10/Zdjęcie-sekcji.png
END:VEVENT
BEGIN:VEVENT
DTSTART;VALUE=DATE:20170706
DTEND;VALUE=DATE:20170707
DTSTAMP:20260421T184742
CREATED:20170424T125110Z
LAST-MODIFIED:20170424T125110Z
UID:6615-1499299200-1499385599@www.bowling.rybnik.pl
SUMMARY:CzLB
DESCRIPTION:„Czechowicka Liga Bowlingowa” CZECHOWICE-DZIEDZICE godz. 17.45
URL:http://www.bowling.rybnik.pl/turnieje/czlb/
LOCATION:ChaCharnia – Czechowice Dziedzice\, Ul.Legionów 83\, Czechowice-Dziedzice\, śląskie\, Polska
ATTACH;FMTTYPE=image/png:http://www.bowling.rybnik.pl/wp-content/uploads/2015/10/Zdjęcie-w-nowych-koszulkach.png
END:VEVENT
BEGIN:VEVENT
DTSTART;VALUE=DATE:20170703
DTEND;VALUE=DATE:20170704
DTSTAMP:20260421T184742
CREATED:20170424T125745Z
LAST-MODIFIED:20170424T125745Z
UID:6628-1499040000-1499126399@www.bowling.rybnik.pl
SUMMARY:RyBoL
DESCRIPTION:„Rybnicka Bowlingowa Liga” RYBNIK godz. 16.45
URL:http://www.bowling.rybnik.pl/turnieje/rybol-3/
LOCATION:PINK – Rybnik\, Raciborska 16\, Rybnik\, śląskie\, 44-200\, Polska
ATTACH;FMTTYPE=image/png:http://www.bowling.rybnik.pl/wp-content/uploads/2015/10/Zdjęcie-sekcji.png
END:VEVENT
BEGIN:VEVENT
DTSTART;VALUE=DATE:20170629
DTEND;VALUE=DATE:20170630
DTSTAMP:20260421T184742
CREATED:20170424T122443Z
LAST-MODIFIED:20170424T122443Z
UID:6611-1498694400-1498780799@www.bowling.rybnik.pl
SUMMARY:D-CzLB
DESCRIPTION:„Drużynowa Czechowicka Liga Bowlingowa” CZECHOWICE-DZIEDZICE godz. 17.45
URL:http://www.bowling.rybnik.pl/turnieje/d-czlb-3/
LOCATION:ChaCharnia – Czechowice Dziedzice\, Ul.Legionów 83\, Czechowice-Dziedzice\, śląskie\, Polska
ATTACH;FMTTYPE=image/png:http://www.bowling.rybnik.pl/wp-content/uploads/2017/04/Logo-na-białyn-tle-CzLB.png
END:VEVENT
BEGIN:VEVENT
DTSTART;VALUE=DATE:20170626
DTEND;VALUE=DATE:20170627
DTSTAMP:20260421T184742
CREATED:20170303T070308Z
LAST-MODIFIED:20170303T070308Z
UID:6494-1498435200-1498521599@www.bowling.rybnik.pl
SUMMARY:RyBoL
DESCRIPTION:„Rybnicka Bowlingowa Liga” RYBNIK godz. 16.45
URL:http://www.bowling.rybnik.pl/turnieje/rybol-66/
LOCATION:PINK – Rybnik\, Raciborska 16\, Rybnik\, śląskie\, 44-200\, Polska
ATTACH;FMTTYPE=image/png:http://www.bowling.rybnik.pl/wp-content/uploads/2015/10/Zdjęcie-sekcji.png
END:VEVENT
BEGIN:VEVENT
DTSTART;VALUE=DATE:20170622
DTEND;VALUE=DATE:20170623
DTSTAMP:20260421T184742
CREATED:20170130T225617Z
LAST-MODIFIED:20170130T225617Z
UID:6242-1498089600-1498175999@www.bowling.rybnik.pl
SUMMARY:CzLB
DESCRIPTION:„Czechowicka Liga Bowlingowa” CZECHOWICE-DZIEDZICE godz. 17.45
URL:http://www.bowling.rybnik.pl/turnieje/czlb-32/
LOCATION:ChaCharnia – Czechowice Dziedzice\, Ul.Legionów 83\, Czechowice-Dziedzice\, śląskie\, Polska
ATTACH;FMTTYPE=image/png:http://www.bowling.rybnik.pl/wp-content/uploads/2015/10/Zdjęcie-w-nowych-koszulkach.png
END:VEVENT
BEGIN:VEVENT
DTSTART;VALUE=DATE:20170619
DTEND;VALUE=DATE:20170620
DTSTAMP:20260421T184742
CREATED:20170303T070217Z
LAST-MODIFIED:20170303T070217Z
UID:6492-1497830400-1497916799@www.bowling.rybnik.pl
SUMMARY:RyBoL
DESCRIPTION:„Rybnicka Bowlingowa Liga” RYBNIK godz. 16.45
URL:http://www.bowling.rybnik.pl/turnieje/rybol-65/
LOCATION:PINK – Rybnik\, Raciborska 16\, Rybnik\, śląskie\, 44-200\, Polska
ATTACH;FMTTYPE=image/png:http://www.bowling.rybnik.pl/wp-content/uploads/2015/10/Zdjęcie-sekcji.png
END:VEVENT
BEGIN:VEVENT
DTSTART;VALUE=DATE:20170615
DTEND;VALUE=DATE:20170616
DTSTAMP:20260421T184742
CREATED:20170424T122625Z
LAST-MODIFIED:20170424T122625Z
UID:6613-1497484800-1497571199@www.bowling.rybnik.pl
SUMMARY:Boże Ciało
DESCRIPTION:
URL:http://www.bowling.rybnik.pl/turnieje/boze-cialo/
END:VEVENT
BEGIN:VEVENT
DTSTART;VALUE=DATE:20170612
DTEND;VALUE=DATE:20170613
DTSTAMP:20260421T184742
CREATED:20170303T070127Z
LAST-MODIFIED:20170303T070127Z
UID:6490-1497225600-1497311999@www.bowling.rybnik.pl
SUMMARY:RyBoL
DESCRIPTION:„Rybnicka Bowlingowa Liga” RYBNIK godz. 16.45
URL:http://www.bowling.rybnik.pl/turnieje/rybol-64/
LOCATION:PINK – Rybnik\, Raciborska 16\, Rybnik\, śląskie\, 44-200\, Polska
ATTACH;FMTTYPE=image/png:http://www.bowling.rybnik.pl/wp-content/uploads/2015/10/Zdjęcie-sekcji.png
END:VEVENT
BEGIN:VEVENT
DTSTART;VALUE=DATE:20170610
DTEND;VALUE=DATE:20170611
DTSTAMP:20260421T184742
CREATED:20170602T094011Z
LAST-MODIFIED:20170602T094416Z
UID:6687-1497052800-1497139199@www.bowling.rybnik.pl
SUMMARY:BOWLINGOWE OGNISKO
DESCRIPTION:Jurek Szlezinger zaprasza na ognisko w Międzybrodziu Bialskim 10 czerwca (sobota) w godz. 11.00-23.00
URL:http://www.bowling.rybnik.pl/turnieje/bowlingowe-ognisko/
ATTACH;FMTTYPE=image/png:http://www.bowling.rybnik.pl/wp-content/uploads/2016/05/ognisko.png
END:VEVENT
BEGIN:VEVENT
DTSTART;VALUE=DATE:20170608
DTEND;VALUE=DATE:20170609
DTSTAMP:20260421T184742
CREATED:20170130T225457Z
LAST-MODIFIED:20170130T225457Z
UID:6240-1496880000-1496966399@www.bowling.rybnik.pl
SUMMARY:CzLB
DESCRIPTION:„Czechowicka Liga Bowlingowa” CZECHOWICE-DZIEDZICE godz. 17.45
URL:http://www.bowling.rybnik.pl/turnieje/czlb-31/
LOCATION:ChaCharnia – Czechowice Dziedzice\, Ul.Legionów 83\, Czechowice-Dziedzice\, śląskie\, Polska
ATTACH;FMTTYPE=image/png:http://www.bowling.rybnik.pl/wp-content/uploads/2015/10/Zdjęcie-w-nowych-koszulkach.png
END:VEVENT
BEGIN:VEVENT
DTSTART;VALUE=DATE:20170605
DTEND;VALUE=DATE:20170606
DTSTAMP:20260421T184742
CREATED:20170303T070045Z
LAST-MODIFIED:20170531T180337Z
UID:6488-1496620800-1496707199@www.bowling.rybnik.pl
SUMMARY:RyBoL
DESCRIPTION:„Rybnicka Bowlingowa Liga” CZECHOWICE-DZIEDZICE godz. 17.15
URL:http://www.bowling.rybnik.pl/turnieje/rybol-63/
LOCATION:ChaCharnia – Czechowice Dziedzice\, Ul.Legionów 83\, Czechowice-Dziedzice\, śląskie\, Polska
ATTACH;FMTTYPE=image/png:http://www.bowling.rybnik.pl/wp-content/uploads/2015/10/Zdjęcie-sekcji.png
END:VEVENT
BEGIN:VEVENT
DTSTART;VALUE=DATE:20170601
DTEND;VALUE=DATE:20170602
DTSTAMP:20260421T184742
CREATED:20170424T122356Z
LAST-MODIFIED:20170531T180615Z
UID:6609-1496275200-1496361599@www.bowling.rybnik.pl
SUMMARY:D-CzLB
DESCRIPTION:„Drużynowa Czechowicka Liga Bowlingowa” CZECHOWICE-DZIEDZICE godz. 17.15
URL:http://www.bowling.rybnik.pl/turnieje/d-czlb-2/
LOCATION:ChaCharnia – Czechowice Dziedzice\, Ul.Legionów 83\, Czechowice-Dziedzice\, śląskie\, Polska
ATTACH;FMTTYPE=image/png:http://www.bowling.rybnik.pl/wp-content/uploads/2017/04/Logo-na-białyn-tle-CzLB.png
END:VEVENT
BEGIN:VEVENT
DTSTART;VALUE=DATE:20170529
DTEND;VALUE=DATE:20170530
DTSTAMP:20260421T184742
CREATED:20170303T065916Z
LAST-MODIFIED:20170303T065916Z
UID:6486-1496016000-1496102399@www.bowling.rybnik.pl
SUMMARY:RyBoL
DESCRIPTION:„Rybnicka Bowlingowa Liga” RYBNIK godz. 16.45
URL:http://www.bowling.rybnik.pl/turnieje/rybol-62/
LOCATION:PINK – Rybnik\, Raciborska 16\, Rybnik\, śląskie\, 44-200\, Polska
ATTACH;FMTTYPE=image/png:http://www.bowling.rybnik.pl/wp-content/uploads/2015/10/Zdjęcie-sekcji.png
END:VEVENT
BEGIN:VEVENT
DTSTART;VALUE=DATE:20170525
DTEND;VALUE=DATE:20170526
DTSTAMP:20260421T184742
CREATED:20170130T225315Z
LAST-MODIFIED:20170130T225315Z
UID:6238-1495670400-1495756799@www.bowling.rybnik.pl
SUMMARY:CzLB
DESCRIPTION:„Czechowicka Liga Bowlingowa” CZECHOWICE-DZIEDZICE godz. 17.45
URL:http://www.bowling.rybnik.pl/turnieje/czlb-30/
LOCATION:ChaCharnia – Czechowice Dziedzice\, Ul.Legionów 83\, Czechowice-Dziedzice\, śląskie\, Polska
ATTACH;FMTTYPE=image/png:http://www.bowling.rybnik.pl/wp-content/uploads/2015/10/Zdjęcie-w-nowych-koszulkach.png
END:VEVENT
BEGIN:VEVENT
DTSTART;VALUE=DATE:20170522
DTEND;VALUE=DATE:20170523
DTSTAMP:20260421T184742
CREATED:20170303T065819Z
LAST-MODIFIED:20170303T065819Z
UID:6484-1495411200-1495497599@www.bowling.rybnik.pl
SUMMARY:RyBoL
DESCRIPTION:„Rybnicka Bowlingowa Liga” RYBNIK godz. 16.45
URL:http://www.bowling.rybnik.pl/turnieje/rybol-61/
LOCATION:PINK – Rybnik\, Raciborska 16\, Rybnik\, śląskie\, 44-200\, Polska
ATTACH;FMTTYPE=image/png:http://www.bowling.rybnik.pl/wp-content/uploads/2015/10/Zdjęcie-sekcji.png
END:VEVENT
BEGIN:VEVENT
DTSTART;VALUE=DATE:20170518
DTEND;VALUE=DATE:20170519
DTSTAMP:20260421T184742
CREATED:20170113T100052Z
LAST-MODIFIED:20170113T100052Z
UID:6207-1495065600-1495151999@www.bowling.rybnik.pl
SUMMARY:ABL 4liga
DESCRIPTION:ABL 4 liga TRZYNIEC godz. 16.45
URL:http://www.bowling.rybnik.pl/turnieje/abl-4liga-6/
LOCATION:Gaja centrum – Trzyniec\, Lidická 1269\, Třinec\, 739 61\, Czech Republic
ATTACH;FMTTYPE=image/png:http://www.bowling.rybnik.pl/wp-content/uploads/2016/11/ABL-logo.png
END:VEVENT
BEGIN:VEVENT
DTSTART;VALUE=DATE:20170515
DTEND;VALUE=DATE:20170516
DTSTAMP:20260421T184742
CREATED:20170303T065725Z
LAST-MODIFIED:20170303T065725Z
UID:6482-1494806400-1494892799@www.bowling.rybnik.pl
SUMMARY:RyBoL
DESCRIPTION:„Rybnicka Bowlingowa Liga” RYBNIK godz. 16.45
URL:http://www.bowling.rybnik.pl/turnieje/rybol-60/
LOCATION:PINK – Rybnik\, Raciborska 16\, Rybnik\, śląskie\, 44-200\, Polska
ATTACH;FMTTYPE=image/png:http://www.bowling.rybnik.pl/wp-content/uploads/2015/10/Zdjęcie-sekcji.png
END:VEVENT
END:VCALENDAR