BEGIN:VCALENDAR
VERSION:2.0
PRODID:-//Sekcja Bowlingu - Rybnik - ECPv6.8.0//NONSGML v1.0//EN
CALSCALE:GREGORIAN
METHOD:PUBLISH
X-WR-CALNAME:Sekcja Bowlingu - Rybnik
X-ORIGINAL-URL:http://www.bowling.rybnik.pl
X-WR-CALDESC:Events for Sekcja Bowlingu - Rybnik
REFRESH-INTERVAL;VALUE=DURATION:PT1H
X-Robots-Tag:noindex
X-PUBLISHED-TTL:PT1H
BEGIN:VTIMEZONE
TZID:Europe/Warsaw
BEGIN:DAYLIGHT
TZOFFSETFROM:+0100
TZOFFSETTO:+0200
TZNAME:CEST
DTSTART:20180325T010000
END:DAYLIGHT
BEGIN:STANDARD
TZOFFSETFROM:+0200
TZOFFSETTO:+0100
TZNAME:CET
DTSTART:20181028T010000
END:STANDARD
BEGIN:DAYLIGHT
TZOFFSETFROM:+0100
TZOFFSETTO:+0200
TZNAME:CEST
DTSTART:20190331T010000
END:DAYLIGHT
BEGIN:STANDARD
TZOFFSETFROM:+0200
TZOFFSETTO:+0100
TZNAME:CET
DTSTART:20191027T010000
END:STANDARD
END:VTIMEZONE
BEGIN:VEVENT
DTSTART;TZID=Europe/Warsaw:20190128T171500
DTEND;TZID=Europe/Warsaw:20190128T171500
DTSTAMP:20260420T173246
CREATED:20181227T125016Z
LAST-MODIFIED:20181227T125016Z
UID:9298-1548695700-1548695700@www.bowling.rybnik.pl
SUMMARY:RyBoL – ŁAZISKA
DESCRIPTION:
URL:http://www.bowling.rybnik.pl/turnieje/rybol-laziska-2/
LOCATION:MOSiR Łaziska\, ul. Ogrodowa 50\, Łaziska Górne\, Polska
ATTACH;FMTTYPE=image/png:http://www.bowling.rybnik.pl/wp-content/uploads/2018/12/RyBoL-nowe-logo.png
END:VEVENT
BEGIN:VEVENT
DTSTART;TZID=Europe/Warsaw:20190124T163000
DTEND;TZID=Europe/Warsaw:20190124T163000
DTSTAMP:20260420T173246
CREATED:20180922T121303Z
LAST-MODIFIED:20180922T121303Z
UID:9197-1548347400-1548347400@www.bowling.rybnik.pl
SUMMARY:D-CzLB - CHACHARNIA
DESCRIPTION:
URL:http://www.bowling.rybnik.pl/turnieje/d-czlb-chacharnia-14/
LOCATION:ChaCharnia – Czechowice Dziedzice\, Ul.Legionów 83\, Czechowice-Dziedzice\, śląskie\, Polska
ATTACH;FMTTYPE=image/png:http://www.bowling.rybnik.pl/wp-content/uploads/2018/09/JESIEŃ-2018-logo.png
END:VEVENT
BEGIN:VEVENT
DTSTART;TZID=Europe/Warsaw:20190121T164500
DTEND;TZID=Europe/Warsaw:20190121T164500
DTSTAMP:20260420T173246
CREATED:20181227T124613Z
LAST-MODIFIED:20181227T124613Z
UID:9294-1548089100-1548089100@www.bowling.rybnik.pl
SUMMARY:RyBoL – PINK
DESCRIPTION:
URL:http://www.bowling.rybnik.pl/turnieje/rybol-pink-61/
LOCATION:PINK – Rybnik\, Raciborska 16\, Rybnik\, śląskie\, 44-200\, Polska
ATTACH;FMTTYPE=image/png:http://www.bowling.rybnik.pl/wp-content/uploads/2018/12/RyBoL-nowe-logo.png
END:VEVENT
BEGIN:VEVENT
DTSTART;TZID=Europe/Warsaw:20190117T163000
DTEND;TZID=Europe/Warsaw:20190117T193000
DTSTAMP:20260420T173246
CREATED:20181107T120048Z
LAST-MODIFIED:20181107T120124Z
UID:9234-1547742600-1547753400@www.bowling.rybnik.pl
SUMMARY:CzLB – CHACHARNIA
DESCRIPTION:
URL:http://www.bowling.rybnik.pl/turnieje/czlb-chacharnia-33/
LOCATION:ChaCharnia – Czechowice Dziedzice\, Ul.Legionów 83\, Czechowice-Dziedzice\, śląskie\, Polska
ATTACH;FMTTYPE=image/png:http://www.bowling.rybnik.pl/wp-content/uploads/2017/04/Logo-na-białyn-tle-CzLB.png
END:VEVENT
BEGIN:VEVENT
DTSTART;TZID=Europe/Warsaw:20190114T174500
DTEND;TZID=Europe/Warsaw:20190114T174500
DTSTAMP:20260420T173246
CREATED:20181227T124926Z
LAST-MODIFIED:20181227T124926Z
UID:9296-1547487900-1547487900@www.bowling.rybnik.pl
SUMMARY:RyBoL – ŁAZISKA
DESCRIPTION:
URL:http://www.bowling.rybnik.pl/turnieje/rybol-laziska/
LOCATION:MOSiR Łaziska\, ul. Ogrodowa 50\, Łaziska Górne\, Polska
ATTACH;FMTTYPE=image/png:http://www.bowling.rybnik.pl/wp-content/uploads/2018/12/RyBoL-nowe-logo.png
END:VEVENT
BEGIN:VEVENT
DTSTART;TZID=Europe/Warsaw:20190110T163000
DTEND;TZID=Europe/Warsaw:20190110T163000
DTSTAMP:20260420T173246
CREATED:20181107T115918Z
LAST-MODIFIED:20181107T115918Z
UID:9232-1547137800-1547137800@www.bowling.rybnik.pl
SUMMARY:D-CzLB – CHACHARNIA
DESCRIPTION:
URL:http://www.bowling.rybnik.pl/turnieje/d-czlb-chacharnia-13/
LOCATION:ChaCharnia – Czechowice Dziedzice\, Ul.Legionów 83\, Czechowice-Dziedzice\, śląskie\, Polska
ATTACH;FMTTYPE=image/png:http://www.bowling.rybnik.pl/wp-content/uploads/2018/09/JESIEŃ-2018-logo.png
END:VEVENT
BEGIN:VEVENT
DTSTART;TZID=Europe/Warsaw:20190107T164500
DTEND;TZID=Europe/Warsaw:20190107T164500
DTSTAMP:20260420T173246
CREATED:20181227T124520Z
LAST-MODIFIED:20181227T124520Z
UID:9289-1546879500-1546879500@www.bowling.rybnik.pl
SUMMARY:RyBoL – PINK
DESCRIPTION:
URL:http://www.bowling.rybnik.pl/turnieje/rybol-pink-60/
LOCATION:PINK – Rybnik\, Raciborska 16\, Rybnik\, śląskie\, 44-200\, Polska
ATTACH;FMTTYPE=image/png:http://www.bowling.rybnik.pl/wp-content/uploads/2018/12/RyBoL-nowe-logo.png
END:VEVENT
BEGIN:VEVENT
DTSTART;TZID=Europe/Warsaw:20190103T163000
DTEND;TZID=Europe/Warsaw:20190103T163000
DTSTAMP:20260420T173246
CREATED:20181221T220016Z
LAST-MODIFIED:20181221T220016Z
UID:9285-1546533000-1546533000@www.bowling.rybnik.pl
SUMMARY:HBCO – CHACHARNIA
DESCRIPTION:
URL:http://www.bowling.rybnik.pl/turnieje/hbco-chacharnia/
LOCATION:ChaCharnia – Czechowice Dziedzice\, Ul.Legionów 83\, Czechowice-Dziedzice\, śląskie\, Polska
ATTACH;FMTTYPE=image/png:http://www.bowling.rybnik.pl/wp-content/uploads/2018/12/HBCO-2-plakat.png
END:VEVENT
BEGIN:VEVENT
DTSTART;TZID=Europe/Warsaw:20181213T163000
DTEND;TZID=Europe/Warsaw:20181213T193000
DTSTAMP:20260420T173246
CREATED:20180922T122246Z
LAST-MODIFIED:20180922T122246Z
UID:9209-1544718600-1544729400@www.bowling.rybnik.pl
SUMMARY:CzLB – CHACHARNIA
DESCRIPTION:
URL:http://www.bowling.rybnik.pl/turnieje/czlb-chacharnia-32/
LOCATION:ChaCharnia – Czechowice Dziedzice\, Ul.Legionów 83\, Czechowice-Dziedzice\, śląskie\, Polska
ATTACH;FMTTYPE=image/png:http://www.bowling.rybnik.pl/wp-content/uploads/2017/04/Logo-na-białyn-tle-CzLB.png
END:VEVENT
BEGIN:VEVENT
DTSTART;TZID=Europe/Warsaw:20181203T164500
DTEND;TZID=Europe/Warsaw:20181203T164500
DTSTAMP:20260420T173246
CREATED:20180922T115434Z
LAST-MODIFIED:20180922T120841Z
UID:9187-1543855500-1543855500@www.bowling.rybnik.pl
SUMMARY:RyBoL – PINK
DESCRIPTION:
URL:http://www.bowling.rybnik.pl/turnieje/rybol-pink-59/
LOCATION:PINK – Rybnik\, Raciborska 16\, Rybnik\, śląskie\, 44-200\, Polska
ATTACH;FMTTYPE=image/png:http://www.bowling.rybnik.pl/wp-content/uploads/2018/06/Logo-RyBoL-nowe.png
END:VEVENT
BEGIN:VEVENT
DTSTART;TZID=Europe/Warsaw:20181129T163000
DTEND;TZID=Europe/Warsaw:20181129T193000
DTSTAMP:20260420T173246
CREATED:20180922T122028Z
LAST-MODIFIED:20180922T122028Z
UID:9207-1543509000-1543519800@www.bowling.rybnik.pl
SUMMARY:CzLB – CHACHARNIA
DESCRIPTION:
URL:http://www.bowling.rybnik.pl/turnieje/czlb-chacharnia-31/
LOCATION:ChaCharnia – Czechowice Dziedzice\, Ul.Legionów 83\, Czechowice-Dziedzice\, śląskie\, Polska
ATTACH;FMTTYPE=image/png:http://www.bowling.rybnik.pl/wp-content/uploads/2017/04/Logo-na-białyn-tle-CzLB.png
END:VEVENT
BEGIN:VEVENT
DTSTART;TZID=Europe/Warsaw:20181126T164500
DTEND;TZID=Europe/Warsaw:20181126T164500
DTSTAMP:20260420T173246
CREATED:20180922T115355Z
LAST-MODIFIED:20180922T120654Z
UID:9185-1543250700-1543250700@www.bowling.rybnik.pl
SUMMARY:RyBoL – PINK
DESCRIPTION:
URL:http://www.bowling.rybnik.pl/turnieje/rybol-pink-58/
LOCATION:PINK – Rybnik\, Raciborska 16\, Rybnik\, śląskie\, 44-200\, Polska
ATTACH;FMTTYPE=image/png:http://www.bowling.rybnik.pl/wp-content/uploads/2018/06/Logo-RyBoL-nowe.png
END:VEVENT
BEGIN:VEVENT
DTSTART;TZID=Europe/Warsaw:20181122T163000
DTEND;TZID=Europe/Warsaw:20181122T163000
DTSTAMP:20260420T173246
CREATED:20180922T121920Z
LAST-MODIFIED:20181014T131509Z
UID:9205-1542904200-1542904200@www.bowling.rybnik.pl
SUMMARY:D-CzLB – CHACHARNIA
DESCRIPTION:
URL:http://www.bowling.rybnik.pl/turnieje/czlb-chacharnia-30/
LOCATION:ChaCharnia – Czechowice Dziedzice\, Ul.Legionów 83\, Czechowice-Dziedzice\, śląskie\, Polska
ATTACH;FMTTYPE=image/png:http://www.bowling.rybnik.pl/wp-content/uploads/2018/09/JESIEŃ-2018-logo.png
END:VEVENT
BEGIN:VEVENT
DTSTART;TZID=Europe/Warsaw:20181119T164500
DTEND;TZID=Europe/Warsaw:20181119T164500
DTSTAMP:20260420T173246
CREATED:20180922T115319Z
LAST-MODIFIED:20180922T120617Z
UID:9183-1542645900-1542645900@www.bowling.rybnik.pl
SUMMARY:RyBoL – PINK
DESCRIPTION:
URL:http://www.bowling.rybnik.pl/turnieje/rybol-pink-57/
LOCATION:PINK – Rybnik\, Raciborska 16\, Rybnik\, śląskie\, 44-200\, Polska
ATTACH;FMTTYPE=image/png:http://www.bowling.rybnik.pl/wp-content/uploads/2018/06/Logo-RyBoL-nowe.png
END:VEVENT
BEGIN:VEVENT
DTSTART;TZID=Europe/Warsaw:20181115T163000
DTEND;TZID=Europe/Warsaw:20181115T193000
DTSTAMP:20260420T173246
CREATED:20180922T121118Z
LAST-MODIFIED:20181014T131351Z
UID:9193-1542299400-1542310200@www.bowling.rybnik.pl
SUMMARY:CzLB - CHACHARNIA
DESCRIPTION:
URL:http://www.bowling.rybnik.pl/turnieje/d-czlb-chacharnia-12/
LOCATION:ChaCharnia – Czechowice Dziedzice\, Ul.Legionów 83\, Czechowice-Dziedzice\, śląskie\, Polska
ATTACH;FMTTYPE=image/png:http://www.bowling.rybnik.pl/wp-content/uploads/2017/04/Logo-na-białyn-tle-CzLB.png
END:VEVENT
BEGIN:VEVENT
DTSTART;TZID=Europe/Warsaw:20181112T164500
DTEND;TZID=Europe/Warsaw:20181112T164500
DTSTAMP:20260420T173246
CREATED:20180922T115240Z
LAST-MODIFIED:20180922T120519Z
UID:9181-1542041100-1542041100@www.bowling.rybnik.pl
SUMMARY:RyBoL – PINK
DESCRIPTION:
URL:http://www.bowling.rybnik.pl/turnieje/rybol-pink-56/
LOCATION:PINK – Rybnik\, Raciborska 16\, Rybnik\, śląskie\, 44-200\, Polska
ATTACH;FMTTYPE=image/png:http://www.bowling.rybnik.pl/wp-content/uploads/2018/06/Logo-RyBoL-nowe.png
END:VEVENT
BEGIN:VEVENT
DTSTART;TZID=Europe/Warsaw:20181108T163000
DTEND;TZID=Europe/Warsaw:20181108T193000
DTSTAMP:20260420T173246
CREATED:20180922T121828Z
LAST-MODIFIED:20180922T121828Z
UID:9203-1541694600-1541705400@www.bowling.rybnik.pl
SUMMARY:CzLB – CHACHARNIA
DESCRIPTION:
URL:http://www.bowling.rybnik.pl/turnieje/czlb-chacharnia-29/
LOCATION:ChaCharnia – Czechowice Dziedzice\, Ul.Legionów 83\, Czechowice-Dziedzice\, śląskie\, Polska
ATTACH;FMTTYPE=image/png:http://www.bowling.rybnik.pl/wp-content/uploads/2017/04/Logo-na-białyn-tle-CzLB.png
END:VEVENT
BEGIN:VEVENT
DTSTART;TZID=Europe/Warsaw:20181105T164500
DTEND;TZID=Europe/Warsaw:20181105T164500
DTSTAMP:20260420T173246
CREATED:20180922T115201Z
LAST-MODIFIED:20180922T120444Z
UID:9179-1541436300-1541436300@www.bowling.rybnik.pl
SUMMARY:RyBoL – PINK
DESCRIPTION:
URL:http://www.bowling.rybnik.pl/turnieje/rybol-pink-55/
LOCATION:PINK – Rybnik\, Raciborska 16\, Rybnik\, śląskie\, 44-200\, Polska
ATTACH;FMTTYPE=image/png:http://www.bowling.rybnik.pl/wp-content/uploads/2018/06/Logo-RyBoL-nowe.png
END:VEVENT
BEGIN:VEVENT
DTSTART;TZID=Europe/Warsaw:20181029T164500
DTEND;TZID=Europe/Warsaw:20181029T164500
DTSTAMP:20260420T173246
CREATED:20180922T115103Z
LAST-MODIFIED:20180922T120412Z
UID:9177-1540831500-1540831500@www.bowling.rybnik.pl
SUMMARY:RyBoL – PINK
DESCRIPTION:
URL:http://www.bowling.rybnik.pl/turnieje/rybol-pink-54/
LOCATION:PINK – Rybnik\, Raciborska 16\, Rybnik\, śląskie\, 44-200\, Polska
ATTACH;FMTTYPE=image/png:http://www.bowling.rybnik.pl/wp-content/uploads/2018/06/Logo-RyBoL-nowe.png
END:VEVENT
BEGIN:VEVENT
DTSTART;TZID=Europe/Warsaw:20181025T163000
DTEND;TZID=Europe/Warsaw:20181025T193000
DTSTAMP:20260420T173246
CREATED:20180922T121731Z
LAST-MODIFIED:20180922T121731Z
UID:9201-1540485000-1540495800@www.bowling.rybnik.pl
SUMMARY:CzLB – CHACHARNIA
DESCRIPTION:
URL:http://www.bowling.rybnik.pl/turnieje/czlb-chacharnia-28/
LOCATION:ChaCharnia – Czechowice Dziedzice\, Ul.Legionów 83\, Czechowice-Dziedzice\, śląskie\, Polska
ATTACH;FMTTYPE=image/png:http://www.bowling.rybnik.pl/wp-content/uploads/2017/04/Logo-na-białyn-tle-CzLB.png
END:VEVENT
BEGIN:VEVENT
DTSTART;TZID=Europe/Warsaw:20181022T164500
DTEND;TZID=Europe/Warsaw:20181022T164500
DTSTAMP:20260420T173246
CREATED:20180922T115028Z
LAST-MODIFIED:20180922T120340Z
UID:9175-1540226700-1540226700@www.bowling.rybnik.pl
SUMMARY:RyBoL – PINK
DESCRIPTION:
URL:http://www.bowling.rybnik.pl/turnieje/rybol-pink-53/
LOCATION:PINK – Rybnik\, Raciborska 16\, Rybnik\, śląskie\, 44-200\, Polska
ATTACH;FMTTYPE=image/png:http://www.bowling.rybnik.pl/wp-content/uploads/2018/06/Logo-RyBoL-nowe.png
END:VEVENT
BEGIN:VEVENT
DTSTART;TZID=Europe/Warsaw:20181018T163000
DTEND;TZID=Europe/Warsaw:20181018T163000
DTSTAMP:20260420T173246
CREATED:20180922T115747Z
LAST-MODIFIED:20180922T120037Z
UID:9189-1539880200-1539880200@www.bowling.rybnik.pl
SUMMARY:D-CzLB - CHACHARNIA
DESCRIPTION:
URL:http://www.bowling.rybnik.pl/turnieje/d-czlb-chacharnia-11/
LOCATION:ChaCharnia – Czechowice Dziedzice\, Ul.Legionów 83\, Czechowice-Dziedzice\, śląskie\, Polska
ATTACH;FMTTYPE=image/png:http://www.bowling.rybnik.pl/wp-content/uploads/2018/09/JESIEŃ-2018-logo.png
END:VEVENT
BEGIN:VEVENT
DTSTART;TZID=Europe/Warsaw:20181015T164500
DTEND;TZID=Europe/Warsaw:20181015T164500
DTSTAMP:20260420T173246
CREATED:20180922T114952Z
LAST-MODIFIED:20180922T120309Z
UID:9173-1539621900-1539621900@www.bowling.rybnik.pl
SUMMARY:RyBoL – PINK
DESCRIPTION:
URL:http://www.bowling.rybnik.pl/turnieje/rybol-pink-52/
LOCATION:PINK – Rybnik\, Raciborska 16\, Rybnik\, śląskie\, 44-200\, Polska
ATTACH;FMTTYPE=image/png:http://www.bowling.rybnik.pl/wp-content/uploads/2018/06/Logo-RyBoL-nowe.png
END:VEVENT
BEGIN:VEVENT
DTSTART;TZID=Europe/Warsaw:20181011T163000
DTEND;TZID=Europe/Warsaw:20181011T193000
DTSTAMP:20260420T173246
CREATED:20180922T121613Z
LAST-MODIFIED:20180922T121613Z
UID:9199-1539275400-1539286200@www.bowling.rybnik.pl
SUMMARY:CzLB – CHACHARNIA
DESCRIPTION:
URL:http://www.bowling.rybnik.pl/turnieje/czlb-chacharnia-27/
LOCATION:ChaCharnia – Czechowice Dziedzice\, Ul.Legionów 83\, Czechowice-Dziedzice\, śląskie\, Polska
ATTACH;FMTTYPE=image/png:http://www.bowling.rybnik.pl/wp-content/uploads/2017/04/Logo-na-białyn-tle-CzLB.png
END:VEVENT
BEGIN:VEVENT
DTSTART;TZID=Europe/Warsaw:20181008T164500
DTEND;TZID=Europe/Warsaw:20181008T164500
DTSTAMP:20260420T173246
CREATED:20180922T114912Z
LAST-MODIFIED:20180922T120239Z
UID:9171-1539017100-1539017100@www.bowling.rybnik.pl
SUMMARY:RyBoL – PINK
DESCRIPTION:
URL:http://www.bowling.rybnik.pl/turnieje/rybol-pink-51/
LOCATION:PINK – Rybnik\, Raciborska 16\, Rybnik\, śląskie\, 44-200\, Polska
ATTACH;FMTTYPE=image/png:http://www.bowling.rybnik.pl/wp-content/uploads/2018/06/Logo-RyBoL-nowe.png
END:VEVENT
BEGIN:VEVENT
DTSTART;TZID=Europe/Warsaw:20181001T164500
DTEND;TZID=Europe/Warsaw:20181001T164500
DTSTAMP:20260420T173246
CREATED:20180922T113042Z
LAST-MODIFIED:20180922T120209Z
UID:9169-1538412300-1538412300@www.bowling.rybnik.pl
SUMMARY:RyBoL – PINK
DESCRIPTION:
URL:http://www.bowling.rybnik.pl/turnieje/rybol-pink-50/
LOCATION:PINK – Rybnik\, Raciborska 16\, Rybnik\, śląskie\, 44-200\, Polska
ATTACH;FMTTYPE=image/png:http://www.bowling.rybnik.pl/wp-content/uploads/2018/06/Logo-RyBoL-nowe.png
END:VEVENT
BEGIN:VEVENT
DTSTART;TZID=Europe/Warsaw:20180927T163000
DTEND;TZID=Europe/Warsaw:20180927T193000
DTSTAMP:20260420T173246
CREATED:20180629T194012Z
LAST-MODIFIED:20180629T194012Z
UID:9102-1538065800-1538076600@www.bowling.rybnik.pl
SUMMARY:CzLB – CHACHARNIA
DESCRIPTION:
URL:http://www.bowling.rybnik.pl/turnieje/czlb-chacharnia-26/
LOCATION:ChaCharnia – Czechowice Dziedzice\, Ul.Legionów 83\, Czechowice-Dziedzice\, śląskie\, Polska
ATTACH;FMTTYPE=image/png:http://www.bowling.rybnik.pl/wp-content/uploads/2017/04/Logo-na-białyn-tle-CzLB.png
END:VEVENT
BEGIN:VEVENT
DTSTART;TZID=Europe/Warsaw:20180924T164500
DTEND;TZID=Europe/Warsaw:20180924T164500
DTSTAMP:20260420T173246
CREATED:20180629T193145Z
LAST-MODIFIED:20180629T193145Z
UID:9088-1537807500-1537807500@www.bowling.rybnik.pl
SUMMARY:RyBoL – PINK
DESCRIPTION:
URL:http://www.bowling.rybnik.pl/turnieje/rybol-pink-49/
LOCATION:PINK – Rybnik\, Raciborska 16\, Rybnik\, śląskie\, 44-200\, Polska
ATTACH;FMTTYPE=image/png:http://www.bowling.rybnik.pl/wp-content/uploads/2018/06/Logo-RyBoL-nowe.png
END:VEVENT
BEGIN:VEVENT
DTSTART;TZID=Europe/Warsaw:20180920T163000
DTEND;TZID=Europe/Warsaw:20180920T163000
DTSTAMP:20260420T173246
CREATED:20180629T194638Z
LAST-MODIFIED:20180922T120114Z
UID:9109-1537461000-1537461000@www.bowling.rybnik.pl
SUMMARY:D-CzLB - CHACHARNIA
DESCRIPTION:
URL:http://www.bowling.rybnik.pl/turnieje/d-czlb-chacharnia-10/
LOCATION:ChaCharnia – Czechowice Dziedzice\, Ul.Legionów 83\, Czechowice-Dziedzice\, śląskie\, Polska
ATTACH;FMTTYPE=image/png:http://www.bowling.rybnik.pl/wp-content/uploads/2018/09/JESIEŃ-2018-logo.png
END:VEVENT
BEGIN:VEVENT
DTSTART;TZID=Europe/Warsaw:20180917T164500
DTEND;TZID=Europe/Warsaw:20180917T164500
DTSTAMP:20260420T173246
CREATED:20180629T193104Z
LAST-MODIFIED:20180629T193104Z
UID:9086-1537202700-1537202700@www.bowling.rybnik.pl
SUMMARY:RyBoL – PINK
DESCRIPTION:
URL:http://www.bowling.rybnik.pl/turnieje/rybol-pink-48/
LOCATION:PINK – Rybnik\, Raciborska 16\, Rybnik\, śląskie\, 44-200\, Polska
ATTACH;FMTTYPE=image/png:http://www.bowling.rybnik.pl/wp-content/uploads/2018/06/Logo-RyBoL-nowe.png
END:VEVENT
END:VCALENDAR