BEGIN:VCALENDAR
VERSION:2.0
PRODID:-//Sekcja Bowlingu - Rybnik - ECPv6.8.0//NONSGML v1.0//EN
CALSCALE:GREGORIAN
METHOD:PUBLISH
X-WR-CALNAME:Sekcja Bowlingu - Rybnik
X-ORIGINAL-URL:http://www.bowling.rybnik.pl
X-WR-CALDESC:Events for Sekcja Bowlingu - Rybnik
REFRESH-INTERVAL;VALUE=DURATION:PT1H
X-Robots-Tag:noindex
X-PUBLISHED-TTL:PT1H
BEGIN:VTIMEZONE
TZID:Europe/Warsaw
BEGIN:DAYLIGHT
TZOFFSETFROM:+0100
TZOFFSETTO:+0200
TZNAME:CEST
DTSTART:20170326T010000
END:DAYLIGHT
BEGIN:STANDARD
TZOFFSETFROM:+0200
TZOFFSETTO:+0100
TZNAME:CET
DTSTART:20171029T010000
END:STANDARD
END:VTIMEZONE
BEGIN:VEVENT
DTSTART;VALUE=DATE:20170511
DTEND;VALUE=DATE:20170512
DTSTAMP:20260421T224219
CREATED:20170130T225204Z
LAST-MODIFIED:20170130T225204Z
UID:6236-1494460800-1494547199@www.bowling.rybnik.pl
SUMMARY:CzLB
DESCRIPTION:„Czechowicka Liga Bowlingowa” CZECHOWICE-DZIEDZICE godz. 17.45
URL:http://www.bowling.rybnik.pl/turnieje/czlb-29/
LOCATION:ChaCharnia – Czechowice Dziedzice\, Ul.Legionów 83\, Czechowice-Dziedzice\, śląskie\, Polska
ATTACH;FMTTYPE=image/png:http://www.bowling.rybnik.pl/wp-content/uploads/2015/10/Zdjęcie-w-nowych-koszulkach.png
END:VEVENT
BEGIN:VEVENT
DTSTART;VALUE=DATE:20170508
DTEND;VALUE=DATE:20170509
DTSTAMP:20260421T224219
CREATED:20170303T065640Z
LAST-MODIFIED:20170303T065640Z
UID:6480-1494201600-1494287999@www.bowling.rybnik.pl
SUMMARY:RyBoL
DESCRIPTION:„Rybnicka Bowlingowa Liga” RYBNIK godz. 16.45
URL:http://www.bowling.rybnik.pl/turnieje/rybol-59/
LOCATION:PINK – Rybnik\, Raciborska 16\, Rybnik\, śląskie\, 44-200\, Polska
ATTACH;FMTTYPE=image/png:http://www.bowling.rybnik.pl/wp-content/uploads/2015/10/Zdjęcie-sekcji.png
END:VEVENT
BEGIN:VEVENT
DTSTART;VALUE=DATE:20170504
DTEND;VALUE=DATE:20170505
DTSTAMP:20260421T224219
CREATED:20170424T122248Z
LAST-MODIFIED:20170426T124324Z
UID:6606-1493856000-1493942399@www.bowling.rybnik.pl
SUMMARY:D-CzLB
DESCRIPTION:„Drużynowa Czechowicka Liga Bowlingowa” CZECHOWICE-DZIEDZICE godz. 16.45
URL:http://www.bowling.rybnik.pl/turnieje/d-czlb/
LOCATION:ChaCharnia – Czechowice Dziedzice\, Ul.Legionów 83\, Czechowice-Dziedzice\, śląskie\, Polska
ATTACH;FMTTYPE=image/png:http://www.bowling.rybnik.pl/wp-content/uploads/2017/04/Logo-na-białyn-tle-CzLB.png
END:VEVENT
BEGIN:VEVENT
DTSTART;VALUE=DATE:20170427
DTEND;VALUE=DATE:20170428
DTSTAMP:20260421T224219
CREATED:20170130T225016Z
LAST-MODIFIED:20170426T124237Z
UID:6234-1493251200-1493337599@www.bowling.rybnik.pl
SUMMARY:CzLB
DESCRIPTION:„Czechowicka Liga Bowlingowa” CZECHOWICE-DZIEDZICE godz. 16.45
URL:http://www.bowling.rybnik.pl/turnieje/czlb-28/
LOCATION:ChaCharnia – Czechowice Dziedzice\, Ul.Legionów 83\, Czechowice-Dziedzice\, śląskie\, Polska
ATTACH;FMTTYPE=image/png:http://www.bowling.rybnik.pl/wp-content/uploads/2015/10/Zdjęcie-w-nowych-koszulkach.png
END:VEVENT
BEGIN:VEVENT
DTSTART;VALUE=DATE:20170425
DTEND;VALUE=DATE:20170426
DTSTAMP:20260421T224219
CREATED:20170113T095957Z
LAST-MODIFIED:20170113T100127Z
UID:6205-1493078400-1493164799@www.bowling.rybnik.pl
SUMMARY:ABL 4liga
DESCRIPTION:ABL 4 liga TRZYNIEC godz. 16.45
URL:http://www.bowling.rybnik.pl/turnieje/abl-4-liga-2/
LOCATION:śląskie
ATTACH;FMTTYPE=image/png:http://www.bowling.rybnik.pl/wp-content/uploads/2016/11/ABL-logo.png
END:VEVENT
BEGIN:VEVENT
DTSTART;VALUE=DATE:20170424
DTEND;VALUE=DATE:20170425
DTSTAMP:20260421T224219
CREATED:20170131T121306Z
LAST-MODIFIED:20170131T121306Z
UID:6270-1492992000-1493078399@www.bowling.rybnik.pl
SUMMARY:RyBoL
DESCRIPTION:Rybnicka Bowlingowa Liga” RYBNIK godz. 16.45
URL:http://www.bowling.rybnik.pl/turnieje/rybol-57/
LOCATION:PINK – Rybnik\, Raciborska 16\, Rybnik\, śląskie\, 44-200\, Polska
ATTACH;FMTTYPE=image/png:http://www.bowling.rybnik.pl/wp-content/uploads/2015/10/Zdjęcie-sekcji.png
END:VEVENT
BEGIN:VEVENT
DTSTART;VALUE=DATE:20170418
DTEND;VALUE=DATE:20170419
DTSTAMP:20260421T224219
CREATED:20170321T083310Z
LAST-MODIFIED:20170406T141909Z
UID:6586-1492473600-1492559999@www.bowling.rybnik.pl
SUMMARY:WTB
DESCRIPTION:9-tkowy „Wielkanocny turniej bowlingowy”  Czechowice-Dziedzice „CHACHARNIA” godz. 17.45
URL:http://www.bowling.rybnik.pl/turnieje/wtb/
LOCATION:ChaCharnia – Czechowice Dziedzice\, Ul.Legionów 83\, Czechowice-Dziedzice\, śląskie\, Polska
ATTACH;FMTTYPE=image/png:http://www.bowling.rybnik.pl/wp-content/uploads/2017/04/Wielkanocny-turniej-bowlingowy-2017-plakat.png
END:VEVENT
BEGIN:VEVENT
DTSTART;VALUE=DATE:20170417
DTEND;VALUE=DATE:20170418
DTSTAMP:20260421T224219
CREATED:20170303T065118Z
LAST-MODIFIED:20170303T065118Z
UID:6476-1492387200-1492473599@www.bowling.rybnik.pl
SUMMARY:Święta
DESCRIPTION:
URL:http://www.bowling.rybnik.pl/turnieje/swieta/
LOCATION:śląskie
END:VEVENT
BEGIN:VEVENT
DTSTART;VALUE=DATE:20170416
DTEND;VALUE=DATE:20170417
DTSTAMP:20260421T224219
CREATED:20170303T065018Z
LAST-MODIFIED:20170303T065055Z
UID:6472-1492300800-1492387199@www.bowling.rybnik.pl
SUMMARY:Święta
DESCRIPTION:
URL:http://www.bowling.rybnik.pl/turnieje/swieta-wielkanocne/
LOCATION:śląskie
END:VEVENT
BEGIN:VEVENT
DTSTART;VALUE=DATE:20170410
DTEND;VALUE=DATE:20170411
DTSTAMP:20260421T224219
CREATED:20170131T121135Z
LAST-MODIFIED:20170131T121135Z
UID:6268-1491782400-1491868799@www.bowling.rybnik.pl
SUMMARY:RyBoL
DESCRIPTION:Rybnicka Bowlingowa Liga” RYBNIK godz. 16.45
URL:http://www.bowling.rybnik.pl/turnieje/rybol-56/
LOCATION:PINK – Rybnik\, Raciborska 16\, Rybnik\, śląskie\, 44-200\, Polska
ATTACH;FMTTYPE=image/png:http://www.bowling.rybnik.pl/wp-content/uploads/2015/10/Zdjęcie-sekcji.png
END:VEVENT
BEGIN:VEVENT
DTSTART;VALUE=DATE:20170406
DTEND;VALUE=DATE:20170407
DTSTAMP:20260421T224219
CREATED:20170130T224917Z
LAST-MODIFIED:20170130T224917Z
UID:6232-1491436800-1491523199@www.bowling.rybnik.pl
SUMMARY:CzLB
DESCRIPTION:„Czechowicka Liga Bowlingowa” CZECHOWICE-DZIEDZICE godz. 17.45
URL:http://www.bowling.rybnik.pl/turnieje/czlb-27/
LOCATION:ChaCharnia – Czechowice Dziedzice\, Ul.Legionów 83\, Czechowice-Dziedzice\, śląskie\, Polska
ATTACH;FMTTYPE=image/png:http://www.bowling.rybnik.pl/wp-content/uploads/2015/10/Zdjęcie-w-nowych-koszulkach.png
END:VEVENT
BEGIN:VEVENT
DTSTART;VALUE=DATE:20170403
DTEND;VALUE=DATE:20170404
DTSTAMP:20260421T224219
CREATED:20170131T121019Z
LAST-MODIFIED:20170131T121019Z
UID:6266-1491177600-1491263999@www.bowling.rybnik.pl
SUMMARY:RyBoL
DESCRIPTION:Rybnicka Bowlingowa Liga” RYBNIK godz. 16.45
URL:http://www.bowling.rybnik.pl/turnieje/rybol-55/
LOCATION:PINK – Rybnik\, Raciborska 16\, Rybnik\, śląskie\, 44-200\, Polska
ATTACH;FMTTYPE=image/png:http://www.bowling.rybnik.pl/wp-content/uploads/2015/10/Zdjęcie-sekcji.png
END:VEVENT
BEGIN:VEVENT
DTSTART;VALUE=DATE:20170327
DTEND;VALUE=DATE:20170328
DTSTAMP:20260421T224219
CREATED:20170131T120832Z
LAST-MODIFIED:20170131T120832Z
UID:6264-1490572800-1490659199@www.bowling.rybnik.pl
SUMMARY:RyBoL
DESCRIPTION:Rybnicka Bowlingowa Liga” RYBNIK godz. 16.45
URL:http://www.bowling.rybnik.pl/turnieje/rybol-54/
LOCATION:PINK – Rybnik\, Raciborska 16\, Rybnik\, śląskie\, 44-200\, Polska
ATTACH;FMTTYPE=image/png:http://www.bowling.rybnik.pl/wp-content/uploads/2015/10/Zdjęcie-sekcji.png
END:VEVENT
BEGIN:VEVENT
DTSTART;VALUE=DATE:20170320
DTEND;VALUE=DATE:20170321
DTSTAMP:20260421T224219
CREATED:20170131T120709Z
LAST-MODIFIED:20170221T165915Z
UID:6262-1489968000-1490054399@www.bowling.rybnik.pl
SUMMARY:RyBoL
DESCRIPTION:„Rybnicka Bowlingowa Liga” Czechowice-Dziedzice godz. 17.30
URL:http://www.bowling.rybnik.pl/turnieje/rybol-53/
LOCATION:ChaCharnia – Czechowice Dziedzice\, Ul.Legionów 83\, Czechowice-Dziedzice\, śląskie\, Polska
ATTACH;FMTTYPE=image/png:http://www.bowling.rybnik.pl/wp-content/uploads/2015/10/Zdjęcie-sekcji.png
END:VEVENT
BEGIN:VEVENT
DTSTART;VALUE=DATE:20170317
DTEND;VALUE=DATE:20170320
DTSTAMP:20260421T224219
CREATED:20170317T183927Z
LAST-MODIFIED:20170317T183927Z
UID:6568-1489708800-1489967999@www.bowling.rybnik.pl
SUMMARY:IMP
DESCRIPTION:
URL:http://www.bowling.rybnik.pl/turnieje/imp/
LOCATION:śląskie
ATTACH;FMTTYPE=image/png:http://www.bowling.rybnik.pl/wp-content/uploads/2017/03/IMP-2017-plakat.png
END:VEVENT
BEGIN:VEVENT
DTSTART;VALUE=DATE:20170316
DTEND;VALUE=DATE:20170317
DTSTAMP:20260421T224219
CREATED:20170130T224747Z
LAST-MODIFIED:20170130T224747Z
UID:6230-1489622400-1489708799@www.bowling.rybnik.pl
SUMMARY:CzLB
DESCRIPTION:„Czechowicka Liga Bowlingowa” CZECHOWICE-DZIEDZICE godz. 17.45
URL:http://www.bowling.rybnik.pl/turnieje/czlb-26/
LOCATION:ChaCharnia – Czechowice Dziedzice\, Ul.Legionów 83\, Czechowice-Dziedzice\, śląskie\, Polska
ATTACH;FMTTYPE=image/png:http://www.bowling.rybnik.pl/wp-content/uploads/2015/10/Zdjęcie-w-nowych-koszulkach.png
END:VEVENT
BEGIN:VEVENT
DTSTART;VALUE=DATE:20170313
DTEND;VALUE=DATE:20170314
DTSTAMP:20260421T224219
CREATED:20170131T120614Z
LAST-MODIFIED:20170131T120614Z
UID:6260-1489363200-1489449599@www.bowling.rybnik.pl
SUMMARY:RyBoL
DESCRIPTION:Rybnicka Bowlingowa Liga” RYBNIK godz. 16.45
URL:http://www.bowling.rybnik.pl/turnieje/rybol-52/
LOCATION:PINK – Rybnik\, Raciborska 16\, Rybnik\, śląskie\, 44-200\, Polska
ATTACH;FMTTYPE=image/png:http://www.bowling.rybnik.pl/wp-content/uploads/2015/10/Zdjęcie-sekcji.png
END:VEVENT
BEGIN:VEVENT
DTSTART;VALUE=DATE:20170309
DTEND;VALUE=DATE:20170310
DTSTAMP:20260421T224219
CREATED:20170221T170227Z
LAST-MODIFIED:20170303T121523Z
UID:6450-1489017600-1489103999@www.bowling.rybnik.pl
SUMMARY:DK
DESCRIPTION:„Turniej dziewiątkowy” z okazji DNIA KOBIET. Czechowice-Dziedzice godz. 17.45
URL:http://www.bowling.rybnik.pl/turnieje/dk/
LOCATION:ChaCharnia – Czechowice Dziedzice\, Ul.Legionów 83\, Czechowice-Dziedzice\, śląskie\, Polska
ATTACH;FMTTYPE=image/png:http://www.bowling.rybnik.pl/wp-content/uploads/2017/03/Dzień-kobiet-2017-plakat-1.png
END:VEVENT
BEGIN:VEVENT
DTSTART;VALUE=DATE:20170307
DTEND;VALUE=DATE:20170308
DTSTAMP:20260421T224219
CREATED:20170113T095852Z
LAST-MODIFIED:20170113T100215Z
UID:6203-1488844800-1488931199@www.bowling.rybnik.pl
SUMMARY:ABL 4liga
DESCRIPTION:ABL 4liga TRZYNIEC godz. 16.45
URL:http://www.bowling.rybnik.pl/turnieje/abl-4-liga/
LOCATION:Gaja centrum – Trzyniec\, Lidická 1269\, Třinec\, 739 61\, Czech Republic
ATTACH;FMTTYPE=image/png:http://www.bowling.rybnik.pl/wp-content/uploads/2016/11/ABL-logo.png
END:VEVENT
BEGIN:VEVENT
DTSTART;VALUE=DATE:20170306
DTEND;VALUE=DATE:20170307
DTSTAMP:20260421T224219
CREATED:20170131T120512Z
LAST-MODIFIED:20170131T120512Z
UID:6258-1488758400-1488844799@www.bowling.rybnik.pl
SUMMARY:RyBoL
DESCRIPTION:Rybnicka Bowlingowa Liga” RYBNIK godz. 16.45
URL:http://www.bowling.rybnik.pl/turnieje/rybol-51/
LOCATION:PINK – Rybnik\, Raciborska 16\, Rybnik\, śląskie\, 44-200\, Polska
ATTACH;FMTTYPE=image/png:http://www.bowling.rybnik.pl/wp-content/uploads/2015/10/Zdjęcie-sekcji.png
END:VEVENT
BEGIN:VEVENT
DTSTART;VALUE=DATE:20170302
DTEND;VALUE=DATE:20170303
DTSTAMP:20260421T224219
CREATED:20170130T224648Z
LAST-MODIFIED:20170130T224648Z
UID:6228-1488412800-1488499199@www.bowling.rybnik.pl
SUMMARY:CzLB
DESCRIPTION:„Czechowicka Liga Bowlingowa” CZECHOWICE-DZIEDZICE godz. 17.45
URL:http://www.bowling.rybnik.pl/turnieje/czlb-25/
LOCATION:ChaCharnia – Czechowice Dziedzice\, Ul.Legionów 83\, Czechowice-Dziedzice\, śląskie\, Polska
ATTACH;FMTTYPE=image/png:http://www.bowling.rybnik.pl/wp-content/uploads/2015/10/Zdjęcie-w-nowych-koszulkach.png
END:VEVENT
BEGIN:VEVENT
DTSTART;VALUE=DATE:20170227
DTEND;VALUE=DATE:20170228
DTSTAMP:20260421T224219
CREATED:20161227T083243Z
LAST-MODIFIED:20161227T083243Z
UID:6083-1488153600-1488239999@www.bowling.rybnik.pl
SUMMARY:RyBoL
DESCRIPTION:Rybnicka Bowlingowa Liga” RYBNIK godz. 16.45
URL:http://www.bowling.rybnik.pl/turnieje/rybol-50/
LOCATION:PINK – Rybnik\, Raciborska 16\, Rybnik\, śląskie\, 44-200\, Polska
ATTACH;FMTTYPE=image/png:http://www.bowling.rybnik.pl/wp-content/uploads/2015/10/Zdjęcie-sekcji.png
END:VEVENT
BEGIN:VEVENT
DTSTART;VALUE=DATE:20170224
DTEND;VALUE=DATE:20170225
DTSTAMP:20260421T224219
CREATED:20170131T115224Z
LAST-MODIFIED:20170131T115245Z
UID:6255-1487894400-1487980799@www.bowling.rybnik.pl
SUMMARY:CzLB - integracja
DESCRIPTION:„Bowlingowe ostatki” – Czechowice-Dziedzice ChaCharnia godz. 18.00
URL:http://www.bowling.rybnik.pl/turnieje/czlb-integracja/
LOCATION:ChaCharnia – Czechowice Dziedzice\, Ul.Legionów 83\, Czechowice-Dziedzice\, śląskie\, Polska
ATTACH;FMTTYPE=image/png:http://www.bowling.rybnik.pl/wp-content/uploads/2016/12/turniej-noworoczny-2017.png
END:VEVENT
BEGIN:VEVENT
DTSTART;VALUE=DATE:20170220
DTEND;VALUE=DATE:20170221
DTSTAMP:20260421T224219
CREATED:20161227T083122Z
LAST-MODIFIED:20161227T083122Z
UID:6079-1487548800-1487635199@www.bowling.rybnik.pl
SUMMARY:RyBoL
DESCRIPTION:Rybnicka Bowlingowa Liga” RYBNIK godz. 16.45
URL:http://www.bowling.rybnik.pl/turnieje/rybol-48/
LOCATION:PINK – Rybnik\, Raciborska 16\, Rybnik\, śląskie\, 44-200\, Polska
ATTACH;FMTTYPE=image/png:http://www.bowling.rybnik.pl/wp-content/uploads/2015/10/Zdjęcie-sekcji.png
END:VEVENT
BEGIN:VEVENT
DTSTART;VALUE=DATE:20170216
DTEND;VALUE=DATE:20170217
DTSTAMP:20260421T224219
CREATED:20170130T224534Z
LAST-MODIFIED:20170130T224534Z
UID:6226-1487203200-1487289599@www.bowling.rybnik.pl
SUMMARY:CzLB
DESCRIPTION:„Czechowicka Liga Bowlingowa” CZECHOWICE-DZIEDZICE godz. 17.45
URL:http://www.bowling.rybnik.pl/turnieje/czlb-24/
LOCATION:ChaCharnia – Czechowice Dziedzice\, Ul.Legionów 83\, Czechowice-Dziedzice\, śląskie\, Polska
ATTACH;FMTTYPE=image/png:http://www.bowling.rybnik.pl/wp-content/uploads/2015/10/Zdjęcie-w-nowych-koszulkach.png
END:VEVENT
BEGIN:VEVENT
DTSTART;VALUE=DATE:20170213
DTEND;VALUE=DATE:20170214
DTSTAMP:20260421T224219
CREATED:20161227T083204Z
LAST-MODIFIED:20161227T083204Z
UID:6081-1486944000-1487030399@www.bowling.rybnik.pl
SUMMARY:RyBoL
DESCRIPTION:Rybnicka Bowlingowa Liga” RYBNIK godz. 16.45
URL:http://www.bowling.rybnik.pl/turnieje/rybol-49/
LOCATION:PINK – Rybnik\, Raciborska 16\, Rybnik\, śląskie\, 44-200\, Polska
ATTACH;FMTTYPE=image/png:http://www.bowling.rybnik.pl/wp-content/uploads/2015/10/Zdjęcie-sekcji.png
END:VEVENT
BEGIN:VEVENT
DTSTART;VALUE=DATE:20170211
DTEND;VALUE=DATE:20170212
DTSTAMP:20260421T224219
CREATED:20170131T114732Z
LAST-MODIFIED:20170131T114942Z
UID:6253-1486771200-1486857599@www.bowling.rybnik.pl
SUMMARY:TW
DESCRIPTION:Bowlingowy Turniej Walentynkowy RYBNI – PINK  11 02 2017 godz. 11.00
URL:http://www.bowling.rybnik.pl/turnieje/tw-2/
LOCATION:PINK – Rybnik\, Raciborska 16\, Rybnik\, śląskie\, 44-200\, Polska
ATTACH;FMTTYPE=image/png:http://www.bowling.rybnik.pl/wp-content/uploads/2017/01/RyBoL-turniej-walentynkowy-2017.png
END:VEVENT
BEGIN:VEVENT
DTSTART;VALUE=DATE:20170207
DTEND;VALUE=DATE:20170208
DTSTAMP:20260421T224219
CREATED:20170113T095727Z
LAST-MODIFIED:20170113T100239Z
UID:6200-1486425600-1486511999@www.bowling.rybnik.pl
SUMMARY:ABL 4liga
DESCRIPTION:ABL 4 liga TRZYNIEC godz. 16.45
URL:http://www.bowling.rybnik.pl/turnieje/6200/
LOCATION:Gaja centrum – Trzyniec\, Lidická 1269\, Třinec\, 739 61\, Czech Republic
ATTACH;FMTTYPE=image/png:http://www.bowling.rybnik.pl/wp-content/uploads/2016/11/ABL-logo.png
END:VEVENT
BEGIN:VEVENT
DTSTART;VALUE=DATE:20170206
DTEND;VALUE=DATE:20170207
DTSTAMP:20260421T224219
CREATED:20161227T083028Z
LAST-MODIFIED:20161227T083028Z
UID:6077-1486339200-1486425599@www.bowling.rybnik.pl
SUMMARY:RyBoL
DESCRIPTION:Rybnicka Bowlingowa Liga” RYBNIK godz. 16.45
URL:http://www.bowling.rybnik.pl/turnieje/rybol-47/
LOCATION:PINK – Rybnik\, Raciborska 16\, Rybnik\, śląskie\, 44-200\, Polska
ATTACH;FMTTYPE=image/png:http://www.bowling.rybnik.pl/wp-content/uploads/2015/10/Zdjęcie-sekcji.png
END:VEVENT
BEGIN:VEVENT
DTSTART;VALUE=DATE:20170202
DTEND;VALUE=DATE:20170203
DTSTAMP:20260421T224219
CREATED:20170130T224412Z
LAST-MODIFIED:20170130T224412Z
UID:6224-1485993600-1486079999@www.bowling.rybnik.pl
SUMMARY:CzLB
DESCRIPTION:„Czechowicka Liga Bowlingowa” CZECHOWICE-DZIEDZICE godz. 17.45
URL:http://www.bowling.rybnik.pl/turnieje/czlb-23/
LOCATION:ChaCharnia – Czechowice Dziedzice\, Ul.Legionów 83\, Czechowice-Dziedzice\, śląskie\, Polska
ATTACH;FMTTYPE=image/png:http://www.bowling.rybnik.pl/wp-content/uploads/2015/10/Zdjęcie-w-nowych-koszulkach.png
END:VEVENT
END:VCALENDAR