BEGIN:VCALENDAR
VERSION:2.0
PRODID:-//Sekcja Bowlingu - Rybnik - ECPv6.8.0//NONSGML v1.0//EN
CALSCALE:GREGORIAN
METHOD:PUBLISH
X-WR-CALNAME:Sekcja Bowlingu - Rybnik
X-ORIGINAL-URL:http://www.bowling.rybnik.pl
X-WR-CALDESC:Events for Sekcja Bowlingu - Rybnik
REFRESH-INTERVAL;VALUE=DURATION:PT1H
X-Robots-Tag:noindex
X-PUBLISHED-TTL:PT1H
BEGIN:VTIMEZONE
TZID:Europe/Warsaw
BEGIN:DAYLIGHT
TZOFFSETFROM:+0100
TZOFFSETTO:+0200
TZNAME:CEST
DTSTART:20160327T010000
END:DAYLIGHT
BEGIN:STANDARD
TZOFFSETFROM:+0200
TZOFFSETTO:+0100
TZNAME:CET
DTSTART:20161030T010000
END:STANDARD
BEGIN:DAYLIGHT
TZOFFSETFROM:+0100
TZOFFSETTO:+0200
TZNAME:CEST
DTSTART:20170326T010000
END:DAYLIGHT
BEGIN:STANDARD
TZOFFSETFROM:+0200
TZOFFSETTO:+0100
TZNAME:CET
DTSTART:20171029T010000
END:STANDARD
END:VTIMEZONE
BEGIN:VEVENT
DTSTART;VALUE=DATE:20170302
DTEND;VALUE=DATE:20170303
DTSTAMP:20260421T235322
CREATED:20170130T224648Z
LAST-MODIFIED:20170130T224648Z
UID:6228-1488412800-1488499199@www.bowling.rybnik.pl
SUMMARY:CzLB
DESCRIPTION:„Czechowicka Liga Bowlingowa” CZECHOWICE-DZIEDZICE godz. 17.45
URL:http://www.bowling.rybnik.pl/turnieje/czlb-25/
LOCATION:ChaCharnia – Czechowice Dziedzice\, Ul.Legionów 83\, Czechowice-Dziedzice\, śląskie\, Polska
ATTACH;FMTTYPE=image/png:http://www.bowling.rybnik.pl/wp-content/uploads/2015/10/Zdjęcie-w-nowych-koszulkach.png
END:VEVENT
BEGIN:VEVENT
DTSTART;VALUE=DATE:20170227
DTEND;VALUE=DATE:20170228
DTSTAMP:20260421T235322
CREATED:20161227T083243Z
LAST-MODIFIED:20161227T083243Z
UID:6083-1488153600-1488239999@www.bowling.rybnik.pl
SUMMARY:RyBoL
DESCRIPTION:Rybnicka Bowlingowa Liga” RYBNIK godz. 16.45
URL:http://www.bowling.rybnik.pl/turnieje/rybol-50/
LOCATION:PINK – Rybnik\, Raciborska 16\, Rybnik\, śląskie\, 44-200\, Polska
ATTACH;FMTTYPE=image/png:http://www.bowling.rybnik.pl/wp-content/uploads/2015/10/Zdjęcie-sekcji.png
END:VEVENT
BEGIN:VEVENT
DTSTART;VALUE=DATE:20170224
DTEND;VALUE=DATE:20170225
DTSTAMP:20260421T235322
CREATED:20170131T115224Z
LAST-MODIFIED:20170131T115245Z
UID:6255-1487894400-1487980799@www.bowling.rybnik.pl
SUMMARY:CzLB - integracja
DESCRIPTION:„Bowlingowe ostatki” – Czechowice-Dziedzice ChaCharnia godz. 18.00
URL:http://www.bowling.rybnik.pl/turnieje/czlb-integracja/
LOCATION:ChaCharnia – Czechowice Dziedzice\, Ul.Legionów 83\, Czechowice-Dziedzice\, śląskie\, Polska
ATTACH;FMTTYPE=image/png:http://www.bowling.rybnik.pl/wp-content/uploads/2016/12/turniej-noworoczny-2017.png
END:VEVENT
BEGIN:VEVENT
DTSTART;VALUE=DATE:20170220
DTEND;VALUE=DATE:20170221
DTSTAMP:20260421T235322
CREATED:20161227T083122Z
LAST-MODIFIED:20161227T083122Z
UID:6079-1487548800-1487635199@www.bowling.rybnik.pl
SUMMARY:RyBoL
DESCRIPTION:Rybnicka Bowlingowa Liga” RYBNIK godz. 16.45
URL:http://www.bowling.rybnik.pl/turnieje/rybol-48/
LOCATION:PINK – Rybnik\, Raciborska 16\, Rybnik\, śląskie\, 44-200\, Polska
ATTACH;FMTTYPE=image/png:http://www.bowling.rybnik.pl/wp-content/uploads/2015/10/Zdjęcie-sekcji.png
END:VEVENT
BEGIN:VEVENT
DTSTART;VALUE=DATE:20170216
DTEND;VALUE=DATE:20170217
DTSTAMP:20260421T235322
CREATED:20170130T224534Z
LAST-MODIFIED:20170130T224534Z
UID:6226-1487203200-1487289599@www.bowling.rybnik.pl
SUMMARY:CzLB
DESCRIPTION:„Czechowicka Liga Bowlingowa” CZECHOWICE-DZIEDZICE godz. 17.45
URL:http://www.bowling.rybnik.pl/turnieje/czlb-24/
LOCATION:ChaCharnia – Czechowice Dziedzice\, Ul.Legionów 83\, Czechowice-Dziedzice\, śląskie\, Polska
ATTACH;FMTTYPE=image/png:http://www.bowling.rybnik.pl/wp-content/uploads/2015/10/Zdjęcie-w-nowych-koszulkach.png
END:VEVENT
BEGIN:VEVENT
DTSTART;VALUE=DATE:20170213
DTEND;VALUE=DATE:20170214
DTSTAMP:20260421T235322
CREATED:20161227T083204Z
LAST-MODIFIED:20161227T083204Z
UID:6081-1486944000-1487030399@www.bowling.rybnik.pl
SUMMARY:RyBoL
DESCRIPTION:Rybnicka Bowlingowa Liga” RYBNIK godz. 16.45
URL:http://www.bowling.rybnik.pl/turnieje/rybol-49/
LOCATION:PINK – Rybnik\, Raciborska 16\, Rybnik\, śląskie\, 44-200\, Polska
ATTACH;FMTTYPE=image/png:http://www.bowling.rybnik.pl/wp-content/uploads/2015/10/Zdjęcie-sekcji.png
END:VEVENT
BEGIN:VEVENT
DTSTART;VALUE=DATE:20170211
DTEND;VALUE=DATE:20170212
DTSTAMP:20260421T235322
CREATED:20170131T114732Z
LAST-MODIFIED:20170131T114942Z
UID:6253-1486771200-1486857599@www.bowling.rybnik.pl
SUMMARY:TW
DESCRIPTION:Bowlingowy Turniej Walentynkowy RYBNI – PINK  11 02 2017 godz. 11.00
URL:http://www.bowling.rybnik.pl/turnieje/tw-2/
LOCATION:PINK – Rybnik\, Raciborska 16\, Rybnik\, śląskie\, 44-200\, Polska
ATTACH;FMTTYPE=image/png:http://www.bowling.rybnik.pl/wp-content/uploads/2017/01/RyBoL-turniej-walentynkowy-2017.png
END:VEVENT
BEGIN:VEVENT
DTSTART;VALUE=DATE:20170207
DTEND;VALUE=DATE:20170208
DTSTAMP:20260421T235322
CREATED:20170113T095727Z
LAST-MODIFIED:20170113T100239Z
UID:6200-1486425600-1486511999@www.bowling.rybnik.pl
SUMMARY:ABL 4liga
DESCRIPTION:ABL 4 liga TRZYNIEC godz. 16.45
URL:http://www.bowling.rybnik.pl/turnieje/6200/
LOCATION:Gaja centrum – Trzyniec\, Lidická 1269\, Třinec\, 739 61\, Czech Republic
ATTACH;FMTTYPE=image/png:http://www.bowling.rybnik.pl/wp-content/uploads/2016/11/ABL-logo.png
END:VEVENT
BEGIN:VEVENT
DTSTART;VALUE=DATE:20170206
DTEND;VALUE=DATE:20170207
DTSTAMP:20260421T235322
CREATED:20161227T083028Z
LAST-MODIFIED:20161227T083028Z
UID:6077-1486339200-1486425599@www.bowling.rybnik.pl
SUMMARY:RyBoL
DESCRIPTION:Rybnicka Bowlingowa Liga” RYBNIK godz. 16.45
URL:http://www.bowling.rybnik.pl/turnieje/rybol-47/
LOCATION:PINK – Rybnik\, Raciborska 16\, Rybnik\, śląskie\, 44-200\, Polska
ATTACH;FMTTYPE=image/png:http://www.bowling.rybnik.pl/wp-content/uploads/2015/10/Zdjęcie-sekcji.png
END:VEVENT
BEGIN:VEVENT
DTSTART;VALUE=DATE:20170202
DTEND;VALUE=DATE:20170203
DTSTAMP:20260421T235322
CREATED:20170130T224412Z
LAST-MODIFIED:20170130T224412Z
UID:6224-1485993600-1486079999@www.bowling.rybnik.pl
SUMMARY:CzLB
DESCRIPTION:„Czechowicka Liga Bowlingowa” CZECHOWICE-DZIEDZICE godz. 17.45
URL:http://www.bowling.rybnik.pl/turnieje/czlb-23/
LOCATION:ChaCharnia – Czechowice Dziedzice\, Ul.Legionów 83\, Czechowice-Dziedzice\, śląskie\, Polska
ATTACH;FMTTYPE=image/png:http://www.bowling.rybnik.pl/wp-content/uploads/2015/10/Zdjęcie-w-nowych-koszulkach.png
END:VEVENT
BEGIN:VEVENT
DTSTART;VALUE=DATE:20170130
DTEND;VALUE=DATE:20170131
DTSTAMP:20260421T235322
CREATED:20161227T082943Z
LAST-MODIFIED:20161227T082943Z
UID:6075-1485734400-1485820799@www.bowling.rybnik.pl
SUMMARY:RyBoL
DESCRIPTION:Rybnicka Bowlingowa Liga” RYBNIK godz. 16.45
URL:http://www.bowling.rybnik.pl/turnieje/rybol-46/
LOCATION:PINK – Rybnik\, Raciborska 16\, Rybnik\, śląskie\, 44-200\, Polska
ATTACH;FMTTYPE=image/png:http://www.bowling.rybnik.pl/wp-content/uploads/2015/10/Zdjęcie-sekcji.png
END:VEVENT
BEGIN:VEVENT
DTSTART;VALUE=DATE:20170126
DTEND;VALUE=DATE:20170127
DTSTAMP:20260421T235322
CREATED:20161119T174259Z
LAST-MODIFIED:20170113T100314Z
UID:5606-1485388800-1485475199@www.bowling.rybnik.pl
SUMMARY:ABL 4liga
DESCRIPTION:ABL 4 liga TRZYNIEC godz. 16.45
URL:http://www.bowling.rybnik.pl/turnieje/czlb-21/
LOCATION:Gaja centrum – Trzyniec\, Lidická 1269\, Třinec\, 739 61\, Czech Republic
ATTACH;FMTTYPE=image/png:http://www.bowling.rybnik.pl/wp-content/uploads/2016/11/ABL-logo.png
END:VEVENT
BEGIN:VEVENT
DTSTART;VALUE=DATE:20170123
DTEND;VALUE=DATE:20170124
DTSTAMP:20260421T235322
CREATED:20170113T095431Z
LAST-MODIFIED:20170113T095431Z
UID:6198-1485129600-1485215999@www.bowling.rybnik.pl
SUMMARY:CzLB
DESCRIPTION:” Czechowicka Liga Bowlingowa” KATOWICE godz. 17.15
URL:http://www.bowling.rybnik.pl/turnieje/czlb-22/
LOCATION:GRAVITACJA – Katowice\, ul. Gliwicka 44\, Katowice\, Polska
ATTACH;FMTTYPE=image/png:http://www.bowling.rybnik.pl/wp-content/uploads/2015/10/Zdjęcie-w-nowych-koszulkach.png
END:VEVENT
BEGIN:VEVENT
DTSTART;VALUE=DATE:20170123
DTEND;VALUE=DATE:20170124
DTSTAMP:20260421T235322
CREATED:20161227T082905Z
LAST-MODIFIED:20170113T095149Z
UID:6073-1485129600-1485215999@www.bowling.rybnik.pl
SUMMARY:RyBoL
DESCRIPTION:Rybnicka Bowlingowa Liga” KATOWICE godz. 17.15
URL:http://www.bowling.rybnik.pl/turnieje/rybol-45/
LOCATION:PINK – Rybnik\, Raciborska 16\, Rybnik\, śląskie\, 44-200\, Polska
ATTACH;FMTTYPE=image/png:http://www.bowling.rybnik.pl/wp-content/uploads/2015/10/Zdjęcie-sekcji.png
END:VEVENT
BEGIN:VEVENT
DTSTART;VALUE=DATE:20170116
DTEND;VALUE=DATE:20170117
DTSTAMP:20260421T235322
CREATED:20161227T082807Z
LAST-MODIFIED:20161227T082807Z
UID:6071-1484524800-1484611199@www.bowling.rybnik.pl
SUMMARY:RyBoL
DESCRIPTION:Rybnicka Bowlingowa Liga” RYBNIK godz. 16.45
URL:http://www.bowling.rybnik.pl/turnieje/rybol-44/
LOCATION:PINK – Rybnik\, Raciborska 16\, Rybnik\, śląskie\, 44-200\, Polska
ATTACH;FMTTYPE=image/png:http://www.bowling.rybnik.pl/wp-content/uploads/2015/10/Zdjęcie-sekcji.png
END:VEVENT
BEGIN:VEVENT
DTSTART;VALUE=DATE:20170112
DTEND;VALUE=DATE:20170113
DTSTAMP:20260421T235322
CREATED:20161119T174151Z
LAST-MODIFIED:20161119T174211Z
UID:5603-1484179200-1484265599@www.bowling.rybnik.pl
SUMMARY:CzLB
DESCRIPTION:„Czechowicka Liga Bowlingowa” CZECHOWICE-DZIEDZICE godz. 17.45
URL:http://www.bowling.rybnik.pl/turnieje/czlb-20/
LOCATION:ChaCharnia – Czechowice Dziedzice\, Ul.Legionów 83\, Czechowice-Dziedzice\, śląskie\, Polska
ATTACH;FMTTYPE=image/png:http://www.bowling.rybnik.pl/wp-content/uploads/2015/10/Zdjęcie-w-nowych-koszulkach.png
END:VEVENT
BEGIN:VEVENT
DTSTART;VALUE=DATE:20170111
DTEND;VALUE=DATE:20170112
DTSTAMP:20260421T235322
CREATED:20161227T084130Z
LAST-MODIFIED:20161227T084130Z
UID:6088-1484092800-1484179199@www.bowling.rybnik.pl
SUMMARY:MT
DESCRIPTION:„Mistrzostwa Trzyńca ABL” TRZYNIEC godz. 16.45
URL:http://www.bowling.rybnik.pl/turnieje/mt-2/
LOCATION:Gaja centrum – Trzyniec\, Lidická 1269\, Třinec\, 739 61\, Czech Republic
END:VEVENT
BEGIN:VEVENT
DTSTART;VALUE=DATE:20170110
DTEND;VALUE=DATE:20170111
DTSTAMP:20260421T235322
CREATED:20161227T084054Z
LAST-MODIFIED:20161227T084054Z
UID:6086-1484006400-1484092799@www.bowling.rybnik.pl
SUMMARY:MT
DESCRIPTION:„Mistrzostwa Trzyńca ABL” TRZYNIEC godz. 16.45
URL:http://www.bowling.rybnik.pl/turnieje/mt/
LOCATION:Gaja centrum – Trzyniec\, Lidická 1269\, Třinec\, 739 61\, Czech Republic
END:VEVENT
BEGIN:VEVENT
DTSTART;VALUE=DATE:20170109
DTEND;VALUE=DATE:20170110
DTSTAMP:20260421T235323
CREATED:20161227T082641Z
LAST-MODIFIED:20161227T082641Z
UID:6069-1483920000-1484006399@www.bowling.rybnik.pl
SUMMARY:RyBoL
DESCRIPTION:Rybnicka Bowlingowa Liga” RYBNIK godz. 16.45
URL:http://www.bowling.rybnik.pl/turnieje/rybol-43/
LOCATION:PINK – Rybnik\, Raciborska 16\, Rybnik\, śląskie\, 44-200\, Polska
ATTACH;FMTTYPE=image/png:http://www.bowling.rybnik.pl/wp-content/uploads/2015/10/Zdjęcie-sekcji.png
END:VEVENT
BEGIN:VEVENT
DTSTART;VALUE=DATE:20170107
DTEND;VALUE=DATE:20170108
DTSTAMP:20260421T235323
CREATED:20170103T103633Z
LAST-MODIFIED:20170103T103855Z
UID:6140-1483747200-1483833599@www.bowling.rybnik.pl
SUMMARY:NTB
DESCRIPTION:” Noworoczny Turniej Bowlingowy 2017″ Łaziska godz. 10.30
URL:http://www.bowling.rybnik.pl/turnieje/tnb/
LOCATION:MOSiR Łaziska\, ul. Ogrodowa 50\, Łaziska Górne\, Polska
ATTACH;FMTTYPE=image/png:http://www.bowling.rybnik.pl/wp-content/uploads/2016/12/turniej-noworoczny-2017.png
END:VEVENT
BEGIN:VEVENT
DTSTART;VALUE=DATE:20170102
DTEND;VALUE=DATE:20170103
DTSTAMP:20260421T235323
CREATED:20161227T082509Z
LAST-MODIFIED:20170103T103812Z
UID:6066-1483315200-1483401599@www.bowling.rybnik.pl
SUMMARY:NTB
DESCRIPTION:„Noworoczny turniej bowlingowy 2017” Czechowic-Dziedzice godz. 16.45
URL:http://www.bowling.rybnik.pl/turnieje/nt/
LOCATION:ChaCharnia – Czechowice Dziedzice\, Ul.Legionów 83\, Czechowice-Dziedzice\, śląskie\, Polska
ATTACH;FMTTYPE=image/png:http://www.bowling.rybnik.pl/wp-content/uploads/2016/12/turniej-noworoczny-2017.png
END:VEVENT
BEGIN:VEVENT
DTSTART;VALUE=DATE:20161228
DTEND;VALUE=DATE:20161229
DTSTAMP:20260421T235323
CREATED:20161227T082235Z
LAST-MODIFIED:20161227T082235Z
UID:6062-1482883200-1482969599@www.bowling.rybnik.pl
SUMMARY:TS
DESCRIPTION:„Sylwestrowy turniej bowlingowy” Czechowice-Dziedzice godz. 15.00\, 17.30
URL:http://www.bowling.rybnik.pl/turnieje/ts/
LOCATION:ChaCharnia – Czechowice Dziedzice\, Ul.Legionów 83\, Czechowice-Dziedzice\, śląskie\, Polska
ATTACH;FMTTYPE=image/png:http://www.bowling.rybnik.pl/wp-content/uploads/2016/03/ŚLB-2016-plakat.png
END:VEVENT
BEGIN:VEVENT
DTSTART;VALUE=DATE:20161227
DTEND;VALUE=DATE:20161228
DTSTAMP:20260421T235323
CREATED:20161227T082332Z
LAST-MODIFIED:20161227T082332Z
UID:6064-1482796800-1482883199@www.bowling.rybnik.pl
SUMMARY:TS
DESCRIPTION:„Sylwestrowy turniej bowlingowy” Czechowice-Dziedzice godz. 18.00
URL:http://www.bowling.rybnik.pl/turnieje/ts-2/
LOCATION:ChaCharnia – Czechowice Dziedzice\, Ul.Legionów 83\, Czechowice-Dziedzice\, śląskie\, Polska
ATTACH;FMTTYPE=image/png:http://www.bowling.rybnik.pl/wp-content/uploads/2016/03/ŚLB-2016-plakat.png
END:VEVENT
BEGIN:VEVENT
DTSTART;VALUE=DATE:20161215
DTEND;VALUE=DATE:20161216
DTSTAMP:20260421T235323
CREATED:20161008T112132Z
LAST-MODIFIED:20161008T112132Z
UID:5460-1481760000-1481846399@www.bowling.rybnik.pl
SUMMARY:CzLB
DESCRIPTION:„Czechowicka Liga Bowlingowa” CZECHOWICE-DZIEDZICE godz. 17.45
URL:http://www.bowling.rybnik.pl/turnieje/czlb-19/
LOCATION:ChaCharnia – Czechowice Dziedzice\, Ul.Legionów 83\, Czechowice-Dziedzice\, śląskie\, Polska
ATTACH;FMTTYPE=image/png:http://www.bowling.rybnik.pl/wp-content/uploads/2015/10/Zdjęcie-w-nowych-koszulkach.png
END:VEVENT
BEGIN:VEVENT
DTSTART;VALUE=DATE:20161213
DTEND;VALUE=DATE:20161214
DTSTAMP:20260421T235323
CREATED:20161026T055405Z
LAST-MODIFIED:20161026T055405Z
UID:5560-1481587200-1481673599@www.bowling.rybnik.pl
SUMMARY:ŚLB
DESCRIPTION:„Śląska Liga Bowlingowa” Czechowice-Dziedzice godz. 18.15
URL:http://www.bowling.rybnik.pl/turnieje/slb-50/
LOCATION:ChaCharnia – Czechowice Dziedzice\, Ul.Legionów 83\, Czechowice-Dziedzice\, śląskie\, Polska
ATTACH;FMTTYPE=image/png:http://www.bowling.rybnik.pl/wp-content/uploads/2016/03/ŚLB-2016-plakat.png
END:VEVENT
BEGIN:VEVENT
DTSTART;VALUE=DATE:20161212
DTEND;VALUE=DATE:20161213
DTSTAMP:20260421T235323
CREATED:20161008T130903Z
LAST-MODIFIED:20161008T130903Z
UID:5472-1481500800-1481587199@www.bowling.rybnik.pl
SUMMARY:RyBoL
DESCRIPTION:„Rybnicka Bowlingowa Liga” RYBNIK godz. 16.45
URL:http://www.bowling.rybnik.pl/turnieje/rybol-42/
LOCATION:PINK – Rybnik\, Raciborska 16\, Rybnik\, śląskie\, 44-200\, Polska
ATTACH;FMTTYPE=image/png:http://www.bowling.rybnik.pl/wp-content/uploads/2015/10/Zdjęcie-sekcji.png
END:VEVENT
BEGIN:VEVENT
DTSTART;VALUE=DATE:20161212
DTEND;VALUE=DATE:20161213
DTSTAMP:20260421T235323
CREATED:20161026T055326Z
LAST-MODIFIED:20161026T055326Z
UID:5558-1481500800-1481587199@www.bowling.rybnik.pl
SUMMARY:ŚLB
DESCRIPTION:„Śląska Liga Bowlingowa” Czechowice-Dziedzice godz. 18.15
URL:http://www.bowling.rybnik.pl/turnieje/slb-49/
LOCATION:ChaCharnia – Czechowice Dziedzice\, Ul.Legionów 83\, Czechowice-Dziedzice\, śląskie\, Polska
ATTACH;FMTTYPE=image/png:http://www.bowling.rybnik.pl/wp-content/uploads/2016/03/ŚLB-2016-plakat.png
END:VEVENT
BEGIN:VEVENT
DTSTART;VALUE=DATE:20161210
DTEND;VALUE=DATE:20161211
DTSTAMP:20260421T235323
CREATED:20161129T082028Z
LAST-MODIFIED:20161129T082314Z
UID:5623-1481328000-1481414399@www.bowling.rybnik.pl
SUMMARY:ATP
DESCRIPTION:„Andrzejkowy Bowlingowy Turniej Par” – rywalizują pary damsko – męskie. Łaziska Górne godz. 10.00
URL:http://www.bowling.rybnik.pl/turnieje/atp/
LOCATION:MOSiR Łaziska\, ul. Ogrodowa 50\, Łaziska Górne\, Polska
ATTACH;FMTTYPE=image/png:http://www.bowling.rybnik.pl/wp-content/uploads/2016/09/Logo-Laziska.png
END:VEVENT
BEGIN:VEVENT
DTSTART;VALUE=DATE:20161207
DTEND;VALUE=DATE:20161208
DTSTAMP:20260421T235323
CREATED:20160827T193426Z
LAST-MODIFIED:20160827T193426Z
UID:5300-1481068800-1481155199@www.bowling.rybnik.pl
SUMMARY:ABL 4liga
DESCRIPTION:TRZYNIEC godz. 17.00
URL:http://www.bowling.rybnik.pl/turnieje/abl-4liga-5/
LOCATION:Gaja centrum – Trzyniec\, Lidická 1269\, Třinec\, 739 61\, Czech Republic
ATTACH;FMTTYPE=image/png:http://www.bowling.rybnik.pl/wp-content/uploads/2016/08/GRYFNR-GIZFY.png
END:VEVENT
BEGIN:VEVENT
DTSTART;VALUE=DATE:20161206
DTEND;VALUE=DATE:20161207
DTSTAMP:20260421T235323
CREATED:20160822T130442Z
LAST-MODIFIED:20160822T130442Z
UID:5284-1480982400-1481068799@www.bowling.rybnik.pl
SUMMARY:ABL 5liga
DESCRIPTION:TRZYNIEC godz. 17.00
URL:http://www.bowling.rybnik.pl/turnieje/abl-5liga-9/
LOCATION:śląskie
ATTACH;FMTTYPE=image/png:http://www.bowling.rybnik.pl/wp-content/uploads/2016/02/ABL-zdjęcia-w-nowych-koszulkach-03-11-2015.png
END:VEVENT
END:VCALENDAR