BEGIN:VCALENDAR
VERSION:2.0
PRODID:-//Sekcja Bowlingu - Rybnik - ECPv6.8.0//NONSGML v1.0//EN
CALSCALE:GREGORIAN
METHOD:PUBLISH
X-WR-CALNAME:Sekcja Bowlingu - Rybnik
X-ORIGINAL-URL:http://www.bowling.rybnik.pl
X-WR-CALDESC:Events for Sekcja Bowlingu - Rybnik
REFRESH-INTERVAL;VALUE=DURATION:PT1H
X-Robots-Tag:noindex
X-PUBLISHED-TTL:PT1H
BEGIN:VTIMEZONE
TZID:Europe/Warsaw
BEGIN:DAYLIGHT
TZOFFSETFROM:+0100
TZOFFSETTO:+0200
TZNAME:CEST
DTSTART:20160327T010000
END:DAYLIGHT
BEGIN:STANDARD
TZOFFSETFROM:+0200
TZOFFSETTO:+0100
TZNAME:CET
DTSTART:20161030T010000
END:STANDARD
END:VTIMEZONE
BEGIN:VEVENT
DTSTART;VALUE=DATE:20161206
DTEND;VALUE=DATE:20161207
DTSTAMP:20260422T024059
CREATED:20161026T055240Z
LAST-MODIFIED:20161026T055240Z
UID:5556-1480982400-1481068799@www.bowling.rybnik.pl
SUMMARY:ŚLB
DESCRIPTION:„Śląska Liga Bowlingowa” Czechowice-Dziedzice godz. 18.15
URL:http://www.bowling.rybnik.pl/turnieje/slb-48/
LOCATION:ChaCharnia – Czechowice Dziedzice\, Ul.Legionów 83\, Czechowice-Dziedzice\, śląskie\, Polska
ATTACH;FMTTYPE=image/png:http://www.bowling.rybnik.pl/wp-content/uploads/2016/03/ŚLB-2016-plakat.png
END:VEVENT
BEGIN:VEVENT
DTSTART;VALUE=DATE:20161205
DTEND;VALUE=DATE:20161206
DTSTAMP:20260422T024059
CREATED:20161008T130748Z
LAST-MODIFIED:20161008T130748Z
UID:5470-1480896000-1480982399@www.bowling.rybnik.pl
SUMMARY:RyBoL
DESCRIPTION:„Rybnicka Bowlingowa Liga” RYBNIK godz. 16.45
URL:http://www.bowling.rybnik.pl/turnieje/rybol-41/
LOCATION:PINK – Rybnik\, Raciborska 16\, Rybnik\, śląskie\, 44-200\, Polska
ATTACH;FMTTYPE=image/png:http://www.bowling.rybnik.pl/wp-content/uploads/2015/10/Zdjęcie-sekcji.png
END:VEVENT
BEGIN:VEVENT
DTSTART;VALUE=DATE:20161205
DTEND;VALUE=DATE:20161206
DTSTAMP:20260422T024059
CREATED:20161026T055207Z
LAST-MODIFIED:20161026T055207Z
UID:5554-1480896000-1480982399@www.bowling.rybnik.pl
SUMMARY:ŚLB
DESCRIPTION:„Śląska Liga Bowlingowa” Czechowice-Dziedzice godz. 18.15
URL:http://www.bowling.rybnik.pl/turnieje/slb-47/
LOCATION:ChaCharnia – Czechowice Dziedzice\, Ul.Legionów 83\, Czechowice-Dziedzice\, śląskie\, Polska
ATTACH;FMTTYPE=image/png:http://www.bowling.rybnik.pl/wp-content/uploads/2016/03/ŚLB-2016-plakat.png
END:VEVENT
BEGIN:VEVENT
DTSTART;VALUE=DATE:20161203
DTEND;VALUE=DATE:20161204
DTSTAMP:20260422T024059
CREATED:20160927T065036Z
LAST-MODIFIED:20160927T065036Z
UID:5419-1480723200-1480809599@www.bowling.rybnik.pl
SUMMARY:SLB
DESCRIPTION:„Sobotnia Liga Bowlingowa” Łaziska Górne godz. 10.00
URL:http://www.bowling.rybnik.pl/turnieje/slb-40/
LOCATION:MOSiR Łaziska\, ul. Ogrodowa 50\, Łaziska Górne\, Polska
ATTACH;FMTTYPE=image/png:http://www.bowling.rybnik.pl/wp-content/uploads/2016/09/Logo-Laziska.png
END:VEVENT
BEGIN:VEVENT
DTSTART;VALUE=DATE:20161201
DTEND;VALUE=DATE:20161202
DTSTAMP:20260422T024059
CREATED:20161008T112053Z
LAST-MODIFIED:20161008T112053Z
UID:5458-1480550400-1480636799@www.bowling.rybnik.pl
SUMMARY:CzLB
DESCRIPTION:„Czechowicka Liga Bowlingowa” CZECHOWICE-DZIEDZICE godz. 17.45
URL:http://www.bowling.rybnik.pl/turnieje/czlb-18/
LOCATION:ChaCharnia – Czechowice Dziedzice\, Ul.Legionów 83\, Czechowice-Dziedzice\, śląskie\, Polska
ATTACH;FMTTYPE=image/png:http://www.bowling.rybnik.pl/wp-content/uploads/2015/10/Zdjęcie-w-nowych-koszulkach.png
END:VEVENT
BEGIN:VEVENT
DTSTART;VALUE=DATE:20161129
DTEND;VALUE=DATE:20161130
DTSTAMP:20260422T024059
CREATED:20161026T055015Z
LAST-MODIFIED:20161026T055015Z
UID:5552-1480377600-1480463999@www.bowling.rybnik.pl
SUMMARY:ŚLB
DESCRIPTION:„Śląska Liga Bowlingowa” Czechowice-Dziedzice godz. 18.15
URL:http://www.bowling.rybnik.pl/turnieje/slb-46/
LOCATION:ChaCharnia – Czechowice Dziedzice\, Ul.Legionów 83\, Czechowice-Dziedzice\, śląskie\, Polska
ATTACH;FMTTYPE=image/png:http://www.bowling.rybnik.pl/wp-content/uploads/2016/03/ŚLB-2016-plakat.png
END:VEVENT
BEGIN:VEVENT
DTSTART;VALUE=DATE:20161128
DTEND;VALUE=DATE:20161129
DTSTAMP:20260422T024059
CREATED:20161008T112533Z
LAST-MODIFIED:20161008T112533Z
UID:5468-1480291200-1480377599@www.bowling.rybnik.pl
SUMMARY:RyBoL
DESCRIPTION:„Rybnicka Bowlingowa Liga” RYBNIK godz. 16.45
URL:http://www.bowling.rybnik.pl/turnieje/rybol-40/
LOCATION:PINK – Rybnik\, Raciborska 16\, Rybnik\, śląskie\, 44-200\, Polska
ATTACH;FMTTYPE=image/png:http://www.bowling.rybnik.pl/wp-content/uploads/2015/10/Zdjęcie-sekcji.png
END:VEVENT
BEGIN:VEVENT
DTSTART;VALUE=DATE:20161128
DTEND;VALUE=DATE:20161129
DTSTAMP:20260422T024059
CREATED:20161026T054942Z
LAST-MODIFIED:20161026T054942Z
UID:5550-1480291200-1480377599@www.bowling.rybnik.pl
SUMMARY:ŚLB
DESCRIPTION:„Śląska Liga Bowlingowa” Czechowice-Dziedzice godz. 18.15
URL:http://www.bowling.rybnik.pl/turnieje/slb-45/
LOCATION:ChaCharnia – Czechowice Dziedzice\, Ul.Legionów 83\, Czechowice-Dziedzice\, śląskie\, Polska
ATTACH;FMTTYPE=image/png:http://www.bowling.rybnik.pl/wp-content/uploads/2016/03/ŚLB-2016-plakat.png
END:VEVENT
BEGIN:VEVENT
DTSTART;VALUE=DATE:20161126
DTEND;VALUE=DATE:20161127
DTSTAMP:20260422T024059
CREATED:20160927T065000Z
LAST-MODIFIED:20160927T065000Z
UID:5417-1480118400-1480204799@www.bowling.rybnik.pl
SUMMARY:SLB
DESCRIPTION:„Sobotnia Liga Bowlingowa” Łaziska Górne godz. 10.00
URL:http://www.bowling.rybnik.pl/turnieje/slb-39/
LOCATION:MOSiR Łaziska\, ul. Ogrodowa 50\, Łaziska Górne\, Polska
ATTACH;FMTTYPE=image/png:http://www.bowling.rybnik.pl/wp-content/uploads/2016/09/Logo-Laziska.png
END:VEVENT
BEGIN:VEVENT
DTSTART;VALUE=DATE:20161122
DTEND;VALUE=DATE:20161123
DTSTAMP:20260422T024059
CREATED:20161026T054855Z
LAST-MODIFIED:20161026T054855Z
UID:5548-1479772800-1479859199@www.bowling.rybnik.pl
SUMMARY:ŚLB
DESCRIPTION:„Śląska Liga Bowlingowa” Czechowice-Dziedzice godz. 18.15
URL:http://www.bowling.rybnik.pl/turnieje/slb-44/
LOCATION:ChaCharnia – Czechowice Dziedzice\, Ul.Legionów 83\, Czechowice-Dziedzice\, śląskie\, Polska
ATTACH;FMTTYPE=image/png:http://www.bowling.rybnik.pl/wp-content/uploads/2016/03/ŚLB-2016-plakat.png
END:VEVENT
BEGIN:VEVENT
DTSTART;VALUE=DATE:20161121
DTEND;VALUE=DATE:20161122
DTSTAMP:20260422T024059
CREATED:20161008T112436Z
LAST-MODIFIED:20161008T112436Z
UID:5466-1479686400-1479772799@www.bowling.rybnik.pl
SUMMARY:RyBoL
DESCRIPTION:„Rybnicka Bowlingowa Liga” RYBNIK godz. 16.45
URL:http://www.bowling.rybnik.pl/turnieje/rybol-39/
LOCATION:PINK – Rybnik\, Raciborska 16\, Rybnik\, śląskie\, 44-200\, Polska
ATTACH;FMTTYPE=image/png:http://www.bowling.rybnik.pl/wp-content/uploads/2015/10/Zdjęcie-sekcji.png
END:VEVENT
BEGIN:VEVENT
DTSTART;VALUE=DATE:20161121
DTEND;VALUE=DATE:20161122
DTSTAMP:20260422T024059
CREATED:20161026T054754Z
LAST-MODIFIED:20161026T054754Z
UID:5546-1479686400-1479772799@www.bowling.rybnik.pl
SUMMARY:ŚLB
DESCRIPTION:„Śląska Liga Bowlingowa” Czechowice-Dziedzice godz. 18.15
URL:http://www.bowling.rybnik.pl/turnieje/slb-43/
LOCATION:ChaCharnia – Czechowice Dziedzice\, Ul.Legionów 83\, Czechowice-Dziedzice\, śląskie\, Polska
ATTACH;FMTTYPE=image/png:http://www.bowling.rybnik.pl/wp-content/uploads/2016/03/ŚLB-2016-plakat.png
END:VEVENT
BEGIN:VEVENT
DTSTART;VALUE=DATE:20161119
DTEND;VALUE=DATE:20161120
DTSTAMP:20260422T024059
CREATED:20160927T064859Z
LAST-MODIFIED:20160927T064859Z
UID:5415-1479513600-1479599999@www.bowling.rybnik.pl
SUMMARY:SLB
DESCRIPTION:„Sobotnia Liga Bowlingowa” Łaziska Górne godz. 10.00
URL:http://www.bowling.rybnik.pl/turnieje/slb-38/
LOCATION:MOSiR Łaziska\, ul. Ogrodowa 50\, Łaziska Górne\, Polska
ATTACH;FMTTYPE=image/png:http://www.bowling.rybnik.pl/wp-content/uploads/2016/09/Logo-Laziska.png
END:VEVENT
BEGIN:VEVENT
DTSTART;VALUE=DATE:20161117
DTEND;VALUE=DATE:20161118
DTSTAMP:20260422T024059
CREATED:20161008T112012Z
LAST-MODIFIED:20161008T112012Z
UID:5456-1479340800-1479427199@www.bowling.rybnik.pl
SUMMARY:CzLB
DESCRIPTION:„Czechowicka Liga Bowlingowa” CZECHOWICE-DZIEDZICE godz. 17.45
URL:http://www.bowling.rybnik.pl/turnieje/czlb-17/
LOCATION:ChaCharnia – Czechowice Dziedzice\, Ul.Legionów 83\, Czechowice-Dziedzice\, śląskie\, Polska
ATTACH;FMTTYPE=image/png:http://www.bowling.rybnik.pl/wp-content/uploads/2015/10/Zdjęcie-w-nowych-koszulkach.png
END:VEVENT
BEGIN:VEVENT
DTSTART;VALUE=DATE:20161116
DTEND;VALUE=DATE:20161117
DTSTAMP:20260422T024059
CREATED:20160827T193312Z
LAST-MODIFIED:20160827T193312Z
UID:5298-1479254400-1479340799@www.bowling.rybnik.pl
SUMMARY:ABL 4liga
DESCRIPTION:TRZYNIEC godz. 17.00
URL:http://www.bowling.rybnik.pl/turnieje/abl-4liga-4/
LOCATION:Gaja centrum – Trzyniec\, Lidická 1269\, Třinec\, 739 61\, Czech Republic
ATTACH;FMTTYPE=image/png:http://www.bowling.rybnik.pl/wp-content/uploads/2016/08/GRYFNR-GIZFY.png
END:VEVENT
BEGIN:VEVENT
DTSTART;VALUE=DATE:20161115
DTEND;VALUE=DATE:20161116
DTSTAMP:20260422T024059
CREATED:20161026T054707Z
LAST-MODIFIED:20161026T054707Z
UID:5544-1479168000-1479254399@www.bowling.rybnik.pl
SUMMARY:ŚLB
DESCRIPTION:„Śląska Liga Bowlingowa” Czechowice-Dziedzice godz. 18.15
URL:http://www.bowling.rybnik.pl/turnieje/slb-42/
LOCATION:ChaCharnia – Czechowice Dziedzice\, Ul.Legionów 83\, Czechowice-Dziedzice\, śląskie\, Polska
ATTACH;FMTTYPE=image/png:http://www.bowling.rybnik.pl/wp-content/uploads/2016/03/ŚLB-2016-plakat.png
END:VEVENT
BEGIN:VEVENT
DTSTART;VALUE=DATE:20161114
DTEND;VALUE=DATE:20161115
DTSTAMP:20260422T024059
CREATED:20161008T112358Z
LAST-MODIFIED:20161024T185046Z
UID:5464-1479081600-1479167999@www.bowling.rybnik.pl
SUMMARY:RyBoL
DESCRIPTION:„Rybnicka Bowlingowa Liga” KATOWICE godz. 17.15
URL:http://www.bowling.rybnik.pl/turnieje/rybol-38/
LOCATION:PINK – Rybnik\, Raciborska 16\, Rybnik\, śląskie\, 44-200\, Polska
ATTACH;FMTTYPE=image/png:http://www.bowling.rybnik.pl/wp-content/uploads/2015/10/Zdjęcie-sekcji.png
END:VEVENT
BEGIN:VEVENT
DTSTART;VALUE=DATE:20161114
DTEND;VALUE=DATE:20161115
DTSTAMP:20260422T024059
CREATED:20161026T054621Z
LAST-MODIFIED:20161026T054621Z
UID:5542-1479081600-1479167999@www.bowling.rybnik.pl
SUMMARY:ŚLB
DESCRIPTION:„Śląska Liga Bowlingowa” Czechowice-Dziedzice godz. 18.15
URL:http://www.bowling.rybnik.pl/turnieje/slb-41/
LOCATION:ChaCharnia – Czechowice Dziedzice\, Ul.Legionów 83\, Czechowice-Dziedzice\, śląskie\, Polska
ATTACH;FMTTYPE=image/png:http://www.bowling.rybnik.pl/wp-content/uploads/2016/03/ŚLB-2016-plakat.png
END:VEVENT
BEGIN:VEVENT
DTSTART;VALUE=DATE:20161111
DTEND;VALUE=DATE:20161112
DTSTAMP:20260422T024059
CREATED:20161109T132344Z
LAST-MODIFIED:20161109T132344Z
UID:5593-1478822400-1478908799@www.bowling.rybnik.pl
SUMMARY:TDN
DESCRIPTION:Turniej bowlingowy „DZIEŃ NIEPODLEGŁOŚCI” –  Łaziska godz.19.00
URL:http://www.bowling.rybnik.pl/turnieje/tdn/
LOCATION:MOSiR Łaziska\, ul. Ogrodowa 50\, Łaziska Górne\, Polska
ATTACH;FMTTYPE=image/png:http://www.bowling.rybnik.pl/wp-content/uploads/2016/09/Logo-Laziska.png
END:VEVENT
BEGIN:VEVENT
DTSTART;VALUE=DATE:20161110
DTEND;VALUE=DATE:20161111
DTSTAMP:20260422T024059
CREATED:20160822T130410Z
LAST-MODIFIED:20160822T130410Z
UID:5282-1478736000-1478822399@www.bowling.rybnik.pl
SUMMARY:ABL 5liga
DESCRIPTION:TRZYNIEC godz. 17.00
URL:http://www.bowling.rybnik.pl/turnieje/abl-5liga-8/
LOCATION:Gaja centrum – Trzyniec\, Lidická 1269\, Třinec\, 739 61\, Czech Republic
ATTACH;FMTTYPE=image/png:http://www.bowling.rybnik.pl/wp-content/uploads/2016/02/ABL-zdjęcia-w-nowych-koszulkach-03-11-2015.png
END:VEVENT
BEGIN:VEVENT
DTSTART;VALUE=DATE:20161108
DTEND;VALUE=DATE:20161109
DTSTAMP:20260422T024059
CREATED:20161026T054542Z
LAST-MODIFIED:20161026T054542Z
UID:5540-1478563200-1478649599@www.bowling.rybnik.pl
SUMMARY:ŚLB
DESCRIPTION:„Śląska Liga Bowlingowa” Czechowice-Dziedzice godz. 18.15
URL:http://www.bowling.rybnik.pl/turnieje/slb-36/
LOCATION:ChaCharnia – Czechowice Dziedzice\, Ul.Legionów 83\, Czechowice-Dziedzice\, śląskie\, Polska
ATTACH;FMTTYPE=image/png:http://www.bowling.rybnik.pl/wp-content/uploads/2016/03/ŚLB-2016-plakat.png
END:VEVENT
BEGIN:VEVENT
DTSTART;VALUE=DATE:20161107
DTEND;VALUE=DATE:20161108
DTSTAMP:20260422T024059
CREATED:20161008T112306Z
LAST-MODIFIED:20161008T112306Z
UID:5462-1478476800-1478563199@www.bowling.rybnik.pl
SUMMARY:RyBoL
DESCRIPTION:„Rybnicka Bowlingowa Liga” RYBNIK godz. 16.45
URL:http://www.bowling.rybnik.pl/turnieje/rybol-37/
LOCATION:PINK – Rybnik\, Raciborska 16\, Rybnik\, śląskie\, 44-200\, Polska
ATTACH;FMTTYPE=image/png:http://www.bowling.rybnik.pl/wp-content/uploads/2015/10/Zdjęcie-sekcji.png
END:VEVENT
BEGIN:VEVENT
DTSTART;VALUE=DATE:20161107
DTEND;VALUE=DATE:20161108
DTSTAMP:20260422T024059
CREATED:20161026T054505Z
LAST-MODIFIED:20161026T054505Z
UID:5538-1478476800-1478563199@www.bowling.rybnik.pl
SUMMARY:ŚBL
DESCRIPTION:„Śląska Liga Bowlingowa” Czechowice-Dziedzice godz. 18.15
URL:http://www.bowling.rybnik.pl/turnieje/sbl-5/
LOCATION:ChaCharnia – Czechowice Dziedzice\, Ul.Legionów 83\, Czechowice-Dziedzice\, śląskie\, Polska
ATTACH;FMTTYPE=image/png:http://www.bowling.rybnik.pl/wp-content/uploads/2016/03/ŚLB-2016-plakat.png
END:VEVENT
BEGIN:VEVENT
DTSTART;VALUE=DATE:20161103
DTEND;VALUE=DATE:20161104
DTSTAMP:20260422T024059
CREATED:20161008T111854Z
LAST-MODIFIED:20161008T111854Z
UID:5454-1478131200-1478217599@www.bowling.rybnik.pl
SUMMARY:CzLB
DESCRIPTION:„Czechowicka Liga Bowlingowa” CZECHOWICE-DZIEDZICE godz. 17.45
URL:http://www.bowling.rybnik.pl/turnieje/czlb-16/
LOCATION:ChaCharnia – Czechowice Dziedzice\, Ul.Legionów 83\, Czechowice-Dziedzice\, śląskie\, Polska
ATTACH;FMTTYPE=image/png:http://www.bowling.rybnik.pl/wp-content/uploads/2015/10/Zdjęcie-w-nowych-koszulkach.png
END:VEVENT
BEGIN:VEVENT
DTSTART;VALUE=DATE:20161031
DTEND;VALUE=DATE:20161101
DTSTAMP:20260422T024059
CREATED:20160818T120416Z
LAST-MODIFIED:20160818T120416Z
UID:5265-1477872000-1477958399@www.bowling.rybnik.pl
SUMMARY:RyBoL
DESCRIPTION:„Rybnicka Bowlingowa Liga” RYBNIK godz. 16.45
URL:http://www.bowling.rybnik.pl/turnieje/rybol-36/
ATTACH;FMTTYPE=image/png:http://www.bowling.rybnik.pl/wp-content/uploads/2015/10/Zdjęcie-sekcji.png
END:VEVENT
BEGIN:VEVENT
DTSTART;VALUE=DATE:20161027
DTEND;VALUE=DATE:20161028
DTSTAMP:20260422T024059
CREATED:20160818T115953Z
LAST-MODIFIED:20160822T125759Z
UID:5255-1477526400-1477612799@www.bowling.rybnik.pl
SUMMARY:CzLB
DESCRIPTION:„Czechowicka Liga Bowlingowa” CZECHOWICE-DZIEDZICE godz. 17.45
URL:http://www.bowling.rybnik.pl/turnieje/czlb-15/
LOCATION:ChaCharnia – Czechowice Dziedzice\, Ul.Legionów 83\, Czechowice-Dziedzice\, śląskie\, Polska
ATTACH;FMTTYPE=image/png:http://www.bowling.rybnik.pl/wp-content/uploads/2015/10/Zdjęcie-w-nowych-koszulkach.png
END:VEVENT
BEGIN:VEVENT
DTSTART;VALUE=DATE:20161025
DTEND;VALUE=DATE:20161026
DTSTAMP:20260422T024059
CREATED:20160913T191619Z
LAST-MODIFIED:20160913T191619Z
UID:5372-1477353600-1477439999@www.bowling.rybnik.pl
SUMMARY:ŚLB
DESCRIPTION:„Śląska Liga Bowlingowa” Czechowice-Dziedzice godz. 18.15
URL:http://www.bowling.rybnik.pl/turnieje/slb-35/
LOCATION:ChaCharnia – Czechowice Dziedzice\, Ul.Legionów 83\, Czechowice-Dziedzice\, śląskie\, Polska
ATTACH;FMTTYPE=image/png:http://www.bowling.rybnik.pl/wp-content/uploads/2016/03/ŚLB-2016-plakat.png
END:VEVENT
BEGIN:VEVENT
DTSTART;VALUE=DATE:20161024
DTEND;VALUE=DATE:20161025
DTSTAMP:20260422T024059
CREATED:20160913T191544Z
LAST-MODIFIED:20160913T191544Z
UID:5370-1477267200-1477353599@www.bowling.rybnik.pl
SUMMARY:ŚLB
DESCRIPTION:„Śląska Liga Bowlingowa” Czechowice-Dziedzice godz. 18.15
URL:http://www.bowling.rybnik.pl/turnieje/slb-34/
LOCATION:ChaCharnia – Czechowice Dziedzice\, Ul.Legionów 83\, Czechowice-Dziedzice\, śląskie\, Polska
ATTACH;FMTTYPE=image/png:http://www.bowling.rybnik.pl/wp-content/uploads/2016/03/ŚLB-2016-plakat.png
END:VEVENT
BEGIN:VEVENT
DTSTART;VALUE=DATE:20161024
DTEND;VALUE=DATE:20161025
DTSTAMP:20260422T024059
CREATED:20160818T120341Z
LAST-MODIFIED:20160818T120341Z
UID:5263-1477267200-1477353599@www.bowling.rybnik.pl
SUMMARY:RyBoL
DESCRIPTION:„Rybnicka Bowlingowa Liga” RYBNIK godz. 16.45
URL:http://www.bowling.rybnik.pl/turnieje/rybol-35/
ATTACH;FMTTYPE=image/png:http://www.bowling.rybnik.pl/wp-content/uploads/2015/10/Zdjęcie-sekcji.png
END:VEVENT
BEGIN:VEVENT
DTSTART;VALUE=DATE:20161020
DTEND;VALUE=DATE:20161021
DTSTAMP:20260422T024059
CREATED:20160822T130255Z
LAST-MODIFIED:20160822T130255Z
UID:5280-1476921600-1477007999@www.bowling.rybnik.pl
SUMMARY:ABL 5liga
DESCRIPTION:TRZYNIEC godz. 17.00
URL:http://www.bowling.rybnik.pl/turnieje/abl-5liga-7/
LOCATION:Gaja centrum – Trzyniec\, Lidická 1269\, Třinec\, 739 61\, Czech Republic
ATTACH;FMTTYPE=image/png:http://www.bowling.rybnik.pl/wp-content/uploads/2015/11/ABL-zdjęcia-w-nowych-koszulkach-03-11-2015.png
END:VEVENT
END:VCALENDAR