BEGIN:VCALENDAR
VERSION:2.0
PRODID:-//Sekcja Bowlingu - Rybnik - ECPv6.8.0//NONSGML v1.0//EN
CALSCALE:GREGORIAN
METHOD:PUBLISH
X-WR-CALNAME:Sekcja Bowlingu - Rybnik
X-ORIGINAL-URL:http://www.bowling.rybnik.pl
X-WR-CALDESC:Events for Sekcja Bowlingu - Rybnik
REFRESH-INTERVAL;VALUE=DURATION:PT1H
X-Robots-Tag:noindex
X-PUBLISHED-TTL:PT1H
BEGIN:VTIMEZONE
TZID:Europe/Warsaw
BEGIN:DAYLIGHT
TZOFFSETFROM:+0100
TZOFFSETTO:+0200
TZNAME:CEST
DTSTART:20160327T010000
END:DAYLIGHT
BEGIN:STANDARD
TZOFFSETFROM:+0200
TZOFFSETTO:+0100
TZNAME:CET
DTSTART:20161030T010000
END:STANDARD
END:VTIMEZONE
BEGIN:VEVENT
DTSTART;VALUE=DATE:20161018
DTEND;VALUE=DATE:20161019
DTSTAMP:20260422T121607
CREATED:20160913T191454Z
LAST-MODIFIED:20160913T191454Z
UID:5368-1476748800-1476835199@www.bowling.rybnik.pl
SUMMARY:ŚLB
DESCRIPTION:„Śląska Liga Bowlingowa” Czechowice-Dziedzice godz. 18.15
URL:http://www.bowling.rybnik.pl/turnieje/slb-33/
LOCATION:ChaCharnia – Czechowice Dziedzice\, Ul.Legionów 83\, Czechowice-Dziedzice\, śląskie\, Polska
ATTACH;FMTTYPE=image/png:http://www.bowling.rybnik.pl/wp-content/uploads/2016/03/ŚLB-2016-plakat.png
END:VEVENT
BEGIN:VEVENT
DTSTART;VALUE=DATE:20161018
DTEND;VALUE=DATE:20161019
DTSTAMP:20260422T121607
CREATED:20160827T193155Z
LAST-MODIFIED:20160827T193155Z
UID:5296-1476748800-1476835199@www.bowling.rybnik.pl
SUMMARY:ABL 4liga
DESCRIPTION:TRZYNIEC godz. 17.00
URL:http://www.bowling.rybnik.pl/turnieje/abl-4liga-3/
LOCATION:Gaja centrum – Trzyniec\, Lidická 1269\, Třinec\, 739 61\, Czech Republic
ATTACH;FMTTYPE=image/png:http://www.bowling.rybnik.pl/wp-content/uploads/2016/08/GRYFNR-GIZFY.png
END:VEVENT
BEGIN:VEVENT
DTSTART;VALUE=DATE:20161017
DTEND;VALUE=DATE:20161018
DTSTAMP:20260422T121607
CREATED:20160913T191423Z
LAST-MODIFIED:20160913T191423Z
UID:5366-1476662400-1476748799@www.bowling.rybnik.pl
SUMMARY:ŚLB
DESCRIPTION:„Śląska Liga Bowlingowa” Czechowice-Dziedzice godz. 18.15
URL:http://www.bowling.rybnik.pl/turnieje/slb-32/
LOCATION:ChaCharnia – Czechowice Dziedzice\, Ul.Legionów 83\, Czechowice-Dziedzice\, śląskie\, Polska
ATTACH;FMTTYPE=image/png:http://www.bowling.rybnik.pl/wp-content/uploads/2016/03/ŚLB-2016-plakat.png
END:VEVENT
BEGIN:VEVENT
DTSTART;VALUE=DATE:20161017
DTEND;VALUE=DATE:20161018
DTSTAMP:20260422T121607
CREATED:20160818T120249Z
LAST-MODIFIED:20161005T202426Z
UID:5261-1476662400-1476748799@www.bowling.rybnik.pl
SUMMARY:RyBoL
DESCRIPTION:„Rybnicka Bowlingowa Liga”\, turniej o Puchar Prezesa Fundacji EDF Polska – RYBNIK godz. 16.45
URL:http://www.bowling.rybnik.pl/turnieje/rybol-34/
LOCATION:PINK – Rybnik\, Raciborska 16\, Rybnik\, śląskie\, 44-200\, Polska
ATTACH;FMTTYPE=image/png:http://www.bowling.rybnik.pl/wp-content/uploads/2015/10/Zdjęcie-sekcji.png
END:VEVENT
BEGIN:VEVENT
DTSTART;VALUE=DATE:20161011
DTEND;VALUE=DATE:20161012
DTSTAMP:20260422T121607
CREATED:20160913T191347Z
LAST-MODIFIED:20160913T191347Z
UID:5364-1476144000-1476230399@www.bowling.rybnik.pl
SUMMARY:ŚLB
DESCRIPTION:„Śląska Liga Bowlingowa” Czechowice-Dziedzice godz. 18.15
URL:http://www.bowling.rybnik.pl/turnieje/slb-31/
LOCATION:ChaCharnia – Czechowice Dziedzice\, Ul.Legionów 83\, Czechowice-Dziedzice\, śląskie\, Polska
ATTACH;FMTTYPE=image/png:http://www.bowling.rybnik.pl/wp-content/uploads/2016/03/ŚLB-2016-plakat.png
END:VEVENT
BEGIN:VEVENT
DTSTART;VALUE=DATE:20161010
DTEND;VALUE=DATE:20161011
DTSTAMP:20260422T121607
CREATED:20160913T191306Z
LAST-MODIFIED:20160913T191306Z
UID:5362-1476057600-1476143999@www.bowling.rybnik.pl
SUMMARY:ŚLB
DESCRIPTION:„Śląska Liga Bowlingowa” Czechowice-Dziedzice godz. 18.15
URL:http://www.bowling.rybnik.pl/turnieje/slb-30/
LOCATION:ChaCharnia – Czechowice Dziedzice\, Ul.Legionów 83\, Czechowice-Dziedzice\, śląskie\, Polska
ATTACH;FMTTYPE=image/png:http://www.bowling.rybnik.pl/wp-content/uploads/2016/03/ŚLB-2016-plakat.png
END:VEVENT
BEGIN:VEVENT
DTSTART;VALUE=DATE:20161010
DTEND;VALUE=DATE:20161011
DTSTAMP:20260422T121607
CREATED:20160818T120153Z
LAST-MODIFIED:20161005T193313Z
UID:5259-1476057600-1476143999@www.bowling.rybnik.pl
SUMMARY:RyBoL
DESCRIPTION:„Rybnicka Bowlingowa Liga” Łaziska godz. 17.15
URL:http://www.bowling.rybnik.pl/turnieje/rybol-33/
LOCATION:MOSiR Łaziska\, ul. Ogrodowa 50\, Łaziska Górne\, Polska
ATTACH;FMTTYPE=image/png:http://www.bowling.rybnik.pl/wp-content/uploads/2015/10/Zdjęcie-sekcji.png
END:VEVENT
BEGIN:VEVENT
DTSTART;VALUE=DATE:20161008
DTEND;VALUE=DATE:20161009
DTSTAMP:20260422T121607
CREATED:20160927T064742Z
LAST-MODIFIED:20160927T064742Z
UID:5412-1475884800-1475971199@www.bowling.rybnik.pl
SUMMARY:SLB
DESCRIPTION:„Sobotnia Liga Bowlingowa” Łaziska Górne godz. 10.00
URL:http://www.bowling.rybnik.pl/turnieje/slb-37/
LOCATION:MOSiR Łaziska\, ul. Ogrodowa 50\, Łaziska Górne\, Polska
ATTACH;FMTTYPE=image/png:http://www.bowling.rybnik.pl/wp-content/uploads/2016/09/Logo-Laziska.png
END:VEVENT
BEGIN:VEVENT
DTSTART;VALUE=DATE:20161006
DTEND;VALUE=DATE:20161007
DTSTAMP:20260422T121607
CREATED:20160818T115850Z
LAST-MODIFIED:20160818T115850Z
UID:5253-1475712000-1475798399@www.bowling.rybnik.pl
SUMMARY:CzLB
DESCRIPTION:„Czechowicka Liga Bowlingowa” CZECHOWICE-DZIEDZICE godz. 17.45
URL:http://www.bowling.rybnik.pl/turnieje/czlb-14/
LOCATION:ChaCharnia – Czechowice Dziedzice\, Ul.Legionów 83\, Czechowice-Dziedzice\, śląskie\, Polska
ATTACH;FMTTYPE=image/png:http://www.bowling.rybnik.pl/wp-content/uploads/2015/10/Zdjęcie-w-nowych-koszulkach.png
END:VEVENT
BEGIN:VEVENT
DTSTART;VALUE=DATE:20161004
DTEND;VALUE=DATE:20161005
DTSTAMP:20260422T121607
CREATED:20160913T191225Z
LAST-MODIFIED:20160913T191225Z
UID:5360-1475539200-1475625599@www.bowling.rybnik.pl
SUMMARY:ŚLB
DESCRIPTION:„Śląska Liga Bowlingowa” Czechowice-Dziedzice godz. 18.15
URL:http://www.bowling.rybnik.pl/turnieje/slb-29/
LOCATION:ChaCharnia – Czechowice Dziedzice\, Ul.Legionów 83\, Czechowice-Dziedzice\, śląskie\, Polska
ATTACH;FMTTYPE=image/png:http://www.bowling.rybnik.pl/wp-content/uploads/2016/03/ŚLB-2016-plakat.png
END:VEVENT
BEGIN:VEVENT
DTSTART;VALUE=DATE:20161004
DTEND;VALUE=DATE:20161005
DTSTAMP:20260422T121607
CREATED:20160822T130152Z
LAST-MODIFIED:20160822T130152Z
UID:5278-1475539200-1475625599@www.bowling.rybnik.pl
SUMMARY:ABL 5liga
DESCRIPTION:TRZYNIEC godz. 17.00
URL:http://www.bowling.rybnik.pl/turnieje/abl-5liga-6/
LOCATION:Gaja centrum – Trzyniec\, Lidická 1269\, Třinec\, 739 61\, Czech Republic
ATTACH;FMTTYPE=image/png:http://www.bowling.rybnik.pl/wp-content/uploads/2016/02/ABL-zdjęcia-w-nowych-koszulkach-03-11-2015.png
END:VEVENT
BEGIN:VEVENT
DTSTART;VALUE=DATE:20161003
DTEND;VALUE=DATE:20161004
DTSTAMP:20260422T121607
CREATED:20160913T191150Z
LAST-MODIFIED:20160913T191150Z
UID:5358-1475452800-1475539199@www.bowling.rybnik.pl
SUMMARY:ŚLB
DESCRIPTION:„Śląska Liga Bowlingowa” Czechowice-Dziedzice godz. 18.15
URL:http://www.bowling.rybnik.pl/turnieje/slb-28/
LOCATION:ChaCharnia – Czechowice Dziedzice\, Ul.Legionów 83\, Czechowice-Dziedzice\, śląskie\, Polska
ATTACH;FMTTYPE=image/png:http://www.bowling.rybnik.pl/wp-content/uploads/2016/03/ŚLB-2016-plakat.png
END:VEVENT
BEGIN:VEVENT
DTSTART;VALUE=DATE:20161003
DTEND;VALUE=DATE:20161004
DTSTAMP:20260422T121607
CREATED:20160818T120106Z
LAST-MODIFIED:20160818T120106Z
UID:5257-1475452800-1475539199@www.bowling.rybnik.pl
SUMMARY:RyBoL
DESCRIPTION:„Rybnicka Bowlingowa Liga” RYBNIK godz. 16.45
URL:http://www.bowling.rybnik.pl/turnieje/rybol-32/
LOCATION:PINK – Rybnik\, Raciborska 16\, Rybnik\, śląskie\, 44-200\, Polska
ATTACH;FMTTYPE=image/png:http://www.bowling.rybnik.pl/wp-content/uploads/2015/10/Zdjęcie-sekcji.png
END:VEVENT
BEGIN:VEVENT
DTSTART;VALUE=DATE:20160927
DTEND;VALUE=DATE:20160928
DTSTAMP:20260422T121607
CREATED:20160913T191056Z
LAST-MODIFIED:20160913T191056Z
UID:5356-1474934400-1475020799@www.bowling.rybnik.pl
SUMMARY:ŚLB
DESCRIPTION:„Śląska Liga Bowlingowa” Czechowice-Dziedzice godz. 18.15
URL:http://www.bowling.rybnik.pl/turnieje/slb-27/
LOCATION:ChaCharnia – Czechowice Dziedzice\, Ul.Legionów 83\, Czechowice-Dziedzice\, śląskie\, Polska
ATTACH;FMTTYPE=image/png:http://www.bowling.rybnik.pl/wp-content/uploads/2016/03/ŚLB-2016-plakat.png
END:VEVENT
BEGIN:VEVENT
DTSTART;VALUE=DATE:20160926
DTEND;VALUE=DATE:20160927
DTSTAMP:20260422T121607
CREATED:20160913T191023Z
LAST-MODIFIED:20160913T191023Z
UID:5354-1474848000-1474934399@www.bowling.rybnik.pl
SUMMARY:ŚLB
DESCRIPTION:„Śląska Liga Bowlingowa” Czechowice-Dziedzice godz. 18.15
URL:http://www.bowling.rybnik.pl/turnieje/slb-26/
LOCATION:ChaCharnia – Czechowice Dziedzice\, Ul.Legionów 83\, Czechowice-Dziedzice\, śląskie\, Polska
ATTACH;FMTTYPE=image/png:http://www.bowling.rybnik.pl/wp-content/uploads/2016/03/ŚLB-2016-plakat.png
END:VEVENT
BEGIN:VEVENT
DTSTART;VALUE=DATE:20160926
DTEND;VALUE=DATE:20160927
DTSTAMP:20260422T121607
CREATED:20160818T115627Z
LAST-MODIFIED:20160818T115627Z
UID:5249-1474848000-1474934399@www.bowling.rybnik.pl
SUMMARY:RyBoL
DESCRIPTION:„Rybnicka Bowlingowa Liga” RYBNIK godz. 16.45
URL:http://www.bowling.rybnik.pl/turnieje/rybol-31/
LOCATION:PINK – Rybnik\, Raciborska 16\, Rybnik\, śląskie\, 44-200\, Polska
ATTACH;FMTTYPE=image/png:http://www.bowling.rybnik.pl/wp-content/uploads/2015/10/Zdjęcie-sekcji.png
END:VEVENT
BEGIN:VEVENT
DTSTART;VALUE=DATE:20160922
DTEND;VALUE=DATE:20160923
DTSTAMP:20260422T121607
CREATED:20160818T115723Z
LAST-MODIFIED:20160818T115723Z
UID:5251-1474502400-1474588799@www.bowling.rybnik.pl
SUMMARY:CzLB
DESCRIPTION:„Czechowicka Liga Bowlingowa” CZECHOWICE-DZIEDZICE godz. 17.45
URL:http://www.bowling.rybnik.pl/turnieje/czlb-13/
LOCATION:śląskie
ATTACH;FMTTYPE=image/png:http://www.bowling.rybnik.pl/wp-content/uploads/2015/10/Zdjęcie-w-nowych-koszulkach.png
END:VEVENT
BEGIN:VEVENT
DTSTART;VALUE=DATE:20160921
DTEND;VALUE=DATE:20160922
DTSTAMP:20260422T121607
CREATED:20160827T193056Z
LAST-MODIFIED:20160827T193056Z
UID:5294-1474416000-1474502399@www.bowling.rybnik.pl
SUMMARY:ABL 4liga
DESCRIPTION:TRZYNIEC godz. 17.00
URL:http://www.bowling.rybnik.pl/turnieje/abl-4liga-2/
LOCATION:Gaja centrum – Trzyniec\, Lidická 1269\, Třinec\, 739 61\, Czech Republic
ATTACH;FMTTYPE=image/png:http://www.bowling.rybnik.pl/wp-content/uploads/2016/08/GRYFNR-GIZFY.png
END:VEVENT
BEGIN:VEVENT
DTSTART;VALUE=DATE:20160920
DTEND;VALUE=DATE:20160921
DTSTAMP:20260422T121607
CREATED:20160913T190944Z
LAST-MODIFIED:20160913T190944Z
UID:5352-1474329600-1474415999@www.bowling.rybnik.pl
SUMMARY:ŚLB
DESCRIPTION:„Śląska Liga Bowlingowa” Czechowice-Dziedzice godz. 18.15
URL:http://www.bowling.rybnik.pl/turnieje/slb-25/
LOCATION:ChaCharnia – Czechowice Dziedzice\, Ul.Legionów 83\, Czechowice-Dziedzice\, śląskie\, Polska
ATTACH;FMTTYPE=image/png:http://www.bowling.rybnik.pl/wp-content/uploads/2016/03/ŚLB-2016-plakat.png
END:VEVENT
BEGIN:VEVENT
DTSTART;VALUE=DATE:20160919
DTEND;VALUE=DATE:20160920
DTSTAMP:20260422T121607
CREATED:20160913T190911Z
LAST-MODIFIED:20160913T190911Z
UID:5350-1474243200-1474329599@www.bowling.rybnik.pl
SUMMARY:ŚLB
DESCRIPTION:„Śląska Liga Bowlingowa” Czechowice-Dziedzice godz. 18.15
URL:http://www.bowling.rybnik.pl/turnieje/slb-24/
LOCATION:ChaCharnia – Czechowice Dziedzice\, Ul.Legionów 83\, Czechowice-Dziedzice\, śląskie\, Polska
ATTACH;FMTTYPE=image/png:http://www.bowling.rybnik.pl/wp-content/uploads/2016/03/ŚLB-2016-plakat.png
END:VEVENT
BEGIN:VEVENT
DTSTART;VALUE=DATE:20160919
DTEND;VALUE=DATE:20160920
DTSTAMP:20260422T121607
CREATED:20160818T115535Z
LAST-MODIFIED:20160818T115535Z
UID:5247-1474243200-1474329599@www.bowling.rybnik.pl
SUMMARY:RyBoL
DESCRIPTION:„Rybnicka Bowlingowa Liga” RYBNIK godz. 16.45
URL:http://www.bowling.rybnik.pl/turnieje/rybol-30/
LOCATION:PINK – Rybnik\, Raciborska 16\, Rybnik\, śląskie\, 44-200\, Polska
ATTACH;FMTTYPE=image/png:http://www.bowling.rybnik.pl/wp-content/uploads/2015/10/Zdjęcie-sekcji.png
END:VEVENT
BEGIN:VEVENT
DTSTART;VALUE=DATE:20160917
DTEND;VALUE=DATE:20160918
DTSTAMP:20260422T121607
CREATED:20160907T063232Z
LAST-MODIFIED:20160907T063232Z
UID:5338-1474070400-1474156799@www.bowling.rybnik.pl
SUMMARY:PINK NINE
DESCRIPTION:„PINK NINE – rybnicka dziewiątka” RYBNIK godz. 10.40
URL:http://www.bowling.rybnik.pl/turnieje/pink-nine/
LOCATION:PINK – Rybnik\, Raciborska 16\, Rybnik\, śląskie\, 44-200\, Polska
ATTACH;FMTTYPE=image/png:http://www.bowling.rybnik.pl/wp-content/uploads/2016/09/PINK-NINE-plakat.png
END:VEVENT
BEGIN:VEVENT
DTSTART;VALUE=DATE:20160913
DTEND;VALUE=DATE:20160914
DTSTAMP:20260422T121607
CREATED:20160913T190826Z
LAST-MODIFIED:20160913T190826Z
UID:5348-1473724800-1473811199@www.bowling.rybnik.pl
SUMMARY:ŚLB
DESCRIPTION:„Śląska Liga Bowlingowa” Czechowice-Dziedzice godz. 18.15
URL:http://www.bowling.rybnik.pl/turnieje/slb-23/
LOCATION:ChaCharnia – Czechowice Dziedzice\, Ul.Legionów 83\, Czechowice-Dziedzice\, śląskie\, Polska
ATTACH;FMTTYPE=image/png:http://www.bowling.rybnik.pl/wp-content/uploads/2016/03/ŚLB-2016-plakat.png
END:VEVENT
BEGIN:VEVENT
DTSTART;VALUE=DATE:20160912
DTEND;VALUE=DATE:20160913
DTSTAMP:20260422T121607
CREATED:20160913T190758Z
LAST-MODIFIED:20160913T190758Z
UID:5346-1473638400-1473724799@www.bowling.rybnik.pl
SUMMARY:ŚBL
DESCRIPTION:„Śląska Liga Bowlingowa” Czechowice-Dziedzice godz. 18.15
URL:http://www.bowling.rybnik.pl/turnieje/sbl-4/
LOCATION:ChaCharnia – Czechowice Dziedzice\, Ul.Legionów 83\, Czechowice-Dziedzice\, śląskie\, Polska
ATTACH;FMTTYPE=image/png:http://www.bowling.rybnik.pl/wp-content/uploads/2016/03/ŚLB-2016-plakat.png
END:VEVENT
BEGIN:VEVENT
DTSTART;VALUE=DATE:20160912
DTEND;VALUE=DATE:20160913
DTSTAMP:20260422T121607
CREATED:20160818T110518Z
LAST-MODIFIED:20160818T115439Z
UID:5240-1473638400-1473724799@www.bowling.rybnik.pl
SUMMARY:RyBoL
DESCRIPTION:„Rybnicka Bowlingowa Liga” RYBNIK godz. 16.45
URL:http://www.bowling.rybnik.pl/turnieje/rybol-29/
LOCATION:PINK – Rybnik\, Raciborska 16\, Rybnik\, śląskie\, 44-200\, Polska
ATTACH;FMTTYPE=image/png:http://www.bowling.rybnik.pl/wp-content/uploads/2015/10/Zdjęcie-sekcji.png
END:VEVENT
BEGIN:VEVENT
DTSTART;VALUE=DATE:20160905
DTEND;VALUE=DATE:20160906
DTSTAMP:20260422T121607
CREATED:20160827T192943Z
LAST-MODIFIED:20160827T192943Z
UID:5291-1473033600-1473119999@www.bowling.rybnik.pl
SUMMARY:ABL 4liga
DESCRIPTION:TRZYNIEC godz. 17.00
URL:http://www.bowling.rybnik.pl/turnieje/abl-4liga/
LOCATION:Gaja centrum – Trzyniec\, Lidická 1269\, Třinec\, 739 61\, Czech Republic
ATTACH;FMTTYPE=image/png:http://www.bowling.rybnik.pl/wp-content/uploads/2016/08/GRYFNR-GIZFY.png
END:VEVENT
BEGIN:VEVENT
DTSTART;VALUE=DATE:20160905
DTEND;VALUE=DATE:20160906
DTSTAMP:20260422T121607
CREATED:20160818T110146Z
LAST-MODIFIED:20160818T110315Z
UID:5235-1473033600-1473119999@www.bowling.rybnik.pl
SUMMARY:CzLB
DESCRIPTION:„Czechowicka Liga Bowlingowa” RYBNIK godz. 16.45
URL:http://www.bowling.rybnik.pl/turnieje/rybol-25/
LOCATION:PINK – Rybnik\, Raciborska 16\, Rybnik\, śląskie\, 44-200\, Polska
ATTACH;FMTTYPE=image/png:http://www.bowling.rybnik.pl/wp-content/uploads/2015/10/Zdjęcie-w-nowych-koszulkach.png
END:VEVENT
BEGIN:VEVENT
DTSTART;VALUE=DATE:20160905
DTEND;VALUE=DATE:20160906
DTSTAMP:20260422T121607
CREATED:20160625T061402Z
LAST-MODIFIED:20160625T061402Z
UID:5207-1473033600-1473119999@www.bowling.rybnik.pl
SUMMARY:RyBoL
DESCRIPTION:„Rybnicka Bowlingowa Liga” RYBNIK godz. 16.45
URL:http://www.bowling.rybnik.pl/turnieje/rybol-28/
LOCATION:PINK – Rybnik\, Raciborska 16\, Rybnik\, śląskie\, 44-200\, Polska
ATTACH;FMTTYPE=image/png:http://www.bowling.rybnik.pl/wp-content/uploads/2015/10/Zdjęcie-sekcji.png
END:VEVENT
BEGIN:VEVENT
DTSTART;VALUE=DATE:20160901
DTEND;VALUE=DATE:20160902
DTSTAMP:20260422T121607
CREATED:20160822T130013Z
LAST-MODIFIED:20160822T130013Z
UID:5276-1472688000-1472774399@www.bowling.rybnik.pl
SUMMARY:ABL 5liga
DESCRIPTION:TRZYNIEC godz. 17.00
URL:http://www.bowling.rybnik.pl/turnieje/abl-5liga-5/
LOCATION:Gaja centrum – Trzyniec\, Lidická 1269\, Třinec\, 739 61\, Czech Republic
ATTACH;FMTTYPE=image/png:http://www.bowling.rybnik.pl/wp-content/uploads/2016/02/ABL-zdjęcia-w-nowych-koszulkach-03-11-2015.png
END:VEVENT
BEGIN:VEVENT
DTSTART;VALUE=DATE:20160829
DTEND;VALUE=DATE:20160830
DTSTAMP:20260422T121607
CREATED:20160625T061322Z
LAST-MODIFIED:20160827T192244Z
UID:5206-1472428800-1472515199@www.bowling.rybnik.pl
SUMMARY:RyBoL
DESCRIPTION:„Rybnicka Bowlingowa Liga” CZECHOWICE-DZIEDZICE  godz. 17.15
URL:http://www.bowling.rybnik.pl/turnieje/rybol-27/
LOCATION:ChaCharnia – Czechowice Dziedzice\, Ul.Legionów 83\, Czechowice-Dziedzice\, śląskie\, Polska
ATTACH;FMTTYPE=image/png:http://www.bowling.rybnik.pl/wp-content/uploads/2015/10/Zdjęcie-sekcji.png
END:VEVENT
END:VCALENDAR