BEGIN:VCALENDAR
VERSION:2.0
PRODID:-//Sekcja Bowlingu - Rybnik - ECPv6.8.0//NONSGML v1.0//EN
CALSCALE:GREGORIAN
METHOD:PUBLISH
X-WR-CALNAME:Sekcja Bowlingu - Rybnik
X-ORIGINAL-URL:http://www.bowling.rybnik.pl
X-WR-CALDESC:Events for Sekcja Bowlingu - Rybnik
REFRESH-INTERVAL;VALUE=DURATION:PT1H
X-Robots-Tag:noindex
X-PUBLISHED-TTL:PT1H
BEGIN:VTIMEZONE
TZID:Europe/Warsaw
BEGIN:DAYLIGHT
TZOFFSETFROM:+0100
TZOFFSETTO:+0200
TZNAME:CEST
DTSTART:20160327T010000
END:DAYLIGHT
BEGIN:STANDARD
TZOFFSETFROM:+0200
TZOFFSETTO:+0100
TZNAME:CET
DTSTART:20161030T010000
END:STANDARD
END:VTIMEZONE
BEGIN:VEVENT
DTSTART;VALUE=DATE:20160825
DTEND;VALUE=DATE:20160826
DTSTAMP:20260422T130522
CREATED:20160625T061801Z
LAST-MODIFIED:20160625T061801Z
UID:5211-1472083200-1472169599@www.bowling.rybnik.pl
SUMMARY:CzLB
DESCRIPTION:„Czechowicka Liga Bowlingowa” CZECHOWICE-DZIEDZICE godz. 17.45
URL:http://www.bowling.rybnik.pl/turnieje/czlb-7/
LOCATION:ChaCharnia – Czechowice Dziedzice\, Ul.Legionów 83\, Czechowice-Dziedzice\, śląskie\, Polska
ATTACH;FMTTYPE=image/png:http://www.bowling.rybnik.pl/wp-content/uploads/2015/10/Zdjęcie-w-nowych-koszulkach.png
END:VEVENT
BEGIN:VEVENT
DTSTART;VALUE=DATE:20160822
DTEND;VALUE=DATE:20160823
DTSTAMP:20260422T130522
CREATED:20160625T061246Z
LAST-MODIFIED:20160625T061246Z
UID:5205-1471824000-1471910399@www.bowling.rybnik.pl
SUMMARY:RyBoL
DESCRIPTION:„Rybnicka Bowlingowa Liga” RYBNIK godz. 16.45
URL:http://www.bowling.rybnik.pl/turnieje/rybol-26/
LOCATION:PINK – Rybnik\, Raciborska 16\, Rybnik\, śląskie\, 44-200\, Polska
ATTACH;FMTTYPE=image/png:http://www.bowling.rybnik.pl/wp-content/uploads/2015/10/Zdjęcie-sekcji.png
END:VEVENT
BEGIN:VEVENT
DTSTART;VALUE=DATE:20160808
DTEND;VALUE=DATE:20160809
DTSTAMP:20260422T130522
CREATED:20160625T061125Z
LAST-MODIFIED:20160625T061125Z
UID:5203-1470614400-1470700799@www.bowling.rybnik.pl
SUMMARY:RyBoL
DESCRIPTION:„Rybnicka Bowlingowa Liga” RYBNIK godz. 16.45
URL:http://www.bowling.rybnik.pl/turnieje/rybol-24/
LOCATION:PINK – Rybnik\, Raciborska 16\, Rybnik\, śląskie\, 44-200\, Polska
ATTACH;FMTTYPE=image/png:http://www.bowling.rybnik.pl/wp-content/uploads/2015/10/Zdjęcie-sekcji.png
END:VEVENT
BEGIN:VEVENT
DTSTART;VALUE=DATE:20160804
DTEND;VALUE=DATE:20160805
DTSTAMP:20260422T130522
CREATED:20160625T061717Z
LAST-MODIFIED:20160625T061717Z
UID:5210-1470268800-1470355199@www.bowling.rybnik.pl
SUMMARY:CzLB
DESCRIPTION:„Czechowicka Liga Bowlingowa” CZECHOWICE-DZIEDZICE godz. 17.45
URL:http://www.bowling.rybnik.pl/turnieje/czlb-6/
LOCATION:ChaCharnia – Czechowice Dziedzice\, Ul.Legionów 83\, Czechowice-Dziedzice\, śląskie\, Polska
ATTACH;FMTTYPE=image/png:http://www.bowling.rybnik.pl/wp-content/uploads/2015/10/Zdjęcie-w-nowych-koszulkach.png
END:VEVENT
BEGIN:VEVENT
DTSTART;VALUE=DATE:20160801
DTEND;VALUE=DATE:20160802
DTSTAMP:20260422T130522
CREATED:20160625T061047Z
LAST-MODIFIED:20160625T061047Z
UID:5202-1470009600-1470095999@www.bowling.rybnik.pl
SUMMARY:RyBoL
DESCRIPTION:„Rybnicka Bowlingowa Liga” RYBNIK godz. 16.45
URL:http://www.bowling.rybnik.pl/turnieje/rybol-23/
LOCATION:śląskie
ATTACH;FMTTYPE=image/png:http://www.bowling.rybnik.pl/wp-content/uploads/2015/10/Zdjęcie-sekcji.png
END:VEVENT
BEGIN:VEVENT
DTSTART;VALUE=DATE:20160728
DTEND;VALUE=DATE:20160729
DTSTAMP:20260422T130522
CREATED:20160625T061634Z
LAST-MODIFIED:20160625T061634Z
UID:5209-1469664000-1469750399@www.bowling.rybnik.pl
SUMMARY:CzLB
DESCRIPTION:„Czechowicka Liga Bowlingowa” CZECHOWICE-DZIEDZICE godz. 17.45
URL:http://www.bowling.rybnik.pl/turnieje/czlb-5/
LOCATION:ChaCharnia – Czechowice Dziedzice\, Ul.Legionów 83\, Czechowice-Dziedzice\, śląskie\, Polska
ATTACH;FMTTYPE=image/png:http://www.bowling.rybnik.pl/wp-content/uploads/2015/10/Zdjęcie-w-nowych-koszulkach.png
END:VEVENT
BEGIN:VEVENT
DTSTART;VALUE=DATE:20160725
DTEND;VALUE=DATE:20160726
DTSTAMP:20260422T130522
CREATED:20160625T061015Z
LAST-MODIFIED:20160705T124059Z
UID:5201-1469404800-1469491199@www.bowling.rybnik.pl
SUMMARY:RyBoL
DESCRIPTION:„Rybnicka Bowlingowa Liga” CZECHOWICE-DZIEDZICE – godz. 17.15
URL:http://www.bowling.rybnik.pl/turnieje/rybol-22/
LOCATION:ChaCharnia – Czechowice Dziedzice\, Ul.Legionów 83\, Czechowice-Dziedzice\, śląskie\, Polska
ATTACH;FMTTYPE=image/png:http://www.bowling.rybnik.pl/wp-content/uploads/2015/10/Zdjęcie-sekcji.png
END:VEVENT
BEGIN:VEVENT
DTSTART;VALUE=DATE:20160718
DTEND;VALUE=DATE:20160719
DTSTAMP:20260422T130522
CREATED:20160625T060936Z
LAST-MODIFIED:20160625T060936Z
UID:5200-1468800000-1468886399@www.bowling.rybnik.pl
SUMMARY:RyBoL
DESCRIPTION:„Rybnicka Bowlingowa Liga” RYBNIK godz. 16.45
URL:http://www.bowling.rybnik.pl/turnieje/rybol-21/
LOCATION:PINK – Rybnik\, Raciborska 16\, Rybnik\, śląskie\, 44-200\, Polska
ATTACH;FMTTYPE=image/png:http://www.bowling.rybnik.pl/wp-content/uploads/2015/10/Zdjęcie-sekcji.png
END:VEVENT
BEGIN:VEVENT
DTSTART;VALUE=DATE:20160711
DTEND;VALUE=DATE:20160712
DTSTAMP:20260422T130522
CREATED:20160625T060837Z
LAST-MODIFIED:20160625T060837Z
UID:5199-1468195200-1468281599@www.bowling.rybnik.pl
SUMMARY:RyBoL
DESCRIPTION:„Rybnicka Bowlingowa Liga” RYBNIK godz. 16.45
URL:http://www.bowling.rybnik.pl/turnieje/rybol-20/
LOCATION:PINK – Rybnik\, Raciborska 16\, Rybnik\, śląskie\, 44-200\, Polska
ATTACH;FMTTYPE=image/png:http://www.bowling.rybnik.pl/wp-content/uploads/2015/10/Zdjęcie-sekcji.png
END:VEVENT
BEGIN:VEVENT
DTSTART;VALUE=DATE:20160707
DTEND;VALUE=DATE:20160708
DTSTAMP:20260422T130522
CREATED:20160625T061537Z
LAST-MODIFIED:20160625T061537Z
UID:5208-1467849600-1467935999@www.bowling.rybnik.pl
SUMMARY:CzLB
DESCRIPTION:„Czechowicka Liga Bowlingowa” CZECHOWICE-DZIEDZICE godz. 17.45
URL:http://www.bowling.rybnik.pl/turnieje/czlb-4/
LOCATION:ChaCharnia – Czechowice Dziedzice\, Ul.Legionów 83\, Czechowice-Dziedzice\, śląskie\, Polska
ATTACH;FMTTYPE=image/png:http://www.bowling.rybnik.pl/wp-content/uploads/2015/10/Zdjęcie-w-nowych-koszulkach.png
END:VEVENT
BEGIN:VEVENT
DTSTART;VALUE=DATE:20160704
DTEND;VALUE=DATE:20160705
DTSTAMP:20260422T130522
CREATED:20160625T060747Z
LAST-MODIFIED:20160625T060747Z
UID:5198-1467590400-1467676799@www.bowling.rybnik.pl
SUMMARY:RyBoL
DESCRIPTION:„Rybnicka Bowlingowa Liga” RYBNIK godz. 16.45
URL:http://www.bowling.rybnik.pl/turnieje/rybol-19/
LOCATION:PINK – Rybnik\, Raciborska 16\, Rybnik\, śląskie\, 44-200\, Polska
ATTACH;FMTTYPE=image/png:http://www.bowling.rybnik.pl/wp-content/uploads/2015/10/Zdjęcie-sekcji.png
END:VEVENT
BEGIN:VEVENT
DTSTART;VALUE=DATE:20160627
DTEND;VALUE=DATE:20160628
DTSTAMP:20260422T130522
CREATED:20160514T094358Z
LAST-MODIFIED:20160514T094358Z
UID:5154-1466985600-1467071999@www.bowling.rybnik.pl
SUMMARY:RyBoL
DESCRIPTION:„Rybnicka Bowlingowa Liga” RYBNIK godz. 16.45
URL:http://www.bowling.rybnik.pl/turnieje/rybol-18/
LOCATION:PINK – Rybnik\, Raciborska 16\, Rybnik\, śląskie\, 44-200\, Polska
ATTACH;FMTTYPE=image/png:http://www.bowling.rybnik.pl/wp-content/uploads/2015/10/Zdjęcie-sekcji.png
END:VEVENT
BEGIN:VEVENT
DTSTART;VALUE=DATE:20160623
DTEND;VALUE=DATE:20160624
DTSTAMP:20260422T130522
CREATED:20160526T130727Z
LAST-MODIFIED:20160526T130802Z
UID:5178-1466640000-1466726399@www.bowling.rybnik.pl
SUMMARY:CzLB
DESCRIPTION:„Czechowicka Liga Bowlingowa” GRAVITACJA KATOWICE godz. 17.15
URL:http://www.bowling.rybnik.pl/turnieje/czbl/
LOCATION:GRAVITACJA – Katowice\, ul. Gliwicka 44\, Katowice\, Polska
ATTACH;FMTTYPE=image/png:http://www.bowling.rybnik.pl/wp-content/uploads/2015/10/Zdjęcie-w-nowych-koszulkach.png
END:VEVENT
BEGIN:VEVENT
DTSTART;VALUE=DATE:20160620
DTEND;VALUE=DATE:20160621
DTSTAMP:20260422T130522
CREATED:20160615T115036Z
LAST-MODIFIED:20160615T115036Z
UID:5193-1466380800-1466467199@www.bowling.rybnik.pl
SUMMARY:ŚLB
DESCRIPTION:„Śląska Liga Bowlingowa” CZECHOWICE-DZIEDZICE – turniej otwarty z okazji zakończenia pierwszego sezonu ŚBL
URL:http://www.bowling.rybnik.pl/turnieje/slb-22/
LOCATION:ChaCharnia – Czechowice Dziedzice\, Ul.Legionów 83\, Czechowice-Dziedzice\, śląskie\, Polska
ATTACH;FMTTYPE=image/png:http://www.bowling.rybnik.pl/wp-content/uploads/2016/03/ŚLB-2016-plakat.png
END:VEVENT
BEGIN:VEVENT
DTSTART;VALUE=DATE:20160620
DTEND;VALUE=DATE:20160621
DTSTAMP:20260422T130522
CREATED:20160514T094309Z
LAST-MODIFIED:20160615T114900Z
UID:5153-1466380800-1466467199@www.bowling.rybnik.pl
SUMMARY:RyBoL
DESCRIPTION:„Rybnicka Bowlingowa Liga” RYBNIK godz. 16.45
URL:http://www.bowling.rybnik.pl/turnieje/slb-15/
LOCATION:PINK – Rybnik\, Raciborska 16\, Rybnik\, śląskie\, 44-200\, Polska
ATTACH;FMTTYPE=image/png:http://www.bowling.rybnik.pl/wp-content/uploads/2015/10/Zdjęcie-sekcji.png
END:VEVENT
BEGIN:VEVENT
DTSTART;VALUE=DATE:20160614
DTEND;VALUE=DATE:20160615
DTSTAMP:20260422T130522
CREATED:20160615T114659Z
LAST-MODIFIED:20160615T114659Z
UID:5190-1465862400-1465948799@www.bowling.rybnik.pl
SUMMARY:ŚLB
DESCRIPTION:„Śląska Liga Bowlingowa” CZECHOWICE-DZIEDZICE godz. 18.30
URL:http://www.bowling.rybnik.pl/turnieje/slb-19/
LOCATION:ChaCharnia – Czechowice Dziedzice\, Ul.Legionów 83\, Czechowice-Dziedzice\, śląskie\, Polska
ATTACH;FMTTYPE=image/png:http://www.bowling.rybnik.pl/wp-content/uploads/2016/03/ŚLB-2016-plakat.png
END:VEVENT
BEGIN:VEVENT
DTSTART;VALUE=DATE:20160613
DTEND;VALUE=DATE:20160614
DTSTAMP:20260422T130522
CREATED:20160615T114550Z
LAST-MODIFIED:20160615T114550Z
UID:5189-1465776000-1465862399@www.bowling.rybnik.pl
SUMMARY:ŚLB
DESCRIPTION:„Śląska Liga Bowlingowa” CZECHOWICE-DZIEDZICE godz. 18.30
URL:http://www.bowling.rybnik.pl/turnieje/slb-18/
LOCATION:ChaCharnia – Czechowice Dziedzice\, Ul.Legionów 83\, Czechowice-Dziedzice\, śląskie\, Polska
ATTACH;FMTTYPE=image/png:http://www.bowling.rybnik.pl/wp-content/uploads/2016/03/ŚLB-2016-plakat.png
END:VEVENT
BEGIN:VEVENT
DTSTART;VALUE=DATE:20160613
DTEND;VALUE=DATE:20160614
DTSTAMP:20260422T130522
CREATED:20160514T094228Z
LAST-MODIFIED:20160514T094228Z
UID:5152-1465776000-1465862399@www.bowling.rybnik.pl
SUMMARY:RyBoL
DESCRIPTION:„Rybnicka Bowlingowa Liga” RYBNIK godz. 16.45
URL:http://www.bowling.rybnik.pl/turnieje/rybol-17/
LOCATION:PINK – Rybnik\, Raciborska 16\, Rybnik\, śląskie\, 44-200\, Polska
ATTACH;FMTTYPE=image/png:http://www.bowling.rybnik.pl/wp-content/uploads/2015/10/Zdjęcie-sekcji.png
END:VEVENT
BEGIN:VEVENT
DTSTART;VALUE=DATE:20160607
DTEND;VALUE=DATE:20160608
DTSTAMP:20260422T130522
CREATED:20160615T114819Z
LAST-MODIFIED:20160615T114819Z
UID:5192-1465257600-1465343999@www.bowling.rybnik.pl
SUMMARY:ŚLB
DESCRIPTION:„Śląska Liga Bowlingowa” CZECHOWICE-DZIEDZICE godz. 18.30
URL:http://www.bowling.rybnik.pl/turnieje/slb-21/
LOCATION:ChaCharnia – Czechowice Dziedzice\, Ul.Legionów 83\, Czechowice-Dziedzice\, śląskie\, Polska
ATTACH;FMTTYPE=image/png:http://www.bowling.rybnik.pl/wp-content/uploads/2016/03/ŚLB-2016-plakat.png
END:VEVENT
BEGIN:VEVENT
DTSTART;VALUE=DATE:20160606
DTEND;VALUE=DATE:20160607
DTSTAMP:20260422T130522
CREATED:20160615T114738Z
LAST-MODIFIED:20160615T114738Z
UID:5191-1465171200-1465257599@www.bowling.rybnik.pl
SUMMARY:ŚLB
DESCRIPTION:„Śląska Liga Bowlingowa” CZECHOWICE-DZIEDZICE godz. 18.30
URL:http://www.bowling.rybnik.pl/turnieje/slb-20/
LOCATION:ChaCharnia – Czechowice Dziedzice\, Ul.Legionów 83\, Czechowice-Dziedzice\, śląskie\, Polska
ATTACH;FMTTYPE=image/png:http://www.bowling.rybnik.pl/wp-content/uploads/2016/03/ŚLB-2016-plakat.png
END:VEVENT
BEGIN:VEVENT
DTSTART;VALUE=DATE:20160606
DTEND;VALUE=DATE:20160607
DTSTAMP:20260422T130522
CREATED:20160514T094104Z
LAST-MODIFIED:20160514T094132Z
UID:5151-1465171200-1465257599@www.bowling.rybnik.pl
SUMMARY:RyBoL
DESCRIPTION:„Rybnicka Bowlingowa Liga” RYBNIK godz. 16.45
URL:http://www.bowling.rybnik.pl/turnieje/rybol-16/
LOCATION:PINK – Rybnik\, Raciborska 16\, Rybnik\, śląskie\, 44-200\, Polska
ATTACH;FMTTYPE=image/png:http://www.bowling.rybnik.pl/wp-content/uploads/2015/10/Zdjęcie-sekcji.png
END:VEVENT
BEGIN:VEVENT
DTSTART;VALUE=DATE:20160604
DTEND;VALUE=DATE:20160605
DTSTAMP:20260422T130522
CREATED:20160526T122717Z
LAST-MODIFIED:20160526T124614Z
UID:5162-1464998400-1465084799@www.bowling.rybnik.pl
SUMMARY:Integracja 2016
DESCRIPTION:Zapraszamy wszystkich graczy oraz sympatyków RyBoL Rybnickiej Ligi Bowlingowej na imprezę integracyjną która odbędzie się 4 czerwca 2016 roku o godz. 14.00 w Miedzybrodziu Bialskim ul Pagórek 15. Bardzo prosimy potwierdzenie przybycia najpóźniej do 2 czerwca wysyłając SMS-a do Mariusza. Zapraszamy. \nZarząd „RyBoL” Rybnickiej Ligi Bowlingowej.
URL:http://www.bowling.rybnik.pl/turnieje/integracja-2016/
LOCATION:śląskie
ATTACH;FMTTYPE=image/png:http://www.bowling.rybnik.pl/wp-content/uploads/2016/05/ognisko.png
END:VEVENT
BEGIN:VEVENT
DTSTART;VALUE=DATE:20160602
DTEND;VALUE=DATE:20160603
DTSTAMP:20260422T130522
CREATED:20160514T093846Z
LAST-MODIFIED:20160514T093846Z
UID:5150-1464825600-1464911999@www.bowling.rybnik.pl
SUMMARY:CzLB
DESCRIPTION:„Czechowicka Liga Bowlingowa” CZECHOWICE-DZIEDZICE godz. 17.45
URL:http://www.bowling.rybnik.pl/turnieje/czlb-3/
LOCATION:ChaCharnia – Czechowice Dziedzice\, Ul.Legionów 83\, Czechowice-Dziedzice\, śląskie\, Polska
ATTACH;FMTTYPE=image/png:http://www.bowling.rybnik.pl/wp-content/uploads/2015/10/Zdjęcie-w-nowych-koszulkach.png
END:VEVENT
BEGIN:VEVENT
DTSTART;VALUE=DATE:20160531
DTEND;VALUE=DATE:20160601
DTSTAMP:20260422T130522
CREATED:20160526T130529Z
LAST-MODIFIED:20160526T130529Z
UID:5177-1464652800-1464739199@www.bowling.rybnik.pl
SUMMARY:ŚLB
DESCRIPTION:„Śląska Liga Bowlingowa” CZECHOWICE-DZIEDZICE godz. 18.30
URL:http://www.bowling.rybnik.pl/turnieje/slb-17/
LOCATION:ChaCharnia – Czechowice Dziedzice\, Ul.Legionów 83\, Czechowice-Dziedzice\, śląskie\, Polska
ATTACH;FMTTYPE=image/png:http://www.bowling.rybnik.pl/wp-content/uploads/2016/03/ŚLB-2016-plakat.png
END:VEVENT
BEGIN:VEVENT
DTSTART;VALUE=DATE:20160531
DTEND;VALUE=DATE:20160601
DTSTAMP:20260422T130522
CREATED:20160310T200414Z
LAST-MODIFIED:20160310T200414Z
UID:4963-1464652800-1464739199@www.bowling.rybnik.pl
SUMMARY:ABL – 3liga
DESCRIPTION:TRZYNIEC godz. 17.00
URL:http://www.bowling.rybnik.pl/turnieje/abl-3liga-4/
LOCATION:Gaja centrum – Trzyniec\, Lidická 1269\, Třinec\, 739 61\, Czech Republic
END:VEVENT
BEGIN:VEVENT
DTSTART;VALUE=DATE:20160530
DTEND;VALUE=DATE:20160531
DTSTAMP:20260422T130522
CREATED:20160526T130453Z
LAST-MODIFIED:20160526T130453Z
UID:5176-1464566400-1464652799@www.bowling.rybnik.pl
SUMMARY:ŚLB
DESCRIPTION:„Śląska Liga Bowlingowa” CZECHOWICE-DZIEDZICE godz. 18.30
URL:http://www.bowling.rybnik.pl/turnieje/slb-16/
LOCATION:ChaCharnia – Czechowice Dziedzice\, Ul.Legionów 83\, Czechowice-Dziedzice\, śląskie\, Polska
ATTACH;FMTTYPE=image/png:http://www.bowling.rybnik.pl/wp-content/uploads/2016/03/ŚLB-2016-plakat.png
END:VEVENT
BEGIN:VEVENT
DTSTART;VALUE=DATE:20160530
DTEND;VALUE=DATE:20160531
DTSTAMP:20260422T130522
CREATED:20160503T184831Z
LAST-MODIFIED:20160503T184831Z
UID:5105-1464566400-1464652799@www.bowling.rybnik.pl
SUMMARY:RyBoL
DESCRIPTION:„Rybnicka Bowlingowa Liga” RYBNIK godz. 16.45
URL:http://www.bowling.rybnik.pl/turnieje/rybol-15/
LOCATION:PINK – Rybnik\, Raciborska 16\, Rybnik\, śląskie\, 44-200\, Polska
ATTACH;FMTTYPE=image/png:http://www.bowling.rybnik.pl/wp-content/uploads/2015/10/Zdjęcie-sekcji.png
END:VEVENT
BEGIN:VEVENT
DTSTART;VALUE=DATE:20160524
DTEND;VALUE=DATE:20160525
DTSTAMP:20260422T130522
CREATED:20160514T093729Z
LAST-MODIFIED:20160514T093729Z
UID:5149-1464048000-1464134399@www.bowling.rybnik.pl
SUMMARY:ŚLB
DESCRIPTION:„Śląska Liga Bowlingowa” CZECHOWICE-DZIEDZICE godz. 18.30
URL:http://www.bowling.rybnik.pl/turnieje/slb-14/
LOCATION:ChaCharnia – Czechowice Dziedzice\, Ul.Legionów 83\, Czechowice-Dziedzice\, śląskie\, Polska
ATTACH;FMTTYPE=image/png:http://www.bowling.rybnik.pl/wp-content/uploads/2016/03/ŚLB-2016-plakat.png
END:VEVENT
BEGIN:VEVENT
DTSTART;VALUE=DATE:20160524
DTEND;VALUE=DATE:20160525
DTSTAMP:20260422T130522
CREATED:20160310T200117Z
LAST-MODIFIED:20160310T200117Z
UID:4961-1464048000-1464134399@www.bowling.rybnik.pl
SUMMARY:ABL – 5liga
DESCRIPTION:TRZYNIEC godz. 17.00
URL:http://www.bowling.rybnik.pl/turnieje/abl-5liga-4/
LOCATION:Gaja centrum – Trzyniec\, Lidická 1269\, Třinec\, 739 61\, Czech Republic
ATTACH;FMTTYPE=image/png:http://www.bowling.rybnik.pl/wp-content/uploads/2016/02/ABL-zdjęcia-w-nowych-koszulkach-03-11-2015.png
END:VEVENT
BEGIN:VEVENT
DTSTART;VALUE=DATE:20160523
DTEND;VALUE=DATE:20160524
DTSTAMP:20260422T130522
CREATED:20160514T093658Z
LAST-MODIFIED:20160514T093658Z
UID:5148-1463961600-1464047999@www.bowling.rybnik.pl
SUMMARY:ŚLB
DESCRIPTION:„Śląska Liga Bowlingowa” CZECHOWICE-DZIEDZICE godz. 18.30
URL:http://www.bowling.rybnik.pl/turnieje/slb-13/
LOCATION:ChaCharnia – Czechowice Dziedzice\, Ul.Legionów 83\, Czechowice-Dziedzice\, śląskie\, Polska
ATTACH;FMTTYPE=image/png:http://www.bowling.rybnik.pl/wp-content/uploads/2016/03/ŚLB-2016-plakat.png
END:VEVENT
END:VCALENDAR