BEGIN:VCALENDAR
VERSION:2.0
PRODID:-//Sekcja Bowlingu - Rybnik - ECPv6.8.0//NONSGML v1.0//EN
CALSCALE:GREGORIAN
METHOD:PUBLISH
X-WR-CALNAME:Sekcja Bowlingu - Rybnik
X-ORIGINAL-URL:http://www.bowling.rybnik.pl
X-WR-CALDESC:Events for Sekcja Bowlingu - Rybnik
REFRESH-INTERVAL;VALUE=DURATION:PT1H
X-Robots-Tag:noindex
X-PUBLISHED-TTL:PT1H
BEGIN:VTIMEZONE
TZID:Europe/Warsaw
BEGIN:DAYLIGHT
TZOFFSETFROM:+0100
TZOFFSETTO:+0200
TZNAME:CEST
DTSTART:20160327T010000
END:DAYLIGHT
BEGIN:STANDARD
TZOFFSETFROM:+0200
TZOFFSETTO:+0100
TZNAME:CET
DTSTART:20161030T010000
END:STANDARD
END:VTIMEZONE
BEGIN:VEVENT
DTSTART;VALUE=DATE:20160523
DTEND;VALUE=DATE:20160524
DTSTAMP:20260423T003334
CREATED:20160503T184742Z
LAST-MODIFIED:20160503T184742Z
UID:5104-1463961600-1464047999@www.bowling.rybnik.pl
SUMMARY:RyBoL
DESCRIPTION:„Rybnicka Bowlingowa Liga” RYBNIK godz. 16.45
URL:http://www.bowling.rybnik.pl/turnieje/rybol-10/
LOCATION:PINK – Rybnik\, Raciborska 16\, Rybnik\, śląskie\, 44-200\, Polska
ATTACH;FMTTYPE=image/png:http://www.bowling.rybnik.pl/wp-content/uploads/2015/10/Zdjęcie-sekcji.png
END:VEVENT
BEGIN:VEVENT
DTSTART;VALUE=DATE:20160517
DTEND;VALUE=DATE:20160518
DTSTAMP:20260423T003334
CREATED:20160514T093606Z
LAST-MODIFIED:20160514T093606Z
UID:5147-1463443200-1463529599@www.bowling.rybnik.pl
SUMMARY:ŚLB
DESCRIPTION:„Śląska Liga Bowlingowa” CZECHOWICE-DZIEDZICE godz. 18.30
URL:http://www.bowling.rybnik.pl/turnieje/slb-12/
LOCATION:ChaCharnia – Czechowice Dziedzice\, Ul.Legionów 83\, Czechowice-Dziedzice\, śląskie\, Polska
ATTACH;FMTTYPE=image/png:http://www.bowling.rybnik.pl/wp-content/uploads/2016/03/ŚLB-2016-plakat.png
END:VEVENT
BEGIN:VEVENT
DTSTART;VALUE=DATE:20160516
DTEND;VALUE=DATE:20160517
DTSTAMP:20260423T003334
CREATED:20160514T093534Z
LAST-MODIFIED:20160514T093534Z
UID:5146-1463356800-1463443199@www.bowling.rybnik.pl
SUMMARY:ŚLB
DESCRIPTION:„Śląska Liga Bowlingowa” CZECHOWICE-DZIEDZICE godz. 18.30
URL:http://www.bowling.rybnik.pl/turnieje/slb-11/
LOCATION:ChaCharnia – Czechowice Dziedzice\, Ul.Legionów 83\, Czechowice-Dziedzice\, śląskie\, Polska
ATTACH;FMTTYPE=image/png:http://www.bowling.rybnik.pl/wp-content/uploads/2016/03/ŚLB-2016-plakat.png
END:VEVENT
BEGIN:VEVENT
DTSTART;VALUE=DATE:20160516
DTEND;VALUE=DATE:20160517
DTSTAMP:20260423T003334
CREATED:20160503T184445Z
LAST-MODIFIED:20160514T094532Z
UID:5102-1463356800-1463443199@www.bowling.rybnik.pl
SUMMARY:RyBoL
DESCRIPTION:„Rybnicka Bowlingowa Liga” ŁAZISKA godz. 17.30
URL:http://www.bowling.rybnik.pl/turnieje/slb-10/
LOCATION:MOSiR Łaziska\, ul. Ogrodowa 50\, Łaziska Górne\, Polska
ATTACH;FMTTYPE=image/png:http://www.bowling.rybnik.pl/wp-content/uploads/2015/10/Zdjęcie-sekcji.png
END:VEVENT
BEGIN:VEVENT
DTSTART;VALUE=DATE:20160510
DTEND;VALUE=DATE:20160511
DTSTAMP:20260423T003334
CREATED:20160503T183913Z
LAST-MODIFIED:20160503T183913Z
UID:5099-1462838400-1462924799@www.bowling.rybnik.pl
SUMMARY:ŚLB
DESCRIPTION:„Śląska Liga Bowlingowa” CZECHOWICE-DZIEDZICE godz. 18.30
URL:http://www.bowling.rybnik.pl/turnieje/slb-9/
LOCATION:ChaCharnia – Czechowice Dziedzice\, Ul.Legionów 83\, Czechowice-Dziedzice\, śląskie\, Polska
ATTACH;FMTTYPE=image/png:http://www.bowling.rybnik.pl/wp-content/uploads/2016/03/ŚLB-2016-plakat.png
END:VEVENT
BEGIN:VEVENT
DTSTART;VALUE=DATE:20160509
DTEND;VALUE=DATE:20160510
DTSTAMP:20260423T003334
CREATED:20160503T184354Z
LAST-MODIFIED:20160503T184354Z
UID:5101-1462752000-1462838399@www.bowling.rybnik.pl
SUMMARY:RyBoL
DESCRIPTION:„Rybnicka Bowlingowa Liga” RYBNIK godz. 16.45
URL:http://www.bowling.rybnik.pl/turnieje/rybol-2/
LOCATION:PINK – Rybnik\, Raciborska 16\, Rybnik\, śląskie\, 44-200\, Polska
ATTACH;FMTTYPE=image/png:http://www.bowling.rybnik.pl/wp-content/uploads/2015/10/Zdjęcie-sekcji.png
END:VEVENT
BEGIN:VEVENT
DTSTART;VALUE=DATE:20160509
DTEND;VALUE=DATE:20160510
DTSTAMP:20260423T003334
CREATED:20160503T183831Z
LAST-MODIFIED:20160503T183831Z
UID:5098-1462752000-1462838399@www.bowling.rybnik.pl
SUMMARY:ŚBL
DESCRIPTION:„Śląska Liga Bowlingowa” CZECHOWICE-DZIEDZICE godz. 18.30
URL:http://www.bowling.rybnik.pl/turnieje/sbl-3/
LOCATION:ChaCharnia – Czechowice Dziedzice\, Ul.Legionów 83\, Czechowice-Dziedzice\, śląskie\, Polska
ATTACH;FMTTYPE=image/png:http://www.bowling.rybnik.pl/wp-content/uploads/2016/03/ŚLB-2016-plakat.png
END:VEVENT
BEGIN:VEVENT
DTSTART;VALUE=DATE:20160507
DTEND;VALUE=DATE:20160508
DTSTAMP:20260423T003334
CREATED:20151023T181222Z
LAST-MODIFIED:20160207T184411Z
UID:4276-1462579200-1462665599@www.bowling.rybnik.pl
SUMMARY:PZK SBS - 2 liga
DESCRIPTION:Pink Bowling & Club\, Rybnik
URL:http://www.bowling.rybnik.pl/turnieje/pzk-sbs-2-liga-3/
END:VEVENT
BEGIN:VEVENT
DTSTART;VALUE=DATE:20160503
DTEND;VALUE=DATE:20160504
DTSTAMP:20260423T003334
CREATED:20160503T183733Z
LAST-MODIFIED:20160503T183733Z
UID:5097-1462233600-1462319999@www.bowling.rybnik.pl
SUMMARY:ŚBL
DESCRIPTION:„Śląska Liga Bowlingowa” CZECHOWICE-DZIEDZICE godz. 18.30
URL:http://www.bowling.rybnik.pl/turnieje/sbl-2/
LOCATION:ChaCharnia – Czechowice Dziedzice\, Ul.Legionów 83\, Czechowice-Dziedzice\, śląskie\, Polska
ATTACH;FMTTYPE=image/png:http://www.bowling.rybnik.pl/wp-content/uploads/2016/03/ŚLB-2016-plakat.png
END:VEVENT
BEGIN:VEVENT
DTSTART;VALUE=DATE:20160502
DTEND;VALUE=DATE:20160503
DTSTAMP:20260423T003334
CREATED:20160503T184103Z
LAST-MODIFIED:20160503T184103Z
UID:5100-1462147200-1462233599@www.bowling.rybnik.pl
SUMMARY:RyBoL
DESCRIPTION:„Rybnicka Bowlingowa Liga” RYBNIK godz. 16.45
URL:http://www.bowling.rybnik.pl/turnieje/rybol/
LOCATION:PINK – Rybnik\, Raciborska 16\, Rybnik\, śląskie\, 44-200\, Polska
ATTACH;FMTTYPE=image/png:http://www.bowling.rybnik.pl/wp-content/uploads/2015/10/Zdjęcie-sekcji.png
END:VEVENT
BEGIN:VEVENT
DTSTART;VALUE=DATE:20160502
DTEND;VALUE=DATE:20160503
DTSTAMP:20260423T003334
CREATED:20160503T183653Z
LAST-MODIFIED:20160503T183653Z
UID:5096-1462147200-1462233599@www.bowling.rybnik.pl
SUMMARY:ŚBL
DESCRIPTION:„Śląska Liga Bowlingowa” CZECHOWICE-DZIEDZICE godz. 18.30
URL:http://www.bowling.rybnik.pl/turnieje/sbl/
LOCATION:ChaCharnia – Czechowice Dziedzice\, Ul.Legionów 83\, Czechowice-Dziedzice\, śląskie\, Polska
ATTACH;FMTTYPE=image/png:http://www.bowling.rybnik.pl/wp-content/uploads/2016/03/ŚLB-2016-plakat.png
END:VEVENT
END:VCALENDAR