BEGIN:VCALENDAR
VERSION:2.0
PRODID:-//Sekcja Bowlingu - Rybnik - ECPv6.8.0//NONSGML v1.0//EN
CALSCALE:GREGORIAN
METHOD:PUBLISH
X-WR-CALNAME:Sekcja Bowlingu - Rybnik
X-ORIGINAL-URL:http://www.bowling.rybnik.pl
X-WR-CALDESC:Events for Sekcja Bowlingu - Rybnik
REFRESH-INTERVAL;VALUE=DURATION:PT1H
X-Robots-Tag:noindex
X-PUBLISHED-TTL:PT1H
BEGIN:VTIMEZONE
TZID:Europe/Warsaw
BEGIN:DAYLIGHT
TZOFFSETFROM:+0100
TZOFFSETTO:+0200
TZNAME:CEST
DTSTART:20160327T010000
END:DAYLIGHT
BEGIN:STANDARD
TZOFFSETFROM:+0200
TZOFFSETTO:+0100
TZNAME:CET
DTSTART:20161030T010000
END:STANDARD
END:VTIMEZONE
BEGIN:VEVENT
DTSTART;VALUE=DATE:20160502
DTEND;VALUE=DATE:20160503
DTSTAMP:20260423T001300
CREATED:20160503T183653Z
LAST-MODIFIED:20160503T183653Z
UID:5096-1462147200-1462233599@www.bowling.rybnik.pl
SUMMARY:ŚBL
DESCRIPTION:„Śląska Liga Bowlingowa” CZECHOWICE-DZIEDZICE godz. 18.30
URL:http://www.bowling.rybnik.pl/turnieje/sbl/
LOCATION:ChaCharnia – Czechowice Dziedzice\, Ul.Legionów 83\, Czechowice-Dziedzice\, śląskie\, Polska
ATTACH;FMTTYPE=image/png:http://www.bowling.rybnik.pl/wp-content/uploads/2016/03/ŚLB-2016-plakat.png
END:VEVENT
END:VCALENDAR