BEGIN:VCALENDAR
VERSION:2.0
PRODID:-//Sekcja Bowlingu - Rybnik - ECPv6.8.0//NONSGML v1.0//EN
CALSCALE:GREGORIAN
METHOD:PUBLISH
X-WR-CALNAME:Sekcja Bowlingu - Rybnik
X-ORIGINAL-URL:http://www.bowling.rybnik.pl
X-WR-CALDESC:Events for Sekcja Bowlingu - Rybnik
REFRESH-INTERVAL;VALUE=DURATION:PT1H
X-Robots-Tag:noindex
X-PUBLISHED-TTL:PT1H
BEGIN:VTIMEZONE
TZID:Europe/Warsaw
BEGIN:DAYLIGHT
TZOFFSETFROM:+0100
TZOFFSETTO:+0200
TZNAME:CEST
DTSTART:20180325T010000
END:DAYLIGHT
BEGIN:STANDARD
TZOFFSETFROM:+0200
TZOFFSETTO:+0100
TZNAME:CET
DTSTART:20181028T010000
END:STANDARD
END:VTIMEZONE
BEGIN:VEVENT
DTSTART;TZID=Europe/Warsaw:20180802T163000
DTEND;TZID=Europe/Warsaw:20180802T163000
DTSTAMP:20260421T014356
CREATED:20180629T194355Z
LAST-MODIFIED:20180629T194518Z
UID:9104-1533227400-1533227400@www.bowling.rybnik.pl
SUMMARY:House Ball Cup - CHACHARNIA
DESCRIPTION:
URL:http://www.bowling.rybnik.pl/turnieje/haus-ball-cup/
LOCATION:ChaCharnia – Czechowice Dziedzice\, Ul.Legionów 83\, Czechowice-Dziedzice\, śląskie\, Polska
ATTACH;FMTTYPE=image/png:http://www.bowling.rybnik.pl/wp-content/uploads/2018/06/HBC-plakat.png
END:VEVENT
BEGIN:VEVENT
DTSTART;TZID=Europe/Warsaw:20180730T164500
DTEND;TZID=Europe/Warsaw:20180730T164500
DTSTAMP:20260421T014356
CREATED:20180629T192552Z
LAST-MODIFIED:20180629T192552Z
UID:9072-1532969100-1532969100@www.bowling.rybnik.pl
SUMMARY:RyBoL – PINK
DESCRIPTION:
URL:http://www.bowling.rybnik.pl/turnieje/rybol-pink-41/
LOCATION:PINK – Rybnik\, Raciborska 16\, Rybnik\, śląskie\, 44-200\, Polska
ATTACH;FMTTYPE=image/png:http://www.bowling.rybnik.pl/wp-content/uploads/2018/06/Logo-RyBoL-nowe.png
END:VEVENT
BEGIN:VEVENT
DTSTART;TZID=Europe/Warsaw:20180726T163000
DTEND;TZID=Europe/Warsaw:20180726T193000
DTSTAMP:20260421T014356
CREATED:20180629T193539Z
LAST-MODIFIED:20180629T193539Z
UID:9092-1532622600-1532633400@www.bowling.rybnik.pl
SUMMARY:CzLB – CHACHARNIA
DESCRIPTION:
URL:http://www.bowling.rybnik.pl/turnieje/czlb-chacharnia-21/
LOCATION:ChaCharnia – Czechowice Dziedzice\, Ul.Legionów 83\, Czechowice-Dziedzice\, śląskie\, Polska
ATTACH;FMTTYPE=image/png:http://www.bowling.rybnik.pl/wp-content/uploads/2017/04/Logo-na-białyn-tle-CzLB.png
END:VEVENT
BEGIN:VEVENT
DTSTART;TZID=Europe/Warsaw:20180723T164500
DTEND;TZID=Europe/Warsaw:20180723T164500
DTSTAMP:20260421T014356
CREATED:20180629T192505Z
LAST-MODIFIED:20180629T192505Z
UID:9070-1532364300-1532364300@www.bowling.rybnik.pl
SUMMARY:RyBoL – PINK
DESCRIPTION:
URL:http://www.bowling.rybnik.pl/turnieje/rybol-pink-40/
LOCATION:PINK – Rybnik\, Raciborska 16\, Rybnik\, śląskie\, 44-200\, Polska
ATTACH;FMTTYPE=image/png:http://www.bowling.rybnik.pl/wp-content/uploads/2018/06/Logo-RyBoL-nowe.png
END:VEVENT
BEGIN:VEVENT
DTSTART;TZID=Europe/Warsaw:20180719T163000
DTEND;TZID=Europe/Warsaw:20180719T193000
DTSTAMP:20260421T014356
CREATED:20180629T193433Z
LAST-MODIFIED:20180629T193433Z
UID:9090-1532017800-1532028600@www.bowling.rybnik.pl
SUMMARY:CzLB – CHACHARNIA
DESCRIPTION:
URL:http://www.bowling.rybnik.pl/turnieje/czlb-chacharnia-20/
LOCATION:ChaCharnia – Czechowice Dziedzice\, Ul.Legionów 83\, Czechowice-Dziedzice\, śląskie\, Polska
ATTACH;FMTTYPE=image/png:http://www.bowling.rybnik.pl/wp-content/uploads/2017/04/Logo-na-białyn-tle-CzLB.png
END:VEVENT
BEGIN:VEVENT
DTSTART;TZID=Europe/Warsaw:20180716T164500
DTEND;TZID=Europe/Warsaw:20180716T164500
DTSTAMP:20260421T014356
CREATED:20180629T192424Z
LAST-MODIFIED:20180629T192424Z
UID:9068-1531759500-1531759500@www.bowling.rybnik.pl
SUMMARY:RyBoL – PINK
DESCRIPTION:
URL:http://www.bowling.rybnik.pl/turnieje/rybol-pink-39/
LOCATION:PINK – Rybnik\, Raciborska 16\, Rybnik\, śląskie\, 44-200\, Polska
ATTACH;FMTTYPE=image/png:http://www.bowling.rybnik.pl/wp-content/uploads/2018/06/Logo-RyBoL-nowe.png
END:VEVENT
BEGIN:VEVENT
DTSTART;TZID=Europe/Warsaw:20180709T164500
DTEND;TZID=Europe/Warsaw:20180709T164500
DTSTAMP:20260421T014356
CREATED:20180629T192336Z
LAST-MODIFIED:20180629T192336Z
UID:9066-1531154700-1531154700@www.bowling.rybnik.pl
SUMMARY:RyBoL – PINK
DESCRIPTION:
URL:http://www.bowling.rybnik.pl/turnieje/rybol-pink-38/
LOCATION:PINK – Rybnik\, Raciborska 16\, Rybnik\, śląskie\, 44-200\, Polska
ATTACH;FMTTYPE=image/png:http://www.bowling.rybnik.pl/wp-content/uploads/2018/06/Logo-RyBoL-nowe.png
END:VEVENT
BEGIN:VEVENT
DTSTART;TZID=Europe/Warsaw:20180702T164500
DTEND;TZID=Europe/Warsaw:20180702T164500
DTSTAMP:20260421T014356
CREATED:20180629T192222Z
LAST-MODIFIED:20180629T192222Z
UID:9064-1530549900-1530549900@www.bowling.rybnik.pl
SUMMARY:RyBoL – PINK
DESCRIPTION:
URL:http://www.bowling.rybnik.pl/turnieje/rybol-pink-37/
LOCATION:PINK – Rybnik\, Raciborska 16\, Rybnik\, śląskie\, 44-200\, Polska
ATTACH;FMTTYPE=image/png:http://www.bowling.rybnik.pl/wp-content/uploads/2018/06/Logo-RyBoL-nowe.png
END:VEVENT
BEGIN:VEVENT
DTSTART;TZID=Europe/Warsaw:20180628T163000
DTEND;TZID=Europe/Warsaw:20180628T193000
DTSTAMP:20260421T014356
CREATED:20171206T213145Z
LAST-MODIFIED:20180101T202436Z
UID:8097-1530203400-1530214200@www.bowling.rybnik.pl
SUMMARY:CzLB – CHACHARNIA
DESCRIPTION:
URL:http://www.bowling.rybnik.pl/turnieje/czlb-chacharnia-19/
LOCATION:ChaCharnia – Czechowice Dziedzice\, Ul.Legionów 83\, Czechowice-Dziedzice\, śląskie\, Polska
ATTACH;FMTTYPE=image/png:http://www.bowling.rybnik.pl/wp-content/uploads/2017/04/Logo-na-białyn-tle-CzLB.png
END:VEVENT
BEGIN:VEVENT
DTSTART;TZID=Europe/Warsaw:20180625T164000
DTEND;TZID=Europe/Warsaw:20180625T164000
DTSTAMP:20260421T014356
CREATED:20180120T192631Z
LAST-MODIFIED:20180120T192631Z
UID:8786-1529944800-1529944800@www.bowling.rybnik.pl
SUMMARY:RyBoL – PINK
DESCRIPTION:
URL:http://www.bowling.rybnik.pl/turnieje/rybol-pink-36/
LOCATION:PINK – Rybnik\, Raciborska 16\, Rybnik\, śląskie\, 44-200\, Polska
ATTACH;FMTTYPE=image/png:http://www.bowling.rybnik.pl/wp-content/uploads/2017/08/RyBoL-logo.png
END:VEVENT
BEGIN:VEVENT
DTSTART;TZID=Europe/Warsaw:20180621T163000
DTEND;TZID=Europe/Warsaw:20180621T163000
DTSTAMP:20260421T014356
CREATED:20171206T213744Z
LAST-MODIFIED:20180101T202413Z
UID:8107-1529598600-1529598600@www.bowling.rybnik.pl
SUMMARY:D-CzLB – CHACHARNIA
DESCRIPTION:
URL:http://www.bowling.rybnik.pl/turnieje/d-czlb-chacharnia-9/
LOCATION:ChaCharnia – Czechowice Dziedzice\, Ul.Legionów 83\, Czechowice-Dziedzice\, śląskie\, Polska
ATTACH;FMTTYPE=image/png:http://www.bowling.rybnik.pl/wp-content/uploads/2017/08/D-CzLB-logo.png
END:VEVENT
BEGIN:VEVENT
DTSTART;TZID=Europe/Warsaw:20180618T164000
DTEND;TZID=Europe/Warsaw:20180618T164000
DTSTAMP:20260421T014356
CREATED:20180120T192542Z
LAST-MODIFIED:20180120T192542Z
UID:8784-1529340000-1529340000@www.bowling.rybnik.pl
SUMMARY:RyBoL – PINK
DESCRIPTION:
URL:http://www.bowling.rybnik.pl/turnieje/rybol-pink-35/
LOCATION:PINK – Rybnik\, Raciborska 16\, Rybnik\, śląskie\, 44-200\, Polska
ATTACH;FMTTYPE=image/png:http://www.bowling.rybnik.pl/wp-content/uploads/2017/08/RyBoL-logo.png
END:VEVENT
BEGIN:VEVENT
DTSTART;TZID=Europe/Warsaw:20180611T164000
DTEND;TZID=Europe/Warsaw:20180611T164000
DTSTAMP:20260421T014356
CREATED:20180120T192453Z
LAST-MODIFIED:20180120T192453Z
UID:8782-1528735200-1528735200@www.bowling.rybnik.pl
SUMMARY:RyBoL – PINK
DESCRIPTION:
URL:http://www.bowling.rybnik.pl/turnieje/rybol-pink-34/
LOCATION:PINK – Rybnik\, Raciborska 16\, Rybnik\, śląskie\, 44-200\, Polska
ATTACH;FMTTYPE=image/png:http://www.bowling.rybnik.pl/wp-content/uploads/2017/08/RyBoL-logo.png
END:VEVENT
BEGIN:VEVENT
DTSTART;TZID=Europe/Warsaw:20180609T094500
DTEND;TZID=Europe/Warsaw:20180609T094500
DTSTAMP:20260421T014356
CREATED:20171204T121247Z
LAST-MODIFIED:20171204T121405Z
UID:8070-1528537500-1528537500@www.bowling.rybnik.pl
SUMMARY:SLB - Łaziska
DESCRIPTION:Sobotnia Liga Bowlingowa
URL:http://www.bowling.rybnik.pl/turnieje/slb-laziska-7/
LOCATION:MOSiR Łaziska\, ul. Ogrodowa 50\, Łaziska Górne\, Polska
ATTACH;FMTTYPE=image/png:http://www.bowling.rybnik.pl/wp-content/uploads/2016/09/Logo-Laziska.png
END:VEVENT
BEGIN:VEVENT
DTSTART;TZID=Europe/Warsaw:20180607T163000
DTEND;TZID=Europe/Warsaw:20180607T193000
DTSTAMP:20260421T014356
CREATED:20171206T213053Z
LAST-MODIFIED:20180427T080742Z
UID:8095-1528389000-1528399800@www.bowling.rybnik.pl
SUMMARY:CzLB – CHACHARNIA
DESCRIPTION:
URL:http://www.bowling.rybnik.pl/turnieje/czlb-chacharnia-18/
LOCATION:ChaCharnia – Czechowice Dziedzice\, Ul.Legionów 83\, Czechowice-Dziedzice\, śląskie\, Polska
ATTACH;FMTTYPE=image/png:http://www.bowling.rybnik.pl/wp-content/uploads/2017/04/Logo-na-białyn-tle-CzLB.png
END:VEVENT
BEGIN:VEVENT
DTSTART;TZID=Europe/Warsaw:20180604T164000
DTEND;TZID=Europe/Warsaw:20180604T164000
DTSTAMP:20260421T014356
CREATED:20180120T192407Z
LAST-MODIFIED:20180120T192407Z
UID:8780-1528130400-1528130400@www.bowling.rybnik.pl
SUMMARY:RyBoL – PINK
DESCRIPTION:
URL:http://www.bowling.rybnik.pl/turnieje/rybol-pink-33/
LOCATION:PINK – Rybnik\, Raciborska 16\, Rybnik\, śląskie\, 44-200\, Polska
ATTACH;FMTTYPE=image/png:http://www.bowling.rybnik.pl/wp-content/uploads/2017/08/RyBoL-logo.png
END:VEVENT
BEGIN:VEVENT
DTSTART;TZID=Europe/Warsaw:20180531T163000
DTEND;TZID=Europe/Warsaw:20180531T163000
DTSTAMP:20260421T014356
CREATED:20171206T203544Z
LAST-MODIFIED:20180427T081711Z
UID:8088-1527784200-1527784200@www.bowling.rybnik.pl
SUMMARY:D-CzLB – CHACHARNIA
DESCRIPTION:
URL:http://www.bowling.rybnik.pl/turnieje/czlb-chacharnia-17/
LOCATION:ChaCharnia – Czechowice Dziedzice\, Ul.Legionów 83\, Czechowice-Dziedzice\, śląskie\, Polska
ATTACH;FMTTYPE=image/png:http://www.bowling.rybnik.pl/wp-content/uploads/2017/08/D-CzLB-logo.png
END:VEVENT
BEGIN:VEVENT
DTSTART;TZID=Europe/Warsaw:20180528T164000
DTEND;TZID=Europe/Warsaw:20180528T164000
DTSTAMP:20260421T014356
CREATED:20180120T192320Z
LAST-MODIFIED:20180120T192320Z
UID:8778-1527525600-1527525600@www.bowling.rybnik.pl
SUMMARY:RyBoL – PINK
DESCRIPTION:
URL:http://www.bowling.rybnik.pl/turnieje/rybol-pink-32/
LOCATION:PINK – Rybnik\, Raciborska 16\, Rybnik\, śląskie\, 44-200\, Polska
ATTACH;FMTTYPE=image/png:http://www.bowling.rybnik.pl/wp-content/uploads/2017/08/RyBoL-logo.png
END:VEVENT
BEGIN:VEVENT
DTSTART;TZID=Europe/Warsaw:20180521T164000
DTEND;TZID=Europe/Warsaw:20180521T164000
DTSTAMP:20260421T014356
CREATED:20180120T192228Z
LAST-MODIFIED:20180120T192228Z
UID:8776-1526920800-1526920800@www.bowling.rybnik.pl
SUMMARY:RyBoL – PINK
DESCRIPTION:
URL:http://www.bowling.rybnik.pl/turnieje/rybol-pink-31/
LOCATION:PINK – Rybnik\, Raciborska 16\, Rybnik\, śląskie\, 44-200\, Polska
ATTACH;FMTTYPE=image/png:http://www.bowling.rybnik.pl/wp-content/uploads/2017/08/RyBoL-logo.png
END:VEVENT
BEGIN:VEVENT
DTSTART;TZID=Europe/Warsaw:20180518T080000
DTEND;TZID=Europe/Warsaw:20180525T170000
DTSTAMP:20260421T014356
CREATED:20171206T212855Z
LAST-MODIFIED:20171211T215412Z
UID:8092-1526630400-1527267600@www.bowling.rybnik.pl
SUMMARY:OBÓZ - MIELNO
DESCRIPTION:
URL:http://www.bowling.rybnik.pl/turnieje/bowlingowy-oboz-treningowy-mielno/
LOCATION:śląskie
END:VEVENT
BEGIN:VEVENT
DTSTART;TZID=Europe/Warsaw:20180517T180000
DTEND;TZID=Europe/Warsaw:20180517T180000
DTSTAMP:20260421T014356
CREATED:20180120T185820Z
LAST-MODIFIED:20180427T081427Z
UID:8740-1526580000-1526580000@www.bowling.rybnik.pl
SUMMARY:ABL 4 liga – FRYDEK MISTEK
DESCRIPTION:
URL:http://www.bowling.rybnik.pl/turnieje/abl-4-liga-frydek-mistek-6/
LOCATION:JADRAN – Frydek Mistek\, 1. Máje 155\,\, Frýdek-Místek\, Czech Republic
ATTACH;FMTTYPE=image/png:http://www.bowling.rybnik.pl/wp-content/uploads/2016/11/ABL-logo.png
END:VEVENT
BEGIN:VEVENT
DTSTART;TZID=Europe/Warsaw:20180517T163000
DTEND;TZID=Europe/Warsaw:20180517T193000
DTSTAMP:20260421T014356
CREATED:20171206T213648Z
LAST-MODIFIED:20180427T081532Z
UID:8105-1526574600-1526585400@www.bowling.rybnik.pl
SUMMARY:CzLB – CHACHARNIA
DESCRIPTION:
URL:http://www.bowling.rybnik.pl/turnieje/d-czlb-chacharnia-8/
LOCATION:ChaCharnia – Czechowice Dziedzice\, Ul.Legionów 83\, Czechowice-Dziedzice\, śląskie\, Polska
ATTACH;FMTTYPE=image/png:http://www.bowling.rybnik.pl/wp-content/uploads/2017/04/Logo-na-białyn-tle-CzLB.png
END:VEVENT
BEGIN:VEVENT
DTSTART;TZID=Europe/Warsaw:20180515T180000
DTEND;TZID=Europe/Warsaw:20180515T180000
DTSTAMP:20260421T014356
CREATED:20180120T090644Z
LAST-MODIFIED:20180120T090644Z
UID:8711-1526407200-1526407200@www.bowling.rybnik.pl
SUMMARY:ABL 2 liga - FRYDEK MISTEK
DESCRIPTION:
URL:http://www.bowling.rybnik.pl/turnieje/abl-2-liga-frydek-mistek-3/
LOCATION:JADRAN – Frydek Mistek\, 1. Máje 155\,\, Frýdek-Místek\, Czech Republic
ATTACH;FMTTYPE=image/png:http://www.bowling.rybnik.pl/wp-content/uploads/2016/11/ABL-logo.png
END:VEVENT
BEGIN:VEVENT
DTSTART;TZID=Europe/Warsaw:20180514T164000
DTEND;TZID=Europe/Warsaw:20180514T164000
DTSTAMP:20260421T014356
CREATED:20180120T192111Z
LAST-MODIFIED:20180120T192137Z
UID:8774-1526316000-1526316000@www.bowling.rybnik.pl
SUMMARY:RyBoL – PINK
DESCRIPTION:
URL:http://www.bowling.rybnik.pl/turnieje/rybol-pink-30/
LOCATION:PINK – Rybnik\, Raciborska 16\, Rybnik\, śląskie\, 44-200\, Polska
ATTACH;FMTTYPE=image/png:http://www.bowling.rybnik.pl/wp-content/uploads/2017/08/RyBoL-logo.png
END:VEVENT
BEGIN:VEVENT
DTSTART;TZID=Europe/Warsaw:20180512T094500
DTEND;TZID=Europe/Warsaw:20180512T094500
DTSTAMP:20260421T014356
CREATED:20171204T120809Z
LAST-MODIFIED:20171204T120809Z
UID:8068-1526118300-1526118300@www.bowling.rybnik.pl
SUMMARY:SLB - Łaziska
DESCRIPTION:Sobotnia Liga Bowlingowa
URL:http://www.bowling.rybnik.pl/turnieje/slb-laziska-6/
LOCATION:MOSiR Łaziska\, ul. Ogrodowa 50\, Łaziska Górne\, Polska
ATTACH;FMTTYPE=image/png:http://www.bowling.rybnik.pl/wp-content/uploads/2016/09/Logo-Laziska.png
END:VEVENT
BEGIN:VEVENT
DTSTART;TZID=Europe/Warsaw:20180510T180000
DTEND;TZID=Europe/Warsaw:20180510T180000
DTSTAMP:20260421T014356
CREATED:20180120T185727Z
LAST-MODIFIED:20180120T185727Z
UID:8738-1525975200-1525975200@www.bowling.rybnik.pl
SUMMARY:ABL 4 liga – FRYDEK MISTEK
DESCRIPTION:
URL:http://www.bowling.rybnik.pl/turnieje/abl-4-liga-frydek-mistek-5/
LOCATION:JADRAN – Frydek Mistek\, 1. Máje 155\,\, Frýdek-Místek\, Czech Republic
ATTACH;FMTTYPE=image/png:http://www.bowling.rybnik.pl/wp-content/uploads/2016/11/ABL-logo.png
END:VEVENT
BEGIN:VEVENT
DTSTART;TZID=Europe/Warsaw:20180510T173000
DTEND;TZID=Europe/Warsaw:20180510T173000
DTSTAMP:20260421T014356
CREATED:20171206T203447Z
LAST-MODIFIED:20180427T081134Z
UID:8086-1525973400-1525973400@www.bowling.rybnik.pl
SUMMARY:CzLB – ŁAZISKA
DESCRIPTION:
URL:http://www.bowling.rybnik.pl/turnieje/czlb-chacharnia-16/
LOCATION:MOSiR Łaziska\, ul. Ogrodowa 50\, Łaziska Górne\, Polska
ATTACH;FMTTYPE=image/png:http://www.bowling.rybnik.pl/wp-content/uploads/2017/04/Logo-na-białyn-tle-CzLB.png
END:VEVENT
BEGIN:VEVENT
DTSTART;TZID=Europe/Warsaw:20180509T170000
DTEND;TZID=Europe/Warsaw:20180509T170000
DTSTAMP:20260421T014356
CREATED:20180120T095737Z
LAST-MODIFIED:20180120T095737Z
UID:8723-1525885200-1525885200@www.bowling.rybnik.pl
SUMMARY:ABL 3 liga - TRINEC
DESCRIPTION:
URL:http://www.bowling.rybnik.pl/turnieje/abl-3-liga-trinec-5/
LOCATION:Gaja centrum – Trzyniec\, Lidická 1269\, Třinec\, 739 61\, Czech Republic
ATTACH;FMTTYPE=image/png:http://www.bowling.rybnik.pl/wp-content/uploads/2016/11/ABL-logo.png
END:VEVENT
BEGIN:VEVENT
DTSTART;TZID=Europe/Warsaw:20180507T164000
DTEND;TZID=Europe/Warsaw:20180507T164000
DTSTAMP:20260421T014356
CREATED:20180120T192035Z
LAST-MODIFIED:20180120T192035Z
UID:8772-1525711200-1525711200@www.bowling.rybnik.pl
SUMMARY:RyBoL – PINK
DESCRIPTION:
URL:http://www.bowling.rybnik.pl/turnieje/rybol-pink-29/
LOCATION:PINK – Rybnik\, Raciborska 16\, Rybnik\, śląskie\, 44-200\, Polska
ATTACH;FMTTYPE=image/png:http://www.bowling.rybnik.pl/wp-content/uploads/2017/08/RyBoL-logo.png
END:VEVENT
BEGIN:VEVENT
DTSTART;TZID=Europe/Warsaw:20180430T164000
DTEND;TZID=Europe/Warsaw:20180430T164000
DTSTAMP:20260421T014356
CREATED:20180120T191949Z
LAST-MODIFIED:20180120T191949Z
UID:8770-1525106400-1525106400@www.bowling.rybnik.pl
SUMMARY:RyBoL – PINK
DESCRIPTION:
URL:http://www.bowling.rybnik.pl/turnieje/rybol-pink-28/
LOCATION:PINK – Rybnik\, Raciborska 16\, Rybnik\, śląskie\, 44-200\, Polska
ATTACH;FMTTYPE=image/png:http://www.bowling.rybnik.pl/wp-content/uploads/2017/08/RyBoL-logo.png
END:VEVENT
END:VCALENDAR